From mboxrd@z Thu Jan 1 00:00:00 1970 Return-Path: Received: from mails.dpdk.org (mails.dpdk.org [217.70.189.124]) by inbox.dpdk.org (Postfix) with ESMTP id CBC01489B3 for ; Thu, 23 Oct 2025 14:08:42 +0200 (CEST) Received: from mails.dpdk.org (localhost [127.0.0.1]) by mails.dpdk.org (Postfix) with ESMTP id C62F740151; Thu, 23 Oct 2025 14:08:42 +0200 (CEST) Received: from mail-io1-f99.google.com (mail-io1-f99.google.com [209.85.166.99]) by mails.dpdk.org (Postfix) with ESMTP id B483540151 for ; Thu, 23 Oct 2025 14:08:41 +0200 (CEST) Received: by mail-io1-f99.google.com with SMTP id ca18e2360f4ac-93e7ece3025so29043439f.1 for ; Thu, 23 Oct 2025 05:08:41 -0700 (PDT) DKIM-Signature: v=1; a=rsa-sha256; c=relaxed/relaxed; d=iol.unh.edu; s=unh-iol; t=1761221321; x=1761826121; darn=dpdk.org; h=references:in-reply-to:cc:to:from:subject:message-id:date:from:to :cc:subject:date:message-id:reply-to; bh=8XYv9ab2NDRWYe9PQe0RCy0e75Q+kwnaMVW6K9KYQ0o=; b=i3bxWGVGnn4So/YANgr6vAqyaOjRdz59d3ffROkhNYM1poW01ZptMHyLNFk77vwSoO 7OuA7OIkQ8w7QJYgymkeL0g+i/17zJ2OczO7Kvz06+v/SZ0zo0Zy6BmWCxg2io7cDUzP oJ/EIHXm6kzwEtetNwnMUlJQRh1bHA1sqBU0c= X-Google-DKIM-Signature: v=1; a=rsa-sha256; c=relaxed/relaxed; d=1e100.net; s=20230601; t=1761221321; x=1761826121; h=references:in-reply-to:cc:to:from:subject:message-id:date :x-gm-message-state:from:to:cc:subject:date:message-id:reply-to; bh=8XYv9ab2NDRWYe9PQe0RCy0e75Q+kwnaMVW6K9KYQ0o=; b=LJDtl7iIjRewEd8qb1NGZKiQCeqhJNspqsNlnFloLY/SsHQRi6BUxEKZVnkDZ3lJXX 7hsGzMYWyOEqqHEAVIzNJbFwdvrJw0UdCA031ZFMfdU+a6YJP7KjHlXiWuZjFElW3rxv kpdwnowZx71kyaIh6CcZYl7wXEFDQCLvSbjAXpO4YahEV/tB6+wfxl4YOmgOcsC17uWx 26jPhwDwCStWeetXQTAj4+Ed2Y+LRp3b5kXiEqxHwpUoMwWYL2cPLfRYuTamZhCvcxLI OEh7iNxNhJbySDk+HExmNMGnK/gqWkV9hwdOuekTBj73eIdeU9e7jUT1N2L9Xz1ZenEf Q+Uw== X-Gm-Message-State: AOJu0Yzy+ErLdhs1NrdXMc6Qs1p7O7tuxEjZtdP8ZQp2aIAkxQRm5gmV uCM7r/N9tTtfELCLl6eJ0dw25vNCL22ARTyaUIPcIPy6ffcjdvaSTJ9tQJRetmY2P4UGaMIInWQ kf+bhMcHEiXSDhzb5hTgWQzCQWFGYCSD47mPXa7hr1tKi X-Gm-Gg: ASbGncsY/w0ATt+DGqWfLc5koowjE83jhQpHi4j1RdIGZv4PD4J5QNBJBIG6h6vLclX 5k0hQXhmwBrSk4mWQeeAHPZ8YGeC1NXmY3j4tLhi3z6MhGWeZxpNk/ksBLFLm1w8IABSNxyVCNL 4kA032JUSPoNgMMqJge/H33DG/63dw0ho4ebFsql+bvA/HLGWQq/ly4NwD0qR7ipks5FLtHGPJn sWxCMpmLNTkQPuC1y43lUVLAtHl+7kY2npCZqTMqhHyheG4NGzCKCjA9Rmtw+imf2S0aKsbUnqe REWGj4t40SbeT6pEk1bbiYyQZCGu6YmpS5LMuy5X9PJXphHGG7XHHtiqDsGsgx6lSuXo2EvlBPy AP9GME1IiC53u7mjg8/vn6x8fpdw8gpE= X-Google-Smtp-Source: AGHT+IHuo+4OkiKnwXqWP97ZGFj/MzAHnGOw/HlA2Rb+cr7sRpl8MSQiinErPDA4AYxqZJm7i71CpD2EzcZa X-Received: by 2002:a05:6602:2cc5:b0:940:db06:b792 with SMTP id ca18e2360f4ac-940f4471125mr986696739f.6.1761221320826; Thu, 23 Oct 2025 05:08:40 -0700 (PDT) Received: from postal.iol.unh.edu (postal.iol.unh.edu. [132.177.123.84]) by smtp-relay.gmail.com with ESMTPS id 8926c6da1cb9f-5abb76049fasm140768173.36.2025.10.23.05.08.40 (version=TLS1_2 cipher=ECDHE-ECDSA-AES128-GCM-SHA256 bits=128/128); Thu, 23 Oct 2025 05:08:40 -0700 (PDT) X-Relaying-Domain: iol.unh.edu Date: Thu, 23 Oct 2025 05:08:40 -0700 (PDT) Message-ID: <68fa1ac8.050a0220.31d790.70f7SMTPIN_ADDED_MISSING@mx.google.com> Received: from [172.21.0.2] (unknown [172.18.0.240]) by postal.iol.unh.edu (Postfix) with ESMTP id 6A6E76051830; Thu, 23 Oct 2025 08:08:40 -0400 (EDT) Subject: |SUCCESS| pw158012-158017 [PATCH] [v6,6/6] net/cnxk: report link mod From: dpdklab@iol.unh.edu To: Test Report Cc: dpdk-test-reports@iol.unh.edu In-Reply-To: <20251023110332.6231-6-skori@marvell.com> References: <20251023110332.6231-6-skori@marvell.com> Content-Type: text/plain X-BeenThere: test-report@dpdk.org X-Mailman-Version: 2.1.29 Precedence: list List-Id: automatic DPDK test reports List-Unsubscribe: , List-Archive: List-Post: List-Help: List-Subscribe: , Errors-To: test-report-bounces@dpdk.org Test-Label: iol-compile-amd64-testing Test-Status: SUCCESS http://dpdk.org/patch/158017 _Testing PASS_ Submitter: Sunil Kumar Kori Date: Thursday, October 23 2025 11:02:06 DPDK git baseline: Repo:dpdk-next-net-mrvl Branch: master CommitID:2863cbd9ee6dabee2b183382d298f4054ba3e8a2 158012-158017 --> testing pass Upstream job id: Generic-DPDK-Compile-Meson#437022 Test environment and result as below: +---------------------+--------------------+-------------------------+-------------------+----------------------+ | Environment | dpdk_meson_compile | dpdk_llvm_clang_compile | dpdk_msvc_compile | dpdk_mingw64_compile | +=====================+====================+=========================+===================+======================+ | Ubuntu 20.04 | PASS | SKIPPED | SKIPPED | SKIPPED | +---------------------+--------------------+-------------------------+-------------------+----------------------+ | FreeBSD 14.2 | PASS | SKIPPED | SKIPPED | SKIPPED | +---------------------+--------------------+-------------------------+-------------------+----------------------+ | Alpine Linux 3.22.0 | PASS | SKIPPED | SKIPPED | SKIPPED | +---------------------+--------------------+-------------------------+-------------------+----------------------+ | Windows Server 2022 | SKIPPED | PASS | PASS | PASS | +---------------------+--------------------+-------------------------+-------------------+----------------------+ Ubuntu 20.04 Kernel: 4.19 Compiler: gcc gcc (Ubuntu 9.4.0-1ubuntu1~20.04.2) 9.4.0 FreeBSD 14.2 Kernel: 14.2-RELEASE Compiler: clang 18.1.6 Alpine Linux 3.22.0 Kernel: 5.15 Compiler: gcc gcc (Alpine 14.2.0) 14.2.0 Windows Server 2022 Kernel: 10.0.20348.2031 Compiler: clang 15.0.7, gcc 14.1.0 (MinGW), and MSVC VS 19.39.33521 To view detailed results, visit: https://lab.dpdk.org/results/dashboard/patchsets/34357/ UNH-IOL DPDK Community Lab To manage your email subscriptions, visit: https://lab.dpdk.org/results/dashboard/preferences/subscriptions/