From mboxrd@z Thu Jan 1 00:00:00 1970 Return-Path: Received: from mails.dpdk.org (mails.dpdk.org [217.70.189.124]) by inbox.dpdk.org (Postfix) with ESMTP id 2D23A489B3 for ; Thu, 23 Oct 2025 14:14:58 +0200 (CEST) Received: from mails.dpdk.org (localhost [127.0.0.1]) by mails.dpdk.org (Postfix) with ESMTP id 1CD77402F1; Thu, 23 Oct 2025 14:14:58 +0200 (CEST) Received: from mail-pg1-f225.google.com (mail-pg1-f225.google.com [209.85.215.225]) by mails.dpdk.org (Postfix) with ESMTP id 4968C40648 for ; Thu, 23 Oct 2025 14:14:56 +0200 (CEST) Received: by mail-pg1-f225.google.com with SMTP id 41be03b00d2f7-b49c1c130c9so515165a12.0 for ; Thu, 23 Oct 2025 05:14:56 -0700 (PDT) DKIM-Signature: v=1; a=rsa-sha256; c=relaxed/relaxed; d=iol.unh.edu; s=unh-iol; t=1761221695; x=1761826495; darn=dpdk.org; h=references:in-reply-to:cc:to:from:subject:message-id:date:from:to :cc:subject:date:message-id:reply-to; bh=NRM9UvYJIT79JnYrRK9C46svy3Kgpu7xpbXHIFp9KSw=; b=QRcOAVdphQnNsr4bEN8ZtjQCpIHnHu2IOyfLd6KBzVQN7jCqwkq/0PENRe/77Xi3wy aF1SCWLvdLfY+0A9h2IAXIWOudQaBx5dOoS6wDTC+rmceEqc7QVFGAUKdYAcYUsDzCdw Ub6Y2OyQnCoXyg3pOfEo025wMcZp0iRA90p+A= X-Google-DKIM-Signature: v=1; a=rsa-sha256; c=relaxed/relaxed; d=1e100.net; s=20230601; t=1761221695; x=1761826495; h=references:in-reply-to:cc:to:from:subject:message-id:date :x-gm-message-state:from:to:cc:subject:date:message-id:reply-to; bh=NRM9UvYJIT79JnYrRK9C46svy3Kgpu7xpbXHIFp9KSw=; b=Gf4PlQd8ME67ThhZbxzjU8kXTisR/g18GBBW0RZd0vsq3lZSjBVF4lzG3g21i23t4D QYpMHhHbioJrPEH5giTnlSzXsCHLLAeQ/7vvS6dkSyEBF+sJHngDmB/63k/vL12g981p gelqBxaMZp7CKa2Vhcy3YN2GcnNrNLjUjNggsZBgX1UtPrLImWANrZot6NSWpsQmMX3L hZNDZrLo1KOeaPIkq8upsgD7I+bZs6ShDnwGa1nl7xkofyMsB0xRkEBX5vylKiykA8Sr KBgX5FHqDwX/Rw4OQWNmfGYMeB+wWQfjAsi2+lVbPPzelIwKK0qF2VU+DKqpU4K46le4 zHlg== X-Gm-Message-State: AOJu0YzVBYoOz4IARZSrpAVBwWOGueyL26AzMd/agG/XZ8VcFKeTQIdd 7lC6wI2SqFE9JjnyhwjVmsC0CWEdAeTqO6zVJoH8jaZX8MSbyjL0lXdBxP+WHMlVEDUi5JaXyMo 6IaKAgIoqoq3RcQjduOvBbvl1daAr/yx6mdVdAu13kXxHp7TKGRg/LFpCHoOU X-Gm-Gg: ASbGncs0kT2hwlvCD7nAid7XeMaNY0Pc6dffqCrGQz/mkMhF6buMPGCzWx5awickKeU TCe33jH2VLOZpLlYXukcyWMKQRL5EbNPfg+/y9iC43qNKl7Zn9daUxaSpIe1JpU5FtWEu/vUlMq miiKdM73mUJe1G7WcjVZ7lpIdRE+C3tEEYzvXTjjEsx38PxouFc84jTFA3tuWoPCfS2RSReYonf NijBWm6PPS7S9DWZFGhH72nfnGOgIWWvdzJh6agvQhC8jStly7kLUmHfxKVK5xpuwDhjhFM5/pt M3S5t8SFwh4OFRhLleGwb35xbKUTHxQ0fcg8xwRscgXEBqHcKEIx9uY6sM0w0XhT3VpRQcQoutO er73iFc/z X-Google-Smtp-Source: AGHT+IFIKFvVwhhvCPJriS99xs5PL+e83AUaWwxdFWtR1DO63YA3Y5FxVoMZzKPm4q7pI4PdH/UfqyRxrJFO X-Received: by 2002:a17:902:ce0e:b0:27e:dc53:d239 with SMTP id d9443c01a7336-2946e0ec056mr27655465ad.35.1761221695455; Thu, 23 Oct 2025 05:14:55 -0700 (PDT) Received: from postal.iol.unh.edu (postal.iol.unh.edu. [2606:4100:3880:1234::84]) by smtp-relay.gmail.com with ESMTPS id d9443c01a7336-2946de1485dsm2226665ad.31.2025.10.23.05.14.55 (version=TLS1_2 cipher=ECDHE-ECDSA-AES128-GCM-SHA256 bits=128/128); Thu, 23 Oct 2025 05:14:55 -0700 (PDT) X-Relaying-Domain: iol.unh.edu Date: Thu, 23 Oct 2025 05:14:55 -0700 (PDT) Message-ID: <68fa1c3f.170a0220.337217.acabSMTPIN_ADDED_MISSING@mx.google.com> Received: from [172.21.0.2] (unknown [172.18.0.240]) by postal.iol.unh.edu (Postfix) with ESMTP id F1BE76051830; Thu, 23 Oct 2025 08:14:54 -0400 (EDT) Subject: |SUCCESS| pw158012-158017 [PATCH] [v6,6/6] net/cnxk: report link mod From: dpdklab@iol.unh.edu To: Test Report Cc: dpdk-test-reports@iol.unh.edu In-Reply-To: <20251023110332.6231-6-skori@marvell.com> References: <20251023110332.6231-6-skori@marvell.com> Content-Type: text/plain X-BeenThere: test-report@dpdk.org X-Mailman-Version: 2.1.29 Precedence: list List-Id: automatic DPDK test reports List-Unsubscribe: , List-Archive: List-Post: List-Help: List-Subscribe: , Errors-To: test-report-bounces@dpdk.org Test-Label: iol-unit-amd64-testing Test-Status: SUCCESS http://dpdk.org/patch/158017 _Testing PASS_ Submitter: Sunil Kumar Kori Date: Thursday, October 23 2025 11:02:06 DPDK git baseline: Repo:dpdk-next-net-mrvl Branch: master CommitID:2863cbd9ee6dabee2b183382d298f4054ba3e8a2 158012-158017 --> testing pass Upstream job id: Generic-Unit-Test-DPDK#384485 Test environment and result as below: +-------------------------------+----------------+ | Environment | dpdk_unit_test | +===============================+================+ | CentOS Stream 10 | PASS | +-------------------------------+----------------+ | Fedora Linux 40 | PASS | +-------------------------------+----------------+ | Fedora Linux 42 | PASS | +-------------------------------+----------------+ | Debian GNU/Linux 12 | PASS | +-------------------------------+----------------+ | Fedora Linux 41 | PASS | +-------------------------------+----------------+ | CentOS Stream 9 | PASS | +-------------------------------+----------------+ | Ubuntu 20.04 | PASS | +-------------------------------+----------------+ | Red Hat Enterprise Linux 8.10 | PASS | +-------------------------------+----------------+ | Ubuntu 24.04 | PASS | +-------------------------------+----------------+ | Red Hat Enterprise Linux 9.5 | PASS | +-------------------------------+----------------+ | Ubuntu 22.04 | PASS | +-------------------------------+----------------+ | Windows Server 2022 | PASS | +-------------------------------+----------------+ CentOS Stream 10 Kernel: 5.15 Compiler: gcc gcc (GCC) 14.2.1 20250110 (Red Hat 14.2.1-8) Fedora Linux 40 Kernel: 5.15 Compiler: gcc gcc (GCC) 14.2.1 20240912 (Red Hat 14.2.1-3) Fedora Linux 42 Kernel: 5.15 Compiler: clang gcc (GCC) 15.2.1 20250808 (Red Hat 15.2.1-1) Debian GNU/Linux 12 Kernel: 5.15 Compiler: gcc gcc (Debian 12.2.0-14+deb12u1) 12.2.0 Fedora Linux 41 Kernel: 5.15 Compiler: gcc gcc (GCC) 14.3.1 20250523 (Red Hat 14.3.1-1) CentOS Stream 9 Kernel: 5.15 Compiler: gcc gcc (GCC) 11.5.0 20240719 (Red Hat 11.5.0-11) Ubuntu 20.04 Kernel: 5.15 Compiler: gcc gcc (Ubuntu 9.4.0-1ubuntu1~20.04.2) 9.4.0 Red Hat Enterprise Linux 8.10 Kernel: 5.15 Compiler: gcc gcc (GCC) 8.5.0 20210514 (Red Hat 8.5.0-22) Ubuntu 24.04 Kernel: 5.15 Compiler: gcc gcc (Ubuntu 13.3.0-6ubuntu2~24.04) 13.3.0 Red Hat Enterprise Linux 9.5 Kernel: 5.15 Compiler: gcc gcc (GCC) 11.5.0 20240719 (Red Hat 11.5.0-2) Ubuntu 22.04 Kernel: 5.15 Compiler: gcc gcc (Ubuntu 11.4.0-1ubuntu1~22.04) 11.4.0 Windows Server 2022 Kernel: 10.0.20348.2031 Compiler: clang 15.0.7, gcc 14.1.0 (MinGW), and MSVC VS 19.39.33521 To view detailed results, visit: https://lab.dpdk.org/results/dashboard/patchsets/34357/ UNH-IOL DPDK Community Lab To manage your email subscriptions, visit: https://lab.dpdk.org/results/dashboard/preferences/subscriptions/