From mboxrd@z Thu Jan 1 00:00:00 1970 Return-Path: Received: from mails.dpdk.org (mails.dpdk.org [217.70.189.124]) by inbox.dpdk.org (Postfix) with ESMTP id 2ACAA489B3 for ; Thu, 23 Oct 2025 14:59:18 +0200 (CEST) Received: from mails.dpdk.org (localhost [127.0.0.1]) by mails.dpdk.org (Postfix) with ESMTP id 0A21B40151; Thu, 23 Oct 2025 14:59:18 +0200 (CEST) Received: from mail-il1-f228.google.com (mail-il1-f228.google.com [209.85.166.228]) by mails.dpdk.org (Postfix) with ESMTP id 37FAD40151 for ; Thu, 23 Oct 2025 14:59:16 +0200 (CEST) Received: by mail-il1-f228.google.com with SMTP id e9e14a558f8ab-430ca464785so8290955ab.0 for ; Thu, 23 Oct 2025 05:59:16 -0700 (PDT) DKIM-Signature: v=1; a=rsa-sha256; c=relaxed/relaxed; d=iol.unh.edu; s=unh-iol; t=1761224355; x=1761829155; darn=dpdk.org; h=references:in-reply-to:cc:to:from:subject:message-id:date:from:to :cc:subject:date:message-id:reply-to; bh=7HMj69YRolj7IkzmiFcV+mLBHggHrKPJi+GSCFmx00w=; b=AugaY5Vr7jhxXFC1R6+4h8ThZXewgy13yRKErKYWvg1Zrr82dLgYYudVQTTE2ctX5A 7VFy4xy9QImxuoNZfUauOXT0mJHEgzYwiR5iJZkboar5XWHVHq7ixuIVAw5A17P/OcTl CRP5aylnNkwdmCksOQF+W4zSncbfM9o9+9k48= X-Google-DKIM-Signature: v=1; a=rsa-sha256; c=relaxed/relaxed; d=1e100.net; s=20230601; t=1761224355; x=1761829155; h=references:in-reply-to:cc:to:from:subject:message-id:date :x-gm-message-state:from:to:cc:subject:date:message-id:reply-to; bh=7HMj69YRolj7IkzmiFcV+mLBHggHrKPJi+GSCFmx00w=; b=c7PEGJt5fMZozm0/35isGDhwpii8kGu41br6pN+wuNNXgwr2m/jc8gd26QE9lsm0Z6 pWdkVqHXIEgKS0/Bjuy65VbJWxe2EPMovn7+nyuMpDLQlE4KCityw6LB1kj0u0LMfYwS VWvqlfVDQS91cLzuqjdNeUAEmM1MWF91Zgznrt2adS9TLrINaAEBFkPqupJC7/nPE4FF kMRojTleikFVtnTebACMNoh/QYNfIO0ril46J0x/Ia8mG4xhNnAsWToxBH7VaMcugi4M XO9Jlfn26+FYl+4SrImTmjmqj3PlJsVnpUwxixatVtui3xJHHT6he38XZrJaZe33jnba Tang== X-Gm-Message-State: AOJu0YzRDUX+CFHnoVCnGVpSuZ84KCp6aGheS36NWltSyXUwSETbUqv/ eW1/oVVF7L0+NPAWfCqi592ROI7vwZ/1Mp6OjeoOewUAZpl8cYnrsE7CcOpuaS4ID7AXERlqEEM I4CYT2HqOJz7rObhbSAL9r9AV6TcxasFatoz3kjD71U9873FeuZXdt8F0XX/A X-Gm-Gg: ASbGncu5CewruhZno0TbgrPZGE86UoT5NM29eyjdYaQtJptigXd5AHxnQxiWNASYobm hbtL5lnmBWoKOT/+eDcoim+DbHM4N0qNVis/cjnZccbfBalQed3xPYnJlPfEA/g5dni8jCwMPCv eHBV4D8AGjJkCDKQzeK1AjmecYUeslpD5g4jQmo+Z7M5o48COVFBr5KcQn6W+m6UjKCv+qrbDKf 8/9kxRk32HF1pqxBcNvCJO57UZNpBxEXhxnYJyxOnWwcJgRuOOVK9fIx8szsaoi8kqCW3OP399w vwQJVaAoxv6l2wfoclTtNYJp7sYjbMji/5JHuNtRLayOhp15NP0r12lNQ61XAyvugAOMMISVoj0 gZbbc3c4i X-Google-Smtp-Source: AGHT+IHR3i7olG3blxOPzOe2eACl93iqPxsMoygRHeFCbKKdOut3iDoQlcfXGbZJbXPBupLkFlZuF8v27LrB X-Received: by 2002:a05:6e02:749:b0:431:d951:ab83 with SMTP id e9e14a558f8ab-431dc2329dbmr29097355ab.32.1761224355421; Thu, 23 Oct 2025 05:59:15 -0700 (PDT) Received: from postal.iol.unh.edu (postal.iol.unh.edu. [2606:4100:3880:1234::84]) by smtp-relay.gmail.com with ESMTPS id e9e14a558f8ab-431dbc95dddsm1873515ab.31.2025.10.23.05.59.15 (version=TLS1_2 cipher=ECDHE-ECDSA-AES128-GCM-SHA256 bits=128/128); Thu, 23 Oct 2025 05:59:15 -0700 (PDT) X-Relaying-Domain: iol.unh.edu Date: Thu, 23 Oct 2025 05:59:15 -0700 (PDT) Message-ID: <68fa26a3.050a0220.234de6.9393SMTPIN_ADDED_MISSING@mx.google.com> Received: from [172.21.0.3] (unknown [172.18.0.240]) by postal.iol.unh.edu (Postfix) with ESMTP id 0B56B6050A61; Thu, 23 Oct 2025 08:59:15 -0400 (EDT) Subject: |SUCCESS| pw158018-158023 [PATCH] [6/6] net/txgbe: add PF-triggered From: dpdklab@iol.unh.edu To: Test Report Cc: dpdk-test-reports@iol.unh.edu, Stephen Hemminger In-Reply-To: <20251023121356.21944-7-zaiyuwang@trustnetic.com> References: <20251023121356.21944-7-zaiyuwang@trustnetic.com> Content-Type: text/plain X-BeenThere: test-report@dpdk.org X-Mailman-Version: 2.1.29 Precedence: list List-Id: automatic DPDK test reports List-Unsubscribe: , List-Archive: List-Post: List-Help: List-Subscribe: , Errors-To: test-report-bounces@dpdk.org Test-Label: iol-compile-amd64-testing Test-Status: SUCCESS http://dpdk.org/patch/158023 _Testing PASS_ Submitter: Zaiyu Wang Date: Thursday, October 23 2025 12:13:55 DPDK git baseline: Repo:dpdk-next-net Branch: master CommitID:4c4055bdd19f919795f83a01faae9fc267570d7f 158018-158023 --> testing pass Upstream job id: Windows-Compile-DPDK-Native#31837 Test environment and result as below: +---------------------+--------------------+-------------------+-------------------------+ | Environment | dpdk_meson_compile | dpdk_msvc_compile | dpdk_llvm_clang_compile | +=====================+====================+===================+=========================+ | FreeBSD 14.2 | PASS | SKIPPED | SKIPPED | +---------------------+--------------------+-------------------+-------------------------+ | Ubuntu 20.04 | PASS | SKIPPED | SKIPPED | +---------------------+--------------------+-------------------+-------------------------+ | Windows Server 2022 | SKIPPED | PASS | PASS | +---------------------+--------------------+-------------------+-------------------------+ FreeBSD 14.2 Kernel: 14.2-RELEASE Compiler: clang 18.1.6 Ubuntu 20.04 Kernel: 4.19 Compiler: gcc gcc (Ubuntu 9.4.0-1ubuntu1~20.04.2) 9.4.0 Windows Server 2022 Kernel: 10.0.20348.2031 Compiler: clang 15.0.7, gcc 14.1.0 (MinGW), and MSVC VS 19.39.33521 To view detailed results, visit: https://lab.dpdk.org/results/dashboard/patchsets/34358/ UNH-IOL DPDK Community Lab To manage your email subscriptions, visit: https://lab.dpdk.org/results/dashboard/preferences/subscriptions/