automatic DPDK test reports
 help / color / mirror / Atom feed
From: dpdklab@iol.unh.edu
To: Test Report <test-report@dpdk.org>
Cc: dpdk-test-reports@iol.unh.edu
Subject: |SUCCESS| pw158027 [PATCH] [v6] mbuf: optimize segment prefree
Date: Thu, 23 Oct 2025 06:17:10 -0700 (PDT)	[thread overview]
Message-ID: <68fa2ad6.050a0220.154445.9ff8SMTPIN_ADDED_MISSING@mx.google.com> (raw)
In-Reply-To: <20251023124858.318148-1-mb@smartsharesystems.com>

Test-Label: iol-compile-amd64-testing
Test-Status: SUCCESS
http://dpdk.org/patch/158027

_Testing PASS_

Submitter: Morten Brorup <mb@smartsharesystems.com>
Date: Thursday, October 23 2025 12:48:58 
DPDK git baseline: Repo:dpdk
  Branch: master
  CommitID:2863cbd9ee6dabee2b183382d298f4054ba3e8a2

158027 --> testing pass

Upstream job id: Generic-VM-DPDK-Compile-Meson#39207

Test environment and result as below:

+--------------+--------------------+
| Environment  | dpdk_meson_compile |
+==============+====================+
| FreeBSD 14.2 | PASS               |
+--------------+--------------------+


FreeBSD 14.2
	Kernel: 14.2-RELEASE
	Compiler: clang 18.1.6

To view detailed results, visit:
https://lab.dpdk.org/results/dashboard/patchsets/34360/

UNH-IOL DPDK Community Lab

To manage your email subscriptions, visit: 
https://lab.dpdk.org/results/dashboard/preferences/subscriptions/

  parent reply	other threads:[~2025-10-23 13:17 UTC|newest]

Thread overview: 23+ messages / expand[flat|nested]  mbox.gz  Atom feed  top
     [not found] <20251023124858.318148-1-mb@smartsharesystems.com>
2025-10-23 12:15 ` |SUCCESS| pw158027 [PATCH v6] " qemudev
2025-10-23 12:20 ` qemudev
2025-10-23 12:49 ` |WARNING| " checkpatch
2025-10-23 13:17 ` dpdklab [this message]
2025-10-23 13:18 ` |SUCCESS| pw158027 [PATCH] [v6] " dpdklab
2025-10-23 13:23 ` dpdklab
2025-10-23 13:46 ` dpdklab
2025-10-23 13:49 ` |PENDING| " dpdklab
2025-10-23 13:50 ` |SUCCESS| " dpdklab
2025-10-23 13:53 ` |PENDING| " dpdklab
2025-10-23 13:53 ` dpdklab
2025-10-23 13:55 ` |SUCCESS| " dpdklab
2025-10-23 14:00 ` dpdklab
2025-10-23 14:00 ` dpdklab
2025-10-23 14:02 ` dpdklab
2025-10-23 14:06 ` dpdklab
2025-10-23 14:11 ` dpdklab
2025-10-23 14:40 ` dpdklab
2025-10-23 14:58 ` dpdklab
2025-10-23 15:18 ` dpdklab
2025-10-23 15:26 ` dpdklab
2025-10-23 21:16 ` |PENDING| " dpdklab
2025-10-23 21:44 ` |WARNING| " dpdklab

Reply instructions:

You may reply publicly to this message via plain-text email
using any one of the following methods:

* Save the following mbox file, import it into your mail client,
  and reply-to-all from there: mbox

  Avoid top-posting and favor interleaved quoting:
  https://en.wikipedia.org/wiki/Posting_style#Interleaved_style

* Reply using the --to, --cc, and --in-reply-to
  switches of git-send-email(1):

  git send-email \
    --in-reply-to=68fa2ad6.050a0220.154445.9ff8SMTPIN_ADDED_MISSING@mx.google.com \
    --to=dpdklab@iol.unh.edu \
    --cc=dpdk-test-reports@iol.unh.edu \
    --cc=test-report@dpdk.org \
    /path/to/YOUR_REPLY

  https://kernel.org/pub/software/scm/git/docs/git-send-email.html

* If your mail client supports setting the In-Reply-To header
  via mailto: links, try the mailto: link
Be sure your reply has a Subject: header at the top and a blank line before the message body.
This is a public inbox, see mirroring instructions
for how to clone and mirror all data and code used for this inbox;
as well as URLs for NNTP newsgroup(s).