From mboxrd@z Thu Jan 1 00:00:00 1970 Return-Path: Received: from mails.dpdk.org (mails.dpdk.org [217.70.189.124]) by inbox.dpdk.org (Postfix) with ESMTP id BF015489B3 for ; Thu, 23 Oct 2025 15:21:15 +0200 (CEST) Received: from mails.dpdk.org (localhost [127.0.0.1]) by mails.dpdk.org (Postfix) with ESMTP id B9CCD40151; Thu, 23 Oct 2025 15:21:15 +0200 (CEST) Received: from mail-pj1-f99.google.com (mail-pj1-f99.google.com [209.85.216.99]) by mails.dpdk.org (Postfix) with ESMTP id E993B40151 for ; Thu, 23 Oct 2025 15:21:13 +0200 (CEST) Received: by mail-pj1-f99.google.com with SMTP id 98e67ed59e1d1-33ba2f134f1so854545a91.2 for ; Thu, 23 Oct 2025 06:21:13 -0700 (PDT) DKIM-Signature: v=1; a=rsa-sha256; c=relaxed/relaxed; d=iol.unh.edu; s=unh-iol; t=1761225673; x=1761830473; darn=dpdk.org; h=references:in-reply-to:cc:to:from:subject:message-id:date:from:to :cc:subject:date:message-id:reply-to; bh=s6Ai+QXzsOESDVk8C+FIMMDuP1tae130deeCJhp4Qdc=; b=OViT2YJZIRXFgEfruXUcPP4Qneu+9mKHb6rnuO8XZzX9DvZ/W4i5TqZ9Yj2470IGc0 wT3MgcT9EGrErio+J7ne2y4KjSelCqjdNSDWt35XPGqjlpZ8aWf0x5l6+4naTyakcRI5 +9aDpDdPoPSihe6zOHVLwOQTjEkijTlI+sW58= X-Google-DKIM-Signature: v=1; a=rsa-sha256; c=relaxed/relaxed; d=1e100.net; s=20230601; t=1761225673; x=1761830473; h=references:in-reply-to:cc:to:from:subject:message-id:date :x-gm-message-state:from:to:cc:subject:date:message-id:reply-to; bh=s6Ai+QXzsOESDVk8C+FIMMDuP1tae130deeCJhp4Qdc=; b=VhcwEyu2234zOrVOlckDX+Aw+/GbC83EKyYPjKCtINPVk6RHIcu65H9pWQe3MgnA+A gDsj7oSjWSWrf/v01rAh5xDUoHms0H2JTBqXZM97KuPNoMCe7RdTx/5keOwD88ZHPp8k pfUXZx+zSV3t6kR+PSPzKEfYUiMewtU9I5fsoRr3q5CbPxq9OACsQQ+qAFKCj6yhHykR snrM1PvDq+J3KzMydaeCWUwwE9dQ+YZfuSCgHh5YabCc2tiNlQWF6PI1HkLdHc/jeCEr mVa5PIiVPWpFeVBSHGV78h0dQ6YlKoCyjvZDAzzvMEjGZVZPF0aFnqa60+X84iahRXA2 0fVA== X-Gm-Message-State: AOJu0YyVIarbp2G6MR3HIO4Zt2gvNIXbp154gS1KxaYVvPraeP0hfgGm f+poWkEFMNn0k73iS044icLCkSs6ZaS10eFrsiIIjhZhvKc2jK1RhioKIJKc5ba8n8IEKI/KKwR eOxQBtW/TVRPKhzJOPwbeHg/Pbud2UfUSJY+OmZdt7WFQ X-Gm-Gg: ASbGncu7Ag45qjLmBKNqFH60AlWEaierFTWoC/++Q8vj3BexCzp+PxVxtr70wN3KW8m JqKHmfGyVo5uuIZeOGaJ3cpiD0nG02DJ8PcQVS42A2OD2kS1lP8trWUKwrop8wYkuAWVygT3wDM GODzsaIg9J3++uG4OSSIcYsLIkSMLFmWhI0GKgoY2YksBGUVghisbNo5XK6zuYWLo7JrxkIerse oXnUfD6FQ+o172kJi4pMVhhAJ32z2vxQpm9Y/vEPtXAJWAOcY5PS+21QSgDEoOGkBvFErGL0+eP eEs/xh5XCKyXltT9Vi58p+p1Q3DtvAlIfSB1HnvV9ukgrcIYybiUAWq3XD8xsaLfsQXDNebPlni V0I6QzCchyCpA+YqAFXv1jctSiNp7rM4= X-Google-Smtp-Source: AGHT+IELCxvSa9BT4yeJzsWaG0wpamrkQ9F4ei+bYKlaryqk/7nprTv3ImeMRhDVJ+v6IbGb7EiR2KawREps X-Received: by 2002:a17:90b:4c11:b0:32b:9774:d340 with SMTP id 98e67ed59e1d1-33bcf91909fmr36279234a91.33.1761225672965; Thu, 23 Oct 2025 06:21:12 -0700 (PDT) Received: from postal.iol.unh.edu (postal.iol.unh.edu. [132.177.123.84]) by smtp-relay.gmail.com with ESMTPS id 98e67ed59e1d1-33fafbbd31dsm197650a91.5.2025.10.23.06.21.12 (version=TLS1_2 cipher=ECDHE-ECDSA-AES128-GCM-SHA256 bits=128/128); Thu, 23 Oct 2025 06:21:12 -0700 (PDT) X-Relaying-Domain: iol.unh.edu Date: Thu, 23 Oct 2025 06:21:12 -0700 (PDT) Message-ID: <68fa2bc8.170a0220.338118.9b06SMTPIN_ADDED_MISSING@mx.google.com> Received: from [172.21.0.2] (unknown [172.18.0.240]) by postal.iol.unh.edu (Postfix) with ESMTP id 429F86050A61; Thu, 23 Oct 2025 09:21:12 -0400 (EDT) Subject: |SUCCESS| pw158018-158023 [PATCH] [6/6] net/txgbe: add PF-triggered From: dpdklab@iol.unh.edu To: Test Report Cc: dpdk-test-reports@iol.unh.edu, Stephen Hemminger In-Reply-To: <20251023121356.21944-7-zaiyuwang@trustnetic.com> References: <20251023121356.21944-7-zaiyuwang@trustnetic.com> Content-Type: text/plain X-BeenThere: test-report@dpdk.org X-Mailman-Version: 2.1.29 Precedence: list List-Id: automatic DPDK test reports List-Unsubscribe: , List-Archive: List-Post: List-Help: List-Subscribe: , Errors-To: test-report-bounces@dpdk.org Test-Label: iol-unit-amd64-testing Test-Status: SUCCESS http://dpdk.org/patch/158023 _Testing PASS_ Submitter: Zaiyu Wang Date: Thursday, October 23 2025 12:13:55 DPDK git baseline: Repo:dpdk-next-net Branch: master CommitID:4c4055bdd19f919795f83a01faae9fc267570d7f 158018-158023 --> testing pass Upstream job id: Generic-VM-Unit-Test-DPDK#32007 Test environment and result as below: +-------------------------------+----------------+ | Environment | dpdk_unit_test | +===============================+================+ | Fedora Linux 40 | PASS | +-------------------------------+----------------+ | CentOS Stream 9 | PASS | +-------------------------------+----------------+ | CentOS Stream 10 | PASS | +-------------------------------+----------------+ | Fedora Linux 42 | PASS | +-------------------------------+----------------+ | Fedora Linux 41 | PASS | +-------------------------------+----------------+ | Red Hat Enterprise Linux 9.5 | PASS | +-------------------------------+----------------+ | Debian GNU/Linux 12 | PASS | +-------------------------------+----------------+ | Red Hat Enterprise Linux 8.10 | PASS | +-------------------------------+----------------+ | Ubuntu 22.04 | PASS | +-------------------------------+----------------+ | Ubuntu 24.04 | PASS | +-------------------------------+----------------+ | Ubuntu 20.04 | PASS | +-------------------------------+----------------+ | Windows Server 2022 | PASS | +-------------------------------+----------------+ Fedora Linux 40 Kernel: 5.15 Compiler: gcc gcc (GCC) 14.2.1 20240912 (Red Hat 14.2.1-3) CentOS Stream 9 Kernel: 5.15 Compiler: gcc gcc (GCC) 11.5.0 20240719 (Red Hat 11.5.0-11) CentOS Stream 10 Kernel: 5.15 Compiler: gcc gcc (GCC) 14.2.1 20250110 (Red Hat 14.2.1-8) Fedora Linux 42 Kernel: 5.15 Compiler: gcc gcc (GCC) 15.2.1 20250808 (Red Hat 15.2.1-1) Fedora Linux 41 Kernel: 5.15 Compiler: gcc gcc (GCC) 14.3.1 20250523 (Red Hat 14.3.1-1) Red Hat Enterprise Linux 9.5 Kernel: 5.15 Compiler: gcc gcc (GCC) 11.5.0 20240719 (Red Hat 11.5.0-2) Debian GNU/Linux 12 Kernel: 5.15 Compiler: gcc gcc (Debian 12.2.0-14+deb12u1) 12.2.0 Red Hat Enterprise Linux 8.10 Kernel: 5.15 Compiler: gcc gcc (GCC) 8.5.0 20210514 (Red Hat 8.5.0-22) Ubuntu 22.04 Kernel: 5.15 Compiler: gcc gcc (Ubuntu 11.4.0-1ubuntu1~22.04) 11.4.0 Ubuntu 24.04 Kernel: 5.15 Compiler: gcc gcc (Ubuntu 13.3.0-6ubuntu2~24.04) 13.3.0 Ubuntu 20.04 Kernel: 5.15 Compiler: gcc gcc (Ubuntu 9.4.0-1ubuntu1~20.04.2) 9.4.0 Windows Server 2022 Kernel: 10.0.20348.2031 Compiler: clang 15.0.7, gcc 14.1.0 (MinGW), and MSVC VS 19.39.33521 To view detailed results, visit: https://lab.dpdk.org/results/dashboard/patchsets/34358/ UNH-IOL DPDK Community Lab To manage your email subscriptions, visit: https://lab.dpdk.org/results/dashboard/preferences/subscriptions/