From mboxrd@z Thu Jan 1 00:00:00 1970 Return-Path: Received: from mails.dpdk.org (mails.dpdk.org [217.70.189.124]) by inbox.dpdk.org (Postfix) with ESMTP id 561AA489B3 for ; Thu, 23 Oct 2025 15:25:48 +0200 (CEST) Received: from mails.dpdk.org (localhost [127.0.0.1]) by mails.dpdk.org (Postfix) with ESMTP id 5017C40151; Thu, 23 Oct 2025 15:25:48 +0200 (CEST) Received: from mail-io1-f100.google.com (mail-io1-f100.google.com [209.85.166.100]) by mails.dpdk.org (Postfix) with ESMTP id 36F3740151 for ; Thu, 23 Oct 2025 15:25:47 +0200 (CEST) Received: by mail-io1-f100.google.com with SMTP id ca18e2360f4ac-938de0df471so67055539f.2 for ; Thu, 23 Oct 2025 06:25:47 -0700 (PDT) DKIM-Signature: v=1; a=rsa-sha256; c=relaxed/relaxed; d=iol.unh.edu; s=unh-iol; t=1761225946; x=1761830746; darn=dpdk.org; h=references:in-reply-to:cc:to:from:subject:message-id:date:from:to :cc:subject:date:message-id:reply-to; bh=EMVIALBqb6DsfJq+g8N0Eud3Yiyj5HrVPAApUJZ19y8=; b=GZ8ieVgmF76cI7broA0N1IlLonlnjKgcceCnogQks9OzsbF0XWmpsigrB9XBYgqOsM Ie5ujuYoK5j4y/oIf5V6GHorFj62s5XPGUj5Sky9gtfl4a9CaebIKPcoHuzG4PeUhjmf Aj2LBOh+OS9Hb6WsETcV6UTFFi8EuxUa+U8o0= X-Google-DKIM-Signature: v=1; a=rsa-sha256; c=relaxed/relaxed; d=1e100.net; s=20230601; t=1761225946; x=1761830746; h=references:in-reply-to:cc:to:from:subject:message-id:date :x-gm-message-state:from:to:cc:subject:date:message-id:reply-to; bh=EMVIALBqb6DsfJq+g8N0Eud3Yiyj5HrVPAApUJZ19y8=; b=iXDhwBYcAJLkkjO+N+piI+9sR00AreKjeDxdKPlBIMKDLUgSMoCwqqHUKUohnUQ1Zp OTYn2h2dCWIaoadpm85xYx7nm2KwBpPH0KIXTueHaWFN4VHAahJ35hy3nZnyuPFimeDw sqTXzzAf7uXotkd6rwqhnJWnFyxDzmlVuDgmjXEm8TE7lFvbPMgPgLA5rniPO0FxUQej 4vlvar0CnkYPyKUu66JzY3pYn0tvZjbD0lqwyLAOx4Y8/pyd0t9y+RSj1biMCObdBANj X89O877VmvPsJBkrJE0L4MzT4NNexJCE5jOA+xgbTfICBiMhm8zwP+Lf5N3OhFpSqcfx s1Bg== X-Gm-Message-State: AOJu0YwEP+pnsvNiWkjxhDV86IHa1ZUm0Lo3yBYL15guPus4fyzeiwkD 1e4otEXL7mcNUhLRsGP/bTi5rdKjkI2w90h23X0fmFqZbHmpYHgqzsPNqJwEdaTIUESqq0NIOZm c29dqVh4Psda4+D6dkOSUXS6/QluRBLBS93WzAhtBhozIyuK3RYQPtZmzor0t X-Gm-Gg: ASbGncvUwLVlY8D1xPisIPJaYDFW3hwBppnVSjyMFRhsOxky9en5TShHRNei1M4HJjT BFKKVuIHZhSIZ/tD+GbikCGS93a/buJQ9edcRlHclquR8knfM7yogdjX1zQQOvWupUKIWi9Zjjd vP6AZiSYKFGuagsL2L9asuDZuy/tuo0qPszFiWw4t17A/uww/5Ja5YDFrjkHq7VzsxE9tLydwxk HLipLL39DKBIlr5qqrEkHWsSElWXlAbF2VZ3xW1WhzyZapeFpqlMgHe0J1g5uDT13zHJ9kgA7Hu 5Yw1dPuEb9BD49IWipvFlU9+8kG0p8GV2YdcQAwhliwjkYgHzX2S7I+auXXPHRYyZZZZgM23CVD tIb+J7RxH X-Google-Smtp-Source: AGHT+IGYUUoL4A5Byc+R1qhjA42XyniXngLzMFN5LLx4egzDe14cfvo7nb8oUOC0YJm0g+MZyr71bOIjHLbJ X-Received: by 2002:a05:6e02:17c9:b0:430:aec5:9be4 with SMTP id e9e14a558f8ab-430c5203fb0mr317286135ab.7.1761225946498; Thu, 23 Oct 2025 06:25:46 -0700 (PDT) Received: from postal.iol.unh.edu (postal.iol.unh.edu. [2606:4100:3880:1234::84]) by smtp-relay.gmail.com with ESMTPS id 8926c6da1cb9f-5abb1aed9ebsm156838173.0.2025.10.23.06.25.46 (version=TLS1_2 cipher=ECDHE-ECDSA-AES128-GCM-SHA256 bits=128/128); Thu, 23 Oct 2025 06:25:46 -0700 (PDT) X-Relaying-Domain: iol.unh.edu Date: Thu, 23 Oct 2025 06:25:46 -0700 (PDT) Message-ID: <68fa2cda.050a0220.e59f9.87f2SMTPIN_ADDED_MISSING@mx.google.com> Received: from [172.21.0.2] (unknown [172.18.0.240]) by postal.iol.unh.edu (Postfix) with ESMTP id 222816050A61; Thu, 23 Oct 2025 09:25:46 -0400 (EDT) Subject: |SUCCESS| pw158018-158023 [PATCH] [6/6] net/txgbe: add PF-triggered From: dpdklab@iol.unh.edu To: Test Report Cc: dpdk-test-reports@iol.unh.edu, Stephen Hemminger In-Reply-To: <20251023121356.21944-7-zaiyuwang@trustnetic.com> References: <20251023121356.21944-7-zaiyuwang@trustnetic.com> Content-Type: text/plain X-BeenThere: test-report@dpdk.org X-Mailman-Version: 2.1.29 Precedence: list List-Id: automatic DPDK test reports List-Unsubscribe: , List-Archive: List-Post: List-Help: List-Subscribe: , Errors-To: test-report-bounces@dpdk.org Test-Label: iol-compile-amd64-testing Test-Status: SUCCESS http://dpdk.org/patch/158023 _Testing PASS_ Submitter: Zaiyu Wang Date: Thursday, October 23 2025 12:13:55 DPDK git baseline: Repo:dpdk-next-net Branch: master CommitID:4c4055bdd19f919795f83a01faae9fc267570d7f 158018-158023 --> testing pass Upstream job id: Windows-Compile-DPDK-Native#31838 Test environment and result as below: +---------------------+--------------------+-------------------+-------------------------+----------------------+ | Environment | dpdk_meson_compile | dpdk_msvc_compile | dpdk_llvm_clang_compile | dpdk_mingw64_compile | +=====================+====================+===================+=========================+======================+ | FreeBSD 14.2 | PASS | SKIPPED | SKIPPED | SKIPPED | +---------------------+--------------------+-------------------+-------------------------+----------------------+ | Ubuntu 20.04 | PASS | SKIPPED | SKIPPED | SKIPPED | +---------------------+--------------------+-------------------+-------------------------+----------------------+ | Windows Server 2022 | SKIPPED | PASS | PASS | PASS | +---------------------+--------------------+-------------------+-------------------------+----------------------+ FreeBSD 14.2 Kernel: 14.2-RELEASE Compiler: clang 18.1.6 Ubuntu 20.04 Kernel: 4.19 Compiler: gcc gcc (Ubuntu 9.4.0-1ubuntu1~20.04.2) 9.4.0 Windows Server 2022 Kernel: 10.0.20348.2031 Compiler: clang 15.0.7, gcc 14.1.0 (MinGW), and MSVC VS 19.39.33521 To view detailed results, visit: https://lab.dpdk.org/results/dashboard/patchsets/34358/ UNH-IOL DPDK Community Lab To manage your email subscriptions, visit: https://lab.dpdk.org/results/dashboard/preferences/subscriptions/