From mboxrd@z Thu Jan 1 00:00:00 1970 Return-Path: Received: from mails.dpdk.org (mails.dpdk.org [217.70.189.124]) by inbox.dpdk.org (Postfix) with ESMTP id 9B600489B3 for ; Thu, 23 Oct 2025 15:49:57 +0200 (CEST) Received: from mails.dpdk.org (localhost [127.0.0.1]) by mails.dpdk.org (Postfix) with ESMTP id 9609640151; Thu, 23 Oct 2025 15:49:57 +0200 (CEST) Received: from mail-pl1-f228.google.com (mail-pl1-f228.google.com [209.85.214.228]) by mails.dpdk.org (Postfix) with ESMTP id B2EB340151 for ; Thu, 23 Oct 2025 15:49:56 +0200 (CEST) Received: by mail-pl1-f228.google.com with SMTP id d9443c01a7336-290d14e5c9aso10774605ad.3 for ; Thu, 23 Oct 2025 06:49:56 -0700 (PDT) DKIM-Signature: v=1; a=rsa-sha256; c=relaxed/relaxed; d=iol.unh.edu; s=unh-iol; t=1761227396; x=1761832196; darn=dpdk.org; h=references:in-reply-to:cc:to:from:subject:message-id:date:from:to :cc:subject:date:message-id:reply-to; bh=LdNkUsZt0NR4MUSNcV5TU/pPt7VdnIoIIYJ7ceVRyi8=; b=AHluG0PGZ/UQn0GX/n51xjBl1GaooY9PBcdJH/dVa4NIDC1OmqoEuBcMLEaSkj0mYV jbOJpeRPl1bh6VToN6me6ffqdEXuBV9hYVwrU2GAgkIv7FMiAur7BLqtkC+duUSJuZQ9 6wuMCCWFd3OaIJkFPF74lVLiCZlDPLOpWpmds= X-Google-DKIM-Signature: v=1; a=rsa-sha256; c=relaxed/relaxed; d=1e100.net; s=20230601; t=1761227396; x=1761832196; h=references:in-reply-to:cc:to:from:subject:message-id:date :x-gm-message-state:from:to:cc:subject:date:message-id:reply-to; bh=LdNkUsZt0NR4MUSNcV5TU/pPt7VdnIoIIYJ7ceVRyi8=; b=v4w8uzTJFu7M/LuuUZJfW2397rU07eBjfCujDKRDoO2j92sR1UOBgWkvgoxQXHUrjC qf1swyZlW98Ca2IUAZxN9ISL9zW1S9iztpSTkNLIYKMg/DAN3SGW+9lDdhPGmzf9djJy v9tb5xZ2qGp5ymarGCuvPl+NHyUT+kTCscrVTB1o7/rRyngycPDq1UczVYsABHZl3tkc JMZLIiex24+lH4111pByWWJqKvnveeGM2qd+VtSq0lp0yfglwxIL0Qz1P0ha5XYlGb8A 6/3AyrbiXN4HUU5VSy5jMEX1miVuSqIAAluLAP5hQNMPr6QrInNPRYYQFvLgwE9yjiIi kV/A== X-Gm-Message-State: AOJu0YzV8BuF33+wBp5tFf4NlZU/zXJ8+87d21KFnNtxZwrnAj9VmSSj Uu7KCrlebz6fqAzXLlqc5hnxEHAVxM7FNavLFPG8IVhVWhW+QGi/zw2V7x/EAhPxHUlfYIK+Umd r3wAqfd+X9dCyp7LSYH4YikF09ZDt16geXN69SsmbPguD X-Gm-Gg: ASbGnctDIVmTrnT0q3A38l9y2dqvdllKoCPYhDpKCXbVf0wY48b8Z8eslBqQHyJySkK 0r5wRKHYgTe5kzGBT2ZPdk0BY+a6TFdnWK53CsXUIsvfUHEebQ5ttLrJTknJ8kiBSMYoR+ljr5b R1mUo5L/Rz3kiiv3ti2JwXiCJTt0if4nJ1makvrPyLh4P9XzI7LA4s4gvl8hqg43fEK5BhRx+qy kaiAj+hq7Ls4mZD8BrKN1Ct+tnMKDO3lnNvasJSA9ZAXrVtSiaKXDyxg8yuGI4TrgmVJLu13L1b oWx2kpFHIxTe0NiXta8AaGTEJgxQkkkJ82gSf2iBMAJJBPn28Ji8VkDFHoSBniPH4EkSKOkKG5a i2XJFDF2F0GWssyfketHflwiUMfqAwBM= X-Google-Smtp-Source: AGHT+IFPaR1kdWq75TtU8rQZrdwvGYVwEVm86QVQZ1yKB7y/pqG9Gz4B9o9ZLRz4IRPRqX1/XqaXaqblsNX0 X-Received: by 2002:a17:903:b0e:b0:290:c76f:d2ac with SMTP id d9443c01a7336-290cb65c5dbmr304798335ad.43.1761227395725; Thu, 23 Oct 2025 06:49:55 -0700 (PDT) Received: from postal.iol.unh.edu (postal.iol.unh.edu. [132.177.123.84]) by smtp-relay.gmail.com with ESMTPS id d9443c01a7336-2946dfe313fsm2382975ad.61.2025.10.23.06.49.55 (version=TLS1_2 cipher=ECDHE-ECDSA-AES128-GCM-SHA256 bits=128/128); Thu, 23 Oct 2025 06:49:55 -0700 (PDT) X-Relaying-Domain: iol.unh.edu Date: Thu, 23 Oct 2025 06:49:55 -0700 (PDT) Message-ID: <68fa3283.170a0220.156271.ba08SMTPIN_ADDED_MISSING@mx.google.com> Received: from [172.21.0.2] (unknown [172.18.0.240]) by postal.iol.unh.edu (Postfix) with ESMTP id 2DA6B604D420; Thu, 23 Oct 2025 09:49:55 -0400 (EDT) Subject: |SUCCESS| pw158024-158026 [PATCH] [v9,3/3] dts: add Rx Tx offload te From: dpdklab@iol.unh.edu To: Test Report Cc: dpdk-test-reports@iol.unh.edu In-Reply-To: <20251023123223.56924-4-abailey@iol.unh.edu> References: <20251023123223.56924-4-abailey@iol.unh.edu> Content-Type: text/plain X-BeenThere: test-report@dpdk.org X-Mailman-Version: 2.1.29 Precedence: list List-Id: automatic DPDK test reports List-Unsubscribe: , List-Archive: List-Post: List-Help: List-Subscribe: , Errors-To: test-report-bounces@dpdk.org Test-Label: iol-unit-amd64-testing Test-Status: SUCCESS http://dpdk.org/patch/158026 _Testing PASS_ Submitter: Andrew Bailey Date: Thursday, October 23 2025 12:32:23 DPDK git baseline: Repo:dpdk-next-dts Branch: master CommitID:c1abcee5a9656fb4890b733e6051aa604c60f146 158024-158026 --> testing pass Upstream job id: Generic-VM-Unit-Test-DPDK#32009 Test environment and result as below: +-------------------------------+----------------+ | Environment | dpdk_unit_test | +===============================+================+ | CentOS Stream 9 | PASS | +-------------------------------+----------------+ | Fedora Linux 41 | PASS | +-------------------------------+----------------+ | CentOS Stream 10 | PASS | +-------------------------------+----------------+ | Red Hat Enterprise Linux 8.10 | PASS | +-------------------------------+----------------+ | Debian GNU/Linux 12 | PASS | +-------------------------------+----------------+ | Fedora Linux 42 | PASS | +-------------------------------+----------------+ | Fedora Linux 40 | PASS | +-------------------------------+----------------+ | Red Hat Enterprise Linux 9.5 | PASS | +-------------------------------+----------------+ | Ubuntu 20.04 | PASS | +-------------------------------+----------------+ | Ubuntu 22.04 | PASS | +-------------------------------+----------------+ | Ubuntu 24.04 | PASS | +-------------------------------+----------------+ | Windows Server 2022 | PASS | +-------------------------------+----------------+ CentOS Stream 9 Kernel: 5.15 Compiler: gcc gcc (GCC) 11.5.0 20240719 (Red Hat 11.5.0-11) Fedora Linux 41 Kernel: 5.15 Compiler: gcc gcc (GCC) 14.3.1 20250523 (Red Hat 14.3.1-1) CentOS Stream 10 Kernel: 5.15 Compiler: gcc gcc (GCC) 14.2.1 20250110 (Red Hat 14.2.1-8) Red Hat Enterprise Linux 8.10 Kernel: 5.15 Compiler: gcc gcc (GCC) 8.5.0 20210514 (Red Hat 8.5.0-22) Debian GNU/Linux 12 Kernel: 5.15 Compiler: gcc gcc (Debian 12.2.0-14+deb12u1) 12.2.0 Fedora Linux 42 Kernel: 5.15 Compiler: gcc gcc (GCC) 15.2.1 20250808 (Red Hat 15.2.1-1) Fedora Linux 40 Kernel: 5.15 Compiler: clang gcc (GCC) 14.2.1 20240912 (Red Hat 14.2.1-3) Red Hat Enterprise Linux 9.5 Kernel: 5.15 Compiler: gcc gcc (GCC) 11.5.0 20240719 (Red Hat 11.5.0-2) Ubuntu 20.04 Kernel: 5.15 Compiler: gcc gcc (Ubuntu 9.4.0-1ubuntu1~20.04.2) 9.4.0 Ubuntu 22.04 Kernel: 5.15 Compiler: gcc gcc (Ubuntu 11.4.0-1ubuntu1~22.04) 11.4.0 Ubuntu 24.04 Kernel: 5.15 Compiler: gcc gcc (Ubuntu 13.3.0-6ubuntu2~24.04) 13.3.0 Windows Server 2022 Kernel: 10.0.20348.2031 Compiler: clang 15.0.7, gcc 14.1.0 (MinGW), and MSVC VS 19.39.33521 To view detailed results, visit: https://lab.dpdk.org/results/dashboard/patchsets/34359/ UNH-IOL DPDK Community Lab To manage your email subscriptions, visit: https://lab.dpdk.org/results/dashboard/preferences/subscriptions/