From mboxrd@z Thu Jan 1 00:00:00 1970 Return-Path: Received: from mails.dpdk.org (mails.dpdk.org [217.70.189.124]) by inbox.dpdk.org (Postfix) with ESMTP id AF18B489B3 for ; Thu, 23 Oct 2025 15:50:27 +0200 (CEST) Received: from mails.dpdk.org (localhost [127.0.0.1]) by mails.dpdk.org (Postfix) with ESMTP id A943640151; Thu, 23 Oct 2025 15:50:27 +0200 (CEST) Received: from mail-pj1-f98.google.com (mail-pj1-f98.google.com [209.85.216.98]) by mails.dpdk.org (Postfix) with ESMTP id 434B340151 for ; Thu, 23 Oct 2025 15:50:27 +0200 (CEST) Received: by mail-pj1-f98.google.com with SMTP id 98e67ed59e1d1-33be037cf73so969239a91.2 for ; Thu, 23 Oct 2025 06:50:27 -0700 (PDT) DKIM-Signature: v=1; a=rsa-sha256; c=relaxed/relaxed; d=iol.unh.edu; s=unh-iol; t=1761227426; x=1761832226; darn=dpdk.org; h=references:in-reply-to:cc:to:from:subject:message-id:date:from:to :cc:subject:date:message-id:reply-to; bh=V/ILyhYa5opxvc0AcfgLQwNIcWshmfW2O07BdqEd3FE=; b=efBYwyZys3cNVeNzTAxB7nAPkejiI6p8zWcppC/9sP+v2tbN00zfKojG9gtWkwDAz6 2MATpm6GQarB9zmHVU/MlI+ieOU2sJDbbh4pwq8PRZxfyJbtt/79gYECPqcKrGJKwMAy +eWUQ2T31TBdaVbUne0T6OAOcCNSckgADAG4M= X-Google-DKIM-Signature: v=1; a=rsa-sha256; c=relaxed/relaxed; d=1e100.net; s=20230601; t=1761227426; x=1761832226; h=references:in-reply-to:cc:to:from:subject:message-id:date :x-gm-message-state:from:to:cc:subject:date:message-id:reply-to; bh=V/ILyhYa5opxvc0AcfgLQwNIcWshmfW2O07BdqEd3FE=; b=XZ3sf/fntqA/PL5ds/Zyl9SyzAYne2Bk/g5qLlLKyI3GT5xIdt5H8+axzOB9tGJdxE iYm3QPzP9oDccAiGcDer77ANMQoIQEIk9cnp17ANK8TroGolvj1vYU8KQzYLSGHiLtDV KWRdgoJjgTwkKQH1HxR2INM7psJlieGK2r3wh9KU4XUyIsrDSNtBRGPI3oqjur+JKLar +gZ4oyAiFEujmko3vFGVvOp28hpXuGE53VYN5MyDVE3SZy0r0Mx4yTtpH0XGSk2ImJnl eaEPuwJIOaT618kLW2RiFvs1Wiyb44qii1JryhXYthcf1soJeoeMOKa58Vv+c4+mPNQ2 IzZA== X-Gm-Message-State: AOJu0YwScj4ZA6S3j68tdL6peoQ6Prs912505Zp6VBjnxdZ0u9wz90+2 o7jO0hHPz6L53sGcPV+GepRTVyMQxzvpxzQYl4DnttMxwmgQcKgQzTQoDvoKA9yoZf6eio1+q9B 295G58fucBbhVBmYZKbiGp0UZAaOBbHUgmOZvFu+bsdpn X-Gm-Gg: ASbGncujyJ8tk5agZxsVxHtVGyviNmysiX4m5kQqwLWobmXu05tK0M59iM+gZVEkjcD FWgV9XdXd8dPLrlEtZkmbwGbmLO4wtiBpKyHs8Cnrm3AHgfnp9CJbWdJLTEEKsf0O77vgt4uFpa 3yJk+NpX8ehl2RY0NiKlA+vTOwYMZ6IXutvMxgk6dmxCh/BKKZOsRFL3Fg6IIavTv5HpEL+yqVJ kd7cJvDpFwlEhD1u2+IEYy3TcFwLFB7FiRCMISb6mdXLTnd09dpizpXETX+L/7sLRYRHBUlNH4t hbW44nMzT9AskbT7Dfo0ro/NZ4de3tUgz9el2Fhzjc+xls9cy/OwxkGmyoakyefrJy5fSD7DGVb +8qdrUHryT1WEB9mEZtmJBxZVv6wp5Bg= X-Google-Smtp-Source: AGHT+IH0lgx2hlfqxWI4WyF+LkWmrx962lyWU5MruUi2+SbMTJY7en44FWJSzVjz5JSyF1B3H5tybur76lLp X-Received: by 2002:a17:903:1a0e:b0:279:a5bb:54e2 with SMTP id d9443c01a7336-290ca11fe47mr300825225ad.20.1761227426467; Thu, 23 Oct 2025 06:50:26 -0700 (PDT) Received: from postal.iol.unh.edu (postal.iol.unh.edu. [132.177.123.84]) by smtp-relay.gmail.com with ESMTPS id d9443c01a7336-2946dd97d08sm2395665ad.7.2025.10.23.06.50.26 (version=TLS1_2 cipher=ECDHE-ECDSA-AES128-GCM-SHA256 bits=128/128); Thu, 23 Oct 2025 06:50:26 -0700 (PDT) X-Relaying-Domain: iol.unh.edu Date: Thu, 23 Oct 2025 06:50:26 -0700 (PDT) Message-ID: <68fa32a2.170a0220.14ae78.be95SMTPIN_ADDED_MISSING@mx.google.com> Received: from [172.21.0.2] (unknown [172.18.0.240]) by postal.iol.unh.edu (Postfix) with ESMTP id B7F47604D420; Thu, 23 Oct 2025 09:50:25 -0400 (EDT) Subject: |SUCCESS| pw158027 [PATCH] [v6] mbuf: optimize segment prefree From: dpdklab@iol.unh.edu To: Test Report Cc: dpdk-test-reports@iol.unh.edu In-Reply-To: <20251023124858.318148-1-mb@smartsharesystems.com> References: <20251023124858.318148-1-mb@smartsharesystems.com> Content-Type: text/plain X-BeenThere: test-report@dpdk.org X-Mailman-Version: 2.1.29 Precedence: list List-Id: automatic DPDK test reports List-Unsubscribe: , List-Archive: List-Post: List-Help: List-Subscribe: , Errors-To: test-report-bounces@dpdk.org Test-Label: iol-compile-amd64-testing Test-Status: SUCCESS http://dpdk.org/patch/158027 _Testing PASS_ Submitter: Morten Brorup Date: Thursday, October 23 2025 12:48:58 DPDK git baseline: Repo:dpdk Branch: master CommitID:2863cbd9ee6dabee2b183382d298f4054ba3e8a2 158027 --> testing pass Upstream job id: Windows-Compile-DPDK-VS#7296 Test environment and result as below: +---------------------+--------------------+-------------------+ | Environment | dpdk_meson_compile | dpdk_msvc_compile | +=====================+====================+===================+ | FreeBSD 14.2 | PASS | SKIPPED | +---------------------+--------------------+-------------------+ | Ubuntu 20.04 | PASS | SKIPPED | +---------------------+--------------------+-------------------+ | Windows Server 2022 | SKIPPED | PASS | +---------------------+--------------------+-------------------+ FreeBSD 14.2 Kernel: 14.2-RELEASE Compiler: clang 18.1.6 Ubuntu 20.04 Kernel: 4.19 Compiler: gcc gcc (Ubuntu 9.4.0-1ubuntu1~20.04.2) 9.4.0 Windows Server 2022 Kernel: 10.0.20348.2031 Compiler: clang 15.0.7, gcc 14.1.0 (MinGW), and MSVC VS 19.39.33521 To view detailed results, visit: https://lab.dpdk.org/results/dashboard/patchsets/34360/ UNH-IOL DPDK Community Lab To manage your email subscriptions, visit: https://lab.dpdk.org/results/dashboard/preferences/subscriptions/