From mboxrd@z Thu Jan 1 00:00:00 1970 Return-Path: Received: from mails.dpdk.org (mails.dpdk.org [217.70.189.124]) by inbox.dpdk.org (Postfix) with ESMTP id 0AC11489B3 for ; Thu, 23 Oct 2025 15:52:43 +0200 (CEST) Received: from mails.dpdk.org (localhost [127.0.0.1]) by mails.dpdk.org (Postfix) with ESMTP id DD1C540151; Thu, 23 Oct 2025 15:52:42 +0200 (CEST) Received: from mail-io1-f97.google.com (mail-io1-f97.google.com [209.85.166.97]) by mails.dpdk.org (Postfix) with ESMTP id 5ADF340151 for ; Thu, 23 Oct 2025 15:52:42 +0200 (CEST) Received: by mail-io1-f97.google.com with SMTP id ca18e2360f4ac-940276d224dso86574739f.1 for ; Thu, 23 Oct 2025 06:52:42 -0700 (PDT) DKIM-Signature: v=1; a=rsa-sha256; c=relaxed/relaxed; d=iol.unh.edu; s=unh-iol; t=1761227561; x=1761832361; darn=dpdk.org; h=cc:to:from:subject:message-id:date:from:to:cc:subject:date :message-id:reply-to; bh=KS4pQFv7MP6G0RkiJ6cAeYVjw5Stk6sq0Mi3RLJvSJY=; b=L/S334m9im+cuDQTeOw9YhyimdxtJ7Indkb91Qt/k0VMuFXh6zuC6k6Xaaxrox7AX/ kZQbOh3qzya4SaAXyH9EP6j5+o9e/K/VXl2vXWBocM49PhAK9zkVDvpPA2XPsDkeyNGr 0bvUYQUfu1EIt0HeumZaNZaLPlGOLQCsvhpIk= X-Google-DKIM-Signature: v=1; a=rsa-sha256; c=relaxed/relaxed; d=1e100.net; s=20230601; t=1761227561; x=1761832361; h=cc:to:from:subject:message-id:date:x-gm-message-state:from:to:cc :subject:date:message-id:reply-to; bh=KS4pQFv7MP6G0RkiJ6cAeYVjw5Stk6sq0Mi3RLJvSJY=; b=Epx8rNIzcQATGiV6iJTOHPzzQZwjsDjduaGbeXnkobxSL2GsdUAuM7NfUuzxGsyThZ euPbr75rVsEsMPiCLNOvZPGFJZgHykNFtGXXLqns/rO87CaumuGGAnZ1K0LsiXozraZf kdtkUah+i+GhfpV8jiPTRIFDGSZK+OSs09zc2pjpNimSaVNt8vYCHgmEbVhZmKrx1ozr 4mqDb8pggBKaMiHn+RjToop3DmGxR3e57Uz5o/iLvJk74FdmINEllOQ92VwfXVl8KfNc J3ZbO2/zNOsL0mUpi9CXamXCZtoT5WYdLVsNfpg0/oRryYyWrMWTITTuq+UQQN3EIzqR jZiQ== X-Gm-Message-State: AOJu0Yz/6eVqDabNqYPpurO0uMl7ioyV6eZgqw7RiAFy1qvigJQIcuLT XVLO/bzYHHLJA2sMZUUKZoQEQ+vqx4bYLaIb7JnFwmrW+UCWxqupQoFmZlDbZIFYqPSkonO1Dr6 kWr/g82Pcg0pWpFC4Douj1GIqpb+OXy7r7fvJ X-Gm-Gg: ASbGncsHlh7oKaKWHNVFAekPOMAXJi0/Dj0Tr6ML55j10XOh2J0u1598GSHX7ttp1st HEKL8ESXaDg3SA8rAEARLlQGmMeq9DYe+ASQaokrB8qz1T3J7yzMjWQipHneQtxQbnAsMDaanTZ Gp8yJ/z8kVKCcsSW6AYEwOw7/DiyKyGesgyBK+iTGjPcTUQFloxpoJf4AeyagIqn2XyFNq2B3/q qZ1GYBIzYRS95GALUDAFc/8MHOXA78qDXoYhJ6WaK0q5+l83s3vH4z1Sj85qjBc87UdECqPKPlI pcAbDiePg31R8XJl7GS0cB7g2LQquI61jXxwJtTahCsWc6nSsVPRyx/CmxrJzEcZ3+/1gwAd5t9 49TNsHq4nXjLayD20sSQbQs+1EEC+Xbk= X-Google-Smtp-Source: AGHT+IFSZGzRscTJHTAhjG7wnfd4pykkRKLdESVHMK/5LqJIwryL7LZYIW1ka5BIBMRXoAwv0BViomdz3SU6 X-Received: by 2002:a05:6602:3413:b0:93e:7d2b:8c4a with SMTP id ca18e2360f4ac-93e7d2b8db4mr3569719039f.15.1761227561598; Thu, 23 Oct 2025 06:52:41 -0700 (PDT) Received: from postal.iol.unh.edu (postal.iol.unh.edu. [132.177.123.84]) by smtp-relay.gmail.com with ESMTPS id 8926c6da1cb9f-5abb75fd806sm158726173.31.2025.10.23.06.52.41 (version=TLS1_2 cipher=ECDHE-ECDSA-AES128-GCM-SHA256 bits=128/128); Thu, 23 Oct 2025 06:52:41 -0700 (PDT) X-Relaying-Domain: iol.unh.edu Date: Thu, 23 Oct 2025 06:52:41 -0700 (PDT) Message-ID: <68fa3329.050a0220.2c6caa.7a71SMTPIN_ADDED_MISSING@mx.google.com> Received: from [172.21.0.2] (unknown [172.18.0.240]) by postal.iol.unh.edu (Postfix) with ESMTP id BF8A6604D420; Thu, 23 Oct 2025 09:52:40 -0400 (EDT) Subject: |SUCCESS| [GIT MASTER] b287e404643aeab5bb5db084c142789df187844e From: dpdklab@iol.unh.edu To: Test Report Cc: dpdk-test-reports@iol.unh.edu, Xueming Li , Christian Ehrhardt , Kevin Traynor , Luca Boccassi Content-Type: text/plain X-BeenThere: test-report@dpdk.org X-Mailman-Version: 2.1.29 Precedence: list List-Id: automatic DPDK test reports List-Unsubscribe: , List-Archive: List-Post: List-Help: List-Subscribe: , Errors-To: test-report-bounces@dpdk.org _Testing PASS_ Branch: tags/v24.11 b287e404643aeab5bb5db084c142789df187844e --> testing pass Upstream job id: Generic-Unit-Test-DPDK#384331 Test environment and result as below: +------------------------------+--------------+---------------------------+------------------------------+----------------+ | Environment | lpm_autotest | cryptodev_sw_zuc_autotest | cryptodev_sw_snow3g_autotest | dpdk_unit_test | +==============================+==============+===========================+==============================+================+ | Ubuntu 20.04 | PASS | SKIPPED | SKIPPED | PASS | +------------------------------+--------------+---------------------------+------------------------------+----------------+ | Debian 12 (arm) | SKIPPED | PASS | PASS | SKIPPED | +------------------------------+--------------+---------------------------+------------------------------+----------------+ | Fedora Linux 41 | SKIPPED | SKIPPED | SKIPPED | PASS | +------------------------------+--------------+---------------------------+------------------------------+----------------+ | CentOS Stream 10 | SKIPPED | SKIPPED | SKIPPED | PASS | +------------------------------+--------------+---------------------------+------------------------------+----------------+ | CentOS Stream 9 | SKIPPED | SKIPPED | SKIPPED | PASS | +------------------------------+--------------+---------------------------+------------------------------+----------------+ | Ubuntu 24.04 | SKIPPED | SKIPPED | SKIPPED | PASS | +------------------------------+--------------+---------------------------+------------------------------+----------------+ | Ubuntu 22.04 | SKIPPED | SKIPPED | SKIPPED | PASS | +------------------------------+--------------+---------------------------+------------------------------+----------------+ | Debian GNU/Linux 12 | SKIPPED | SKIPPED | SKIPPED | PASS | +------------------------------+--------------+---------------------------+------------------------------+----------------+ | Fedora Linux 42 | SKIPPED | SKIPPED | SKIPPED | PASS | +------------------------------+--------------+---------------------------+------------------------------+----------------+ | Fedora Linux 40 | SKIPPED | SKIPPED | SKIPPED | PASS | +------------------------------+--------------+---------------------------+------------------------------+----------------+ | Red Hat Enterprise Linux 9.5 | SKIPPED | SKIPPED | SKIPPED | PASS | +------------------------------+--------------+---------------------------+------------------------------+----------------+ Ubuntu 20.04 Kernel: 5.4 Compiler: gcc gcc (Ubuntu 9.4.0-1ubuntu1~20.04.2) 9.4.0 Debian 12 (arm) Kernel: Depends on container host Compiler: gcc (Debian 12.2.0-14) 12.2.0 Fedora Linux 41 Kernel: 5.4 Compiler: clang gcc (GCC) 14.3.1 20250523 (Red Hat 14.3.1-1) CentOS Stream 10 Kernel: 5.4 Compiler: gcc gcc (GCC) 14.2.1 20250110 (Red Hat 14.2.1-8) CentOS Stream 9 Kernel: 5.4 Compiler: gcc gcc (GCC) 11.5.0 20240719 (Red Hat 11.5.0-11) Ubuntu 24.04 Kernel: 5.4 Compiler: gcc gcc (Ubuntu 13.3.0-6ubuntu2~24.04) 13.3.0 Ubuntu 22.04 Kernel: 5.4 Compiler: gcc gcc (Ubuntu 11.4.0-1ubuntu1~22.04) 11.4.0 Debian GNU/Linux 12 Kernel: 5.4 Compiler: gcc gcc (Debian 12.2.0-14+deb12u1) 12.2.0 Fedora Linux 42 Kernel: 5.4 Compiler: gcc gcc (GCC) 15.2.1 20250808 (Red Hat 15.2.1-1) Fedora Linux 40 Kernel: 5.4 Compiler: gcc gcc (GCC) 14.2.1 20240912 (Red Hat 14.2.1-3) Red Hat Enterprise Linux 9.5 Kernel: 5.4 Compiler: gcc gcc (GCC) 11.5.0 20240719 (Red Hat 11.5.0-2) To view detailed results, visit: https://lab.dpdk.org/results/dashboard/tarballs/35309/ UNH-IOL DPDK Community Lab To manage your email subscriptions, visit: https://lab.dpdk.org/results/dashboard/preferences/subscriptions/