From mboxrd@z Thu Jan 1 00:00:00 1970 Return-Path: Received: from mails.dpdk.org (mails.dpdk.org [217.70.189.124]) by inbox.dpdk.org (Postfix) with ESMTP id 14D06489B4 for ; Thu, 23 Oct 2025 16:03:14 +0200 (CEST) Received: from mails.dpdk.org (localhost [127.0.0.1]) by mails.dpdk.org (Postfix) with ESMTP id 0F5B540151; Thu, 23 Oct 2025 16:03:14 +0200 (CEST) Received: from mail-qt1-f226.google.com (mail-qt1-f226.google.com [209.85.160.226]) by mails.dpdk.org (Postfix) with ESMTP id B0B7F40151 for ; Thu, 23 Oct 2025 16:03:12 +0200 (CEST) Received: by mail-qt1-f226.google.com with SMTP id d75a77b69052e-4e89e689ec7so5361501cf.2 for ; Thu, 23 Oct 2025 07:03:12 -0700 (PDT) DKIM-Signature: v=1; a=rsa-sha256; c=relaxed/relaxed; d=iol.unh.edu; s=unh-iol; t=1761228192; x=1761832992; darn=dpdk.org; h=references:in-reply-to:cc:to:from:subject:message-id:date:from:to :cc:subject:date:message-id:reply-to; bh=H9fFQ9BxjyyzlBoj0xfDaJ2ZhlgBIokmvj4f3H0keGU=; b=Kd4czNYW/6uHfB4b4blgmyBqyelZkGL0qI8XZpN7m/ZGIffBkOcff2z5yd6jeR1ONQ oY7GlFxX+FUL0FVQP1xYjCZu2tC1k1wZ38FmUNfHRuVHrH92y5Ba0JwC+eZX7wFGOYTP Jpm1Ujq5ACNqmfG2iqRmjrawuvjPd/nN0QL+Q= X-Google-DKIM-Signature: v=1; a=rsa-sha256; c=relaxed/relaxed; d=1e100.net; s=20230601; t=1761228192; x=1761832992; h=references:in-reply-to:cc:to:from:subject:message-id:date :x-gm-message-state:from:to:cc:subject:date:message-id:reply-to; bh=H9fFQ9BxjyyzlBoj0xfDaJ2ZhlgBIokmvj4f3H0keGU=; b=HnD3/ZC0iygfeWmJLvnDo0I+DhmG6tXzbI1lfSQ1VYDwe3HVcpD9Zvf4ysdrfJRlv2 r7hz/SZlDW4LGmBK9000R2Vem/UI6j56tkTajGeyUZZHe7w2PbD6uG39tUeXv/qfsB6j tQxrLMI3O4+iqlahn2mP6Bj5nHsx4xM8t/9n7+ZP7+ScfDlx0nSf9vx9Jnh2BgAu2yIc 7gGFPL/87PHno5VFK/dxdAklrsYESqE44j8tJ7JZxWHenvQB7Cf4i+PEkmF1M1GbS18V ljDwFUOUxzfsI7okQ4b9IUmaC0YvWJpq930mm99Ho7rpdJvo8yeKnJoL36Feu9i1jDnA BgWQ== X-Gm-Message-State: AOJu0YwSDuYy08DxMXsaSnGhX0YBLJoGgAaH+5GIGIE5QNY5/rkoHtGS ZXk6YOfs5I8XROyYQ2KlpTv9WFRsrbk8Wc2ZFX8avHWXD9G6FlcU6/PicsKnDbXA8mkqnRDzhPf /ynyihpalCCMeVZWAITy6d8GjOE0umIkrTwCCY1BY8oDC X-Gm-Gg: ASbGncu6Q9EKTSXhflAIT6wssWz+GqsuH0CqwDMOr21vtARmddJ9fW4k54XTPtLXoTv m26JknmLeel1OwN/VFooY0A32a2n+O6bhlqcIaakxAogoUjysaepfmluCUH69rbrew4wCHstZs3 MIJw6WG8+Y6UcsCfxeqgfNRt+1AolZ2s6atGBONPv81E4IkXFVI/81053/yskcsVID64WvWoRJG 1WlbCnsd/KSrGP22Jq38BTT7OXjq0szgMIxxXjig1udAlZXp/Y77fqGvhDU0yloAn22zgzFml2C P2mFq5E99DeaUkJDeAFYPBv5NnhovxcsxgO26LQVYMmHGdFh1xTgYX5nSuXRsQuzlf94bxFW0UO USEkW0kRBo3zkuPoOrs9rHSL2zTXZWo4= X-Google-Smtp-Source: AGHT+IFhocNX0xgmhN/NnwAmlEfGXb82Ygl17gwAj1Gux+fZ4k2fJP+AEpd0w/+2eGjQLvVY24S592S7SIxC X-Received: by 2002:ac8:7d41:0:b0:4e8:ab1b:90a9 with SMTP id d75a77b69052e-4e8ab1ba359mr227296921cf.48.1761228190446; Thu, 23 Oct 2025 07:03:10 -0700 (PDT) Received: from postal.iol.unh.edu (postal.iol.unh.edu. [132.177.123.84]) by smtp-relay.gmail.com with ESMTPS id d75a77b69052e-4eb80838bb9sm1580711cf.11.2025.10.23.07.03.10 (version=TLS1_2 cipher=ECDHE-ECDSA-AES128-GCM-SHA256 bits=128/128); Thu, 23 Oct 2025 07:03:10 -0700 (PDT) X-Relaying-Domain: iol.unh.edu Date: Thu, 23 Oct 2025 07:03:10 -0700 (PDT) Message-ID: <68fa359e.c80a0220.37eda3.77ffSMTPIN_ADDED_MISSING@mx.google.com> Received: from [172.21.0.2] (unknown [172.18.0.240]) by postal.iol.unh.edu (Postfix) with ESMTP id 248D6604D420; Thu, 23 Oct 2025 10:03:10 -0400 (EDT) Subject: |SUCCESS| pw158024-158026 [PATCH] [v9,3/3] dts: add Rx Tx offload te From: dpdklab@iol.unh.edu To: Test Report Cc: dpdk-test-reports@iol.unh.edu In-Reply-To: <20251023123223.56924-4-abailey@iol.unh.edu> References: <20251023123223.56924-4-abailey@iol.unh.edu> Content-Type: text/plain X-BeenThere: test-report@dpdk.org X-Mailman-Version: 2.1.29 Precedence: list List-Id: automatic DPDK test reports List-Unsubscribe: , List-Archive: List-Post: List-Help: List-Subscribe: , Errors-To: test-report-bounces@dpdk.org Test-Label: iol-compile-amd64-testing Test-Status: SUCCESS http://dpdk.org/patch/158026 _Testing PASS_ Submitter: Andrew Bailey Date: Thursday, October 23 2025 12:32:23 DPDK git baseline: Repo:dpdk-next-dts Branch: master CommitID:c1abcee5a9656fb4890b733e6051aa604c60f146 158024-158026 --> testing pass Upstream job id: Windows-Compile-DPDK-Native#31840 Test environment and result as below: +---------------------+--------------------+-------------------+-------------------------+----------------------+ | Environment | dpdk_meson_compile | dpdk_msvc_compile | dpdk_llvm_clang_compile | dpdk_mingw64_compile | +=====================+====================+===================+=========================+======================+ | Ubuntu 20.04 | PASS | SKIPPED | SKIPPED | SKIPPED | +---------------------+--------------------+-------------------+-------------------------+----------------------+ | FreeBSD 14.2 | PASS | SKIPPED | SKIPPED | SKIPPED | +---------------------+--------------------+-------------------+-------------------------+----------------------+ | Windows Server 2022 | SKIPPED | PASS | PASS | PASS | +---------------------+--------------------+-------------------+-------------------------+----------------------+ Ubuntu 20.04 Kernel: 4.19 Compiler: gcc gcc (Ubuntu 9.4.0-1ubuntu1~20.04.2) 9.4.0 FreeBSD 14.2 Kernel: 14.2-RELEASE Compiler: clang 18.1.6 Windows Server 2022 Kernel: 10.0.20348.2031 Compiler: clang 15.0.7, gcc 14.1.0 (MinGW), and MSVC VS 19.39.33521 To view detailed results, visit: https://lab.dpdk.org/results/dashboard/patchsets/34359/ UNH-IOL DPDK Community Lab To manage your email subscriptions, visit: https://lab.dpdk.org/results/dashboard/preferences/subscriptions/