From mboxrd@z Thu Jan 1 00:00:00 1970 Return-Path: Received: from mails.dpdk.org (mails.dpdk.org [217.70.189.124]) by inbox.dpdk.org (Postfix) with ESMTP id 6F371489B4 for ; Thu, 23 Oct 2025 16:06:36 +0200 (CEST) Received: from mails.dpdk.org (localhost [127.0.0.1]) by mails.dpdk.org (Postfix) with ESMTP id 56F1340151; Thu, 23 Oct 2025 16:06:36 +0200 (CEST) Received: from mail-pf1-f227.google.com (mail-pf1-f227.google.com [209.85.210.227]) by mails.dpdk.org (Postfix) with ESMTP id 36E5840151 for ; Thu, 23 Oct 2025 16:06:35 +0200 (CEST) Received: by mail-pf1-f227.google.com with SMTP id d2e1a72fcca58-793021f348fso822202b3a.1 for ; Thu, 23 Oct 2025 07:06:35 -0700 (PDT) DKIM-Signature: v=1; a=rsa-sha256; c=relaxed/relaxed; d=iol.unh.edu; s=unh-iol; t=1761228394; x=1761833194; darn=dpdk.org; h=references:in-reply-to:cc:to:from:subject:message-id:date:from:to :cc:subject:date:message-id:reply-to; bh=I9G58NH76NFqH9O9CX1xwi359j1tESy/8U9l11YDnf4=; b=WaVAMe5hIaIwKJFaLfxl+WxNrZyeFRNp1LV2zIT+DizYrHdgBzPYsuZe7s87KVMmDf 9iU8/ZuAHxxQ8jEPdR9+sI7T7GTs+W0lC0BRbSACZJWZqddwzeItKo96hmrmohkv3U85 GaM7Ad1NgG61T8D6zBpLsfMCm4Wfa1K0pxiSI= X-Google-DKIM-Signature: v=1; a=rsa-sha256; c=relaxed/relaxed; d=1e100.net; s=20230601; t=1761228394; x=1761833194; h=references:in-reply-to:cc:to:from:subject:message-id:date :x-gm-message-state:from:to:cc:subject:date:message-id:reply-to; bh=I9G58NH76NFqH9O9CX1xwi359j1tESy/8U9l11YDnf4=; b=UWM53Q8J1tVoOykjZSGUugzT0r2KNI3TSnACQmoLpgtIg7On48tSwYkfUJMyvG3bm3 B9MJxYV0CmzOEzaspdYM+F2w7uUWdp6SuG3beULhc3YruRiibRj0ZvzBSUAlY5z9hWfn ZgixsJnbe708IiixIvQjavX5Sz/WXrHtozxDa7ypLfpmE3sseY+QrBCQA9z5dMiS7OvQ NOCCcaYpU0isTqpsxzsfmUdvZxN7YILr47/ee7ON1UbVGKj0s6fttFUmK/GDPbxWyIOj rKdG4NjesVuiQ+DX5poyKvRoWz054E4YuD9cjNRMPZ8bHgCALiMoKRZCunptrLAjIeix Z1NQ== X-Gm-Message-State: AOJu0Yzg93bxrSQqWqJvw8G1rbxztu/v/3OOTMWjJOlspkpl8kpAJvp/ 3Ujvoi+otZLQJnlkwNjKAJaTpX6IvEf9Xt7DPrXpzUmprD6yldFYxPP2c4yIdUrnW68Toa2Ejdt zu8jbo2WM+DP8iM3yN+lJtQ2mt4j9ELdKPySNavtiVkss X-Gm-Gg: ASbGncu3Cge5d2vMRRGWnRLdCM5s+sKHbMVKaEgI2j/9v5QamfL9t0aScqZJGjI+grm WzrHlDCmSCtJooVUqO/tbs579AaGJjeR70x/tGhEQvHOOZWw0OBIjuvcnn/8swxE987CTLmv31+ 2cSCNELRSVVVUxbVMkefiLpRykX6hs23OP0UzCC6UqHAA9GBYkiAmu5YOibbOw+x501PsI80NAQ ansbEcDMfiI6Kg4TzvmJ4z/Yr4pmdtYWajcYsEtza+z058SgfnixXIKoOjzD8v3hEzJp/QKXnzq htRoRGHFS5D++UR7DTRKcd7bdb8pdsCEsBuIcyBlqWDvU4OCqsGMOoVw3jNjJSBD+4qBNQOXQW6 WaZyhHcXtelLxC+lK7X2hEYfH1mcSnoE= X-Google-Smtp-Source: AGHT+IHtbXraCfqE5TL4kAxjfKtkTTfFEtqqUdOBDYlhVnCLooCxFHsqbVskksib+lO6DdO6p9V5oZSJ5n9u X-Received: by 2002:a05:6a00:124c:b0:7a2:74e5:a4a4 with SMTP id d2e1a72fcca58-7a274e5bcf9mr3227401b3a.19.1761228392911; Thu, 23 Oct 2025 07:06:32 -0700 (PDT) Received: from postal.iol.unh.edu (postal.iol.unh.edu. [132.177.123.84]) by smtp-relay.gmail.com with ESMTPS id d2e1a72fcca58-7a274b4285dsm172016b3a.11.2025.10.23.07.06.32 (version=TLS1_2 cipher=ECDHE-ECDSA-AES128-GCM-SHA256 bits=128/128); Thu, 23 Oct 2025 07:06:32 -0700 (PDT) X-Relaying-Domain: iol.unh.edu Date: Thu, 23 Oct 2025 07:06:32 -0700 (PDT) Message-ID: <68fa3668.050a0220.31c268.87e3SMTPIN_ADDED_MISSING@mx.google.com> Received: from [172.21.0.2] (unknown [172.18.0.240]) by postal.iol.unh.edu (Postfix) with ESMTP id 27D38604D420; Thu, 23 Oct 2025 10:06:32 -0400 (EDT) Subject: |SUCCESS| pw158027 [PATCH] [v6] mbuf: optimize segment prefree From: dpdklab@iol.unh.edu To: Test Report Cc: dpdk-test-reports@iol.unh.edu In-Reply-To: <20251023124858.318148-1-mb@smartsharesystems.com> References: <20251023124858.318148-1-mb@smartsharesystems.com> Content-Type: text/plain X-BeenThere: test-report@dpdk.org X-Mailman-Version: 2.1.29 Precedence: list List-Id: automatic DPDK test reports List-Unsubscribe: , List-Archive: List-Post: List-Help: List-Subscribe: , Errors-To: test-report-bounces@dpdk.org Test-Label: iol-compile-amd64-testing Test-Status: SUCCESS http://dpdk.org/patch/158027 _Testing PASS_ Submitter: Morten Brorup Date: Thursday, October 23 2025 12:48:58 DPDK git baseline: Repo:dpdk Branch: master CommitID:2863cbd9ee6dabee2b183382d298f4054ba3e8a2 158027 --> testing pass Upstream job id: Windows-Compile-DPDK-Native#31841 Test environment and result as below: +---------------------+--------------------+-------------------+-------------------------+ | Environment | dpdk_meson_compile | dpdk_msvc_compile | dpdk_llvm_clang_compile | +=====================+====================+===================+=========================+ | FreeBSD 14.2 | PASS | SKIPPED | SKIPPED | +---------------------+--------------------+-------------------+-------------------------+ | Ubuntu 20.04 | PASS | SKIPPED | SKIPPED | +---------------------+--------------------+-------------------+-------------------------+ | Windows Server 2022 | SKIPPED | PASS | PASS | +---------------------+--------------------+-------------------+-------------------------+ FreeBSD 14.2 Kernel: 14.2-RELEASE Compiler: clang 18.1.6 Ubuntu 20.04 Kernel: 4.19 Compiler: gcc gcc (Ubuntu 9.4.0-1ubuntu1~20.04.2) 9.4.0 Windows Server 2022 Kernel: 10.0.20348.2031 Compiler: clang 15.0.7, gcc 14.1.0 (MinGW), and MSVC VS 19.39.33521 To view detailed results, visit: https://lab.dpdk.org/results/dashboard/patchsets/34360/ UNH-IOL DPDK Community Lab To manage your email subscriptions, visit: https://lab.dpdk.org/results/dashboard/preferences/subscriptions/