From mboxrd@z Thu Jan 1 00:00:00 1970 Return-Path: Received: from mails.dpdk.org (mails.dpdk.org [217.70.189.124]) by inbox.dpdk.org (Postfix) with ESMTP id F07D2489B4 for ; Thu, 23 Oct 2025 16:11:30 +0200 (CEST) Received: from mails.dpdk.org (localhost [127.0.0.1]) by mails.dpdk.org (Postfix) with ESMTP id D1AD740151; Thu, 23 Oct 2025 16:11:30 +0200 (CEST) Received: from mail-vk1-f227.google.com (mail-vk1-f227.google.com [209.85.221.227]) by mails.dpdk.org (Postfix) with ESMTP id AE48840151 for ; Thu, 23 Oct 2025 16:11:29 +0200 (CEST) Received: by mail-vk1-f227.google.com with SMTP id 71dfb90a1353d-54a86cc950dso134524e0c.2 for ; Thu, 23 Oct 2025 07:11:29 -0700 (PDT) DKIM-Signature: v=1; a=rsa-sha256; c=relaxed/relaxed; d=iol.unh.edu; s=unh-iol; t=1761228689; x=1761833489; darn=dpdk.org; h=references:in-reply-to:cc:to:from:subject:message-id:date:from:to :cc:subject:date:message-id:reply-to; bh=uBQOPb4HeOpS3dnhT77F3OyO3sxiD9ub/FGxU5mUxlU=; b=eVteyuV0d1D4LqZiousJwSfDF8OS+05LNQHoIE4OuDIby/Gdo0m+7wIWGTGhaP5iag kX5EvoRBtYkpyCq6QfzXuOqPxWHD1EWBmUCHj5OmJi/Lm9MhTLS/FtjPRF1fI7Mf8oXd mQCQaT40kSP0MqwBNNMPjukyUIHmJ3jumJSRk= X-Google-DKIM-Signature: v=1; a=rsa-sha256; c=relaxed/relaxed; d=1e100.net; s=20230601; t=1761228689; x=1761833489; h=references:in-reply-to:cc:to:from:subject:message-id:date :x-gm-message-state:from:to:cc:subject:date:message-id:reply-to; bh=uBQOPb4HeOpS3dnhT77F3OyO3sxiD9ub/FGxU5mUxlU=; b=nGai4feQvKqYQ42kFVvJsVOcQYfC7Ld1efmbvJPk4/yGEtCbDkXAM5HwRcQW7Z8cOT 6XMGF6uSkc3StlIJchYFtncwHnX7jxRsxiQmCBlXZZqXKN/C6RUoAU7/KGjgxCDXXNde WDbJ53hoWl06qlYcCiW/kEHquOzVUkTErWzOZHmwykyyxAEDcHzuCYCIMN2gU84UentM cFsa4mPERrvd3MW2yUrcB8hcxAJPSONYFiBiBJLPm3Wn7CafMWzuL2AQWXlVEKdS1IS8 d2AtJB1W+uM+ElIOBUpy3tJygML88amzORTedXQuAf9nvloLpNTh+wZAMzypGBVbjb4J 6u1A== X-Gm-Message-State: AOJu0Yzmlo6pnG2IrV3IuEtrk9U8C1pNwYcxcojXfsUAEODDSjApKOSX A37BSdzpc0eRz4wGraCvSJP0dlhXkD1FCts+/46DHtje5u2J7eS6C3MpzS/5kkjlX5NuJUuSP11 UzE9KdLO6BgordRXOwptf3CtwXfAYAzK7Gltw1xC5kCZn X-Gm-Gg: ASbGncvGjLPLi1RtiDDMUYGyOn3Uscadn5/eAphqkHKliW5CTZIDuvhTakNVsB7eR7c gCZbLzqGK+1Cri4HFIuyIU7TG+WLrerAxGxtCgXYUBTp7oMUu3OP1KokgHVD3MzWqs4IfEMD0hz PrwQSzzkDBj4D4XFb6c4Okvysdekj/V1opZ/q5qaYLHnGujlod0hVm39uZHcT4OqgmNHQ4ZeW8j gTE0u4RdQS1NbdIcPeEdI4eMKhsfuvuefelYopWdfPbp4RvFPys2Sc1jAseiPNIbItCEyF+OyVj qgo0j1BhGIJCDskX7vDCW756B8FlLjdNZze4I6YJoPyCMsRBEwDxFT4osKZorGRmvjkiE0wWGVf W9sNiJxcZ8+5r0rYHhz1CvLS6pB82sWo= X-Google-Smtp-Source: AGHT+IF7c6xoinU8/IapdK3JRxb0Hue6YrrmMY4BMq4xdYZ0D4FTLw074t2YntSoVsEQlaVvO1rCEGTFYTK8 X-Received: by 2002:a05:6122:91b:b0:54a:a5ac:5107 with SMTP id 71dfb90a1353d-5564ef83f79mr7765933e0c.15.1761228688951; Thu, 23 Oct 2025 07:11:28 -0700 (PDT) Received: from postal.iol.unh.edu (postal.iol.unh.edu. [132.177.123.84]) by smtp-relay.gmail.com with ESMTPS id 71dfb90a1353d-557bdb87acbsm176523e0c.7.2025.10.23.07.11.28 (version=TLS1_2 cipher=ECDHE-ECDSA-AES128-GCM-SHA256 bits=128/128); Thu, 23 Oct 2025 07:11:28 -0700 (PDT) X-Relaying-Domain: iol.unh.edu Date: Thu, 23 Oct 2025 07:11:28 -0700 (PDT) Message-ID: <68fa3790.050a0220.3cdee1.87dfSMTPIN_ADDED_MISSING@mx.google.com> Received: from [172.21.0.2] (unknown [172.18.0.240]) by postal.iol.unh.edu (Postfix) with ESMTP id 93667604D420; Thu, 23 Oct 2025 10:11:28 -0400 (EDT) Subject: |SUCCESS| pw158027 [PATCH] [v6] mbuf: optimize segment prefree From: dpdklab@iol.unh.edu To: Test Report Cc: dpdk-test-reports@iol.unh.edu In-Reply-To: <20251023124858.318148-1-mb@smartsharesystems.com> References: <20251023124858.318148-1-mb@smartsharesystems.com> Content-Type: text/plain X-BeenThere: test-report@dpdk.org X-Mailman-Version: 2.1.29 Precedence: list List-Id: automatic DPDK test reports List-Unsubscribe: , List-Archive: List-Post: List-Help: List-Subscribe: , Errors-To: test-report-bounces@dpdk.org Test-Label: iol-compile-amd64-testing Test-Status: SUCCESS http://dpdk.org/patch/158027 _Testing PASS_ Submitter: Morten Brorup Date: Thursday, October 23 2025 12:48:58 DPDK git baseline: Repo:dpdk Branch: master CommitID:2863cbd9ee6dabee2b183382d298f4054ba3e8a2 158027 --> testing pass Upstream job id: Windows-Compile-DPDK-Native#31842 Test environment and result as below: +---------------------+--------------------+-------------------+-------------------------+----------------------+ | Environment | dpdk_meson_compile | dpdk_msvc_compile | dpdk_llvm_clang_compile | dpdk_mingw64_compile | +=====================+====================+===================+=========================+======================+ | FreeBSD 14.2 | PASS | SKIPPED | SKIPPED | SKIPPED | +---------------------+--------------------+-------------------+-------------------------+----------------------+ | Ubuntu 20.04 | PASS | SKIPPED | SKIPPED | SKIPPED | +---------------------+--------------------+-------------------+-------------------------+----------------------+ | Windows Server 2022 | SKIPPED | PASS | PASS | PASS | +---------------------+--------------------+-------------------+-------------------------+----------------------+ FreeBSD 14.2 Kernel: 14.2-RELEASE Compiler: clang 18.1.6 Ubuntu 20.04 Kernel: 4.19 Compiler: gcc gcc (Ubuntu 9.4.0-1ubuntu1~20.04.2) 9.4.0 Windows Server 2022 Kernel: 10.0.20348.2031 Compiler: clang 15.0.7, gcc 14.1.0 (MinGW), and MSVC VS 19.39.33521 To view detailed results, visit: https://lab.dpdk.org/results/dashboard/patchsets/34360/ UNH-IOL DPDK Community Lab To manage your email subscriptions, visit: https://lab.dpdk.org/results/dashboard/preferences/subscriptions/