From mboxrd@z Thu Jan 1 00:00:00 1970 Return-Path: Received: from mails.dpdk.org (mails.dpdk.org [217.70.189.124]) by inbox.dpdk.org (Postfix) with ESMTP id 45613489B4 for ; Thu, 23 Oct 2025 16:14:38 +0200 (CEST) Received: from mails.dpdk.org (localhost [127.0.0.1]) by mails.dpdk.org (Postfix) with ESMTP id 249ED40151; Thu, 23 Oct 2025 16:14:38 +0200 (CEST) Received: from mail-ot1-f98.google.com (mail-ot1-f98.google.com [209.85.210.98]) by mails.dpdk.org (Postfix) with ESMTP id C83B840151 for ; Thu, 23 Oct 2025 16:14:36 +0200 (CEST) Received: by mail-ot1-f98.google.com with SMTP id 46e09a7af769-7c0e357ab51so797387a34.2 for ; Thu, 23 Oct 2025 07:14:36 -0700 (PDT) DKIM-Signature: v=1; a=rsa-sha256; c=relaxed/relaxed; d=iol.unh.edu; s=unh-iol; t=1761228876; x=1761833676; darn=dpdk.org; h=references:in-reply-to:cc:to:from:subject:message-id:date:from:to :cc:subject:date:message-id:reply-to; bh=ZLzjJQ/dqPSVp46Nmm+xwKV5K/OjNrjScLfFqcOUqWg=; b=OFE7XALH+uDt9bQDVjNS0kFaHZP07kIPIQWKIv5ovlSyZVONZVpvHMik8Yj/PvtB0P fz2eA8dZZWMar1qB0VVp3SbQ5oQ7EYOYsJ2VhHyGkjxoeHSJZLLcNBfOzG7FJrqhnp+R scW2Nj4nOtXx31xOh2YktHCEfV1u0zLWYulKQ= X-Google-DKIM-Signature: v=1; a=rsa-sha256; c=relaxed/relaxed; d=1e100.net; s=20230601; t=1761228876; x=1761833676; h=references:in-reply-to:cc:to:from:subject:message-id:date :x-gm-message-state:from:to:cc:subject:date:message-id:reply-to; bh=ZLzjJQ/dqPSVp46Nmm+xwKV5K/OjNrjScLfFqcOUqWg=; b=MKSm7TKcp0nBurS/L4FXL/id7xbyBFmM+msDm9CVL/qLxhyErOKN46ugCH7wPHxuQv 7wwu74vdT5iwlHin1oGVIKm6hPeBBXpVPC4zEkgDoycRL7sUg8FSEBDEtNEs0jDmN4z+ 6FFn8Keql/7HVXiEKv/T2wBxQFPT+cLpXOmzDZb3n5qhCx5JOqCRyi3Zptm21pyOw5m7 qaDaR8PMNiQBvNIyVgx2Je0dKNlbfJ7Etzz7eriPLyW6XYx0v9QvT17tYDB+4kLIz4C5 MkQ7t5zewh0sz0bZjoY4n0cJBGsJ0ywV5y4BB1fGUvvkP6fCSskd5c0mXa+XAJsEMH6A okDg== X-Gm-Message-State: AOJu0Yw6EBQi/4YUpOKt69lRF4o2cSyKSpf2K74CUwztSZY+ih7cJDEj KBeSQQlDfnEQzoYWOuXrb0/ly5mKucosRWj4M3C2AWKiDXrVCUWxdpztOSAp5kcL+xNDPorvEKj vRonG5Wz6q33MEAJOFLKUkTJNcc4uMxxdhaVaYAjBHqsE X-Gm-Gg: ASbGncvPWi4H8BMfikqStqe8DLzR4EM1Sjy3fctMu+nCNM3lrj04+lPH7kreavxcxSp lWfx9tFDkpmY6vLTpgc7bnPioCU3vOAgAXtqPqi9WXTXbHSDO2CkJDOIRkDLZb4nHS9ZlPq3HLz fMFG92W1cKa6urYp0Sxy91brz9tAIX/JKCMzbj7ys5VeJM7c7UO479gsuDZlznyQqkMygrwZ+9e KtKaQV1JSm0nIWQyfjPOmyJkgZQNr5T2aj3Xb54idCbG4ZjLu1MA/NS1zeNUcQS8UbYH7+/Y3Qf zG8MvtZB1dRBI/S4TRrwNv90nJWypBPXW7/YyYBpUpQcAy+KhgSx9xLT6LQ/ebxhTQIsGjA2r3t t0VP3EztNre31xAl2+LDMxvfcVGW5oIQ= X-Google-Smtp-Source: AGHT+IFXPyEGrDnZt/1Ux587IFGiD9rErp2e41RUEms3S5CZrtjAWiiolCCEAnCEvLqrPxNKYg93t/zRUKSF X-Received: by 2002:a05:6808:8416:b0:449:39e0:f3ce with SMTP id 5614622812f47-44939f0623emr3235705b6e.28.1761228875853; Thu, 23 Oct 2025 07:14:35 -0700 (PDT) Received: from postal.iol.unh.edu (postal.iol.unh.edu. [132.177.123.84]) by smtp-relay.gmail.com with ESMTPS id 006d021491bc7-654d7f95a61sm40580eaf.2.2025.10.23.07.14.35 (version=TLS1_2 cipher=ECDHE-ECDSA-AES128-GCM-SHA256 bits=128/128); Thu, 23 Oct 2025 07:14:35 -0700 (PDT) X-Relaying-Domain: iol.unh.edu Date: Thu, 23 Oct 2025 07:14:35 -0700 (PDT) Message-ID: <68fa384b.050a0220.100c40.2090SMTPIN_ADDED_MISSING@mx.google.com> Received: from [172.21.0.2] (unknown [172.18.0.240]) by postal.iol.unh.edu (Postfix) with ESMTP id 01C80604D420; Thu, 23 Oct 2025 10:14:34 -0400 (EDT) Subject: |WARNING| pw158011 [PATCH] [v3] net/vmxnet3: disable RSS for single From: dpdklab@iol.unh.edu To: Test Report Cc: dpdk-test-reports@iol.unh.edu, Stephen Hemminger In-Reply-To: <20251023083019.18792-1-amiyaranjan.mohakud@gmail.com> References: <20251023083019.18792-1-amiyaranjan.mohakud@gmail.com> Content-Type: text/plain X-BeenThere: test-report@dpdk.org X-Mailman-Version: 2.1.29 Precedence: list List-Id: automatic DPDK test reports List-Unsubscribe: , List-Archive: List-Post: List-Help: List-Subscribe: , Errors-To: test-report-bounces@dpdk.org Test-Label: iol-compile-amd64-testing Test-Status: WARNING http://dpdk.org/patch/158011 _Testing issues_ Submitter: Amiya Ranjan Mohakud Date: Thursday, October 23 2025 08:30:19 DPDK git baseline: Repo:dpdk-next-net Branch: master CommitID:4c4055bdd19f919795f83a01faae9fc267570d7f 158011 --> testing issues Upstream job id: Generic-DPDK-Compile-Meson#437036 Test environment and result as below: +---------------------+--------------------+-------------------+-------------------------+----------------------+-------------------+------------------+ | Environment | dpdk_meson_compile | dpdk_msvc_compile | dpdk_llvm_clang_compile | dpdk_mingw64_compile | dpdk_compile_spdk | dpdk_compile_ovs | +=====================+====================+===================+=========================+======================+===================+==================+ | Ubuntu 20.04 | PASS | SKIPPED | SKIPPED | SKIPPED | SKIPPED | SKIPPED | +---------------------+--------------------+-------------------+-------------------------+----------------------+-------------------+------------------+ | FreeBSD 14.2 | PASS | SKIPPED | SKIPPED | SKIPPED | SKIPPED | SKIPPED | +---------------------+--------------------+-------------------+-------------------------+----------------------+-------------------+------------------+ | CentOS Stream 9 | PASS | SKIPPED | SKIPPED | SKIPPED | WARN | SKIPPED | +---------------------+--------------------+-------------------+-------------------------+----------------------+-------------------+------------------+ | CentOS Stream 10 | PASS | SKIPPED | SKIPPED | SKIPPED | SKIPPED | SKIPPED | +---------------------+--------------------+-------------------+-------------------------+----------------------+-------------------+------------------+ | Debian GNU/Linux 12 | PASS | SKIPPED | SKIPPED | SKIPPED | WARN | SKIPPED | +---------------------+--------------------+-------------------+-------------------------+----------------------+-------------------+------------------+ | Fedora Linux 42 | PASS | SKIPPED | SKIPPED | SKIPPED | WARN | PASS | +---------------------+--------------------+-------------------+-------------------------+----------------------+-------------------+------------------+ | Windows Server 2022 | SKIPPED | PASS | PASS | PASS | SKIPPED | SKIPPED | +---------------------+--------------------+-------------------+-------------------------+----------------------+-------------------+------------------+ ==== 20 line log output for Fedora Linux 42 (dpdk_compile_spdk): ==== --- Failed to get log output --- ==== End log output ==== Ubuntu 20.04 Kernel: 4.19 Compiler: gcc gcc (Ubuntu 9.4.0-1ubuntu1~20.04.2) 9.4.0 FreeBSD 14.2 Kernel: 14.2-RELEASE Compiler: clang 18.1.6 CentOS Stream 9 Kernel: 5.15 Compiler: gcc gcc (GCC) 11.5.0 20240719 (Red Hat 11.5.0-11) CentOS Stream 10 Kernel: 5.15 Compiler: gcc gcc (GCC) 14.2.1 20250110 (Red Hat 14.2.1-8) Debian GNU/Linux 12 Kernel: 5.15 Compiler: gcc gcc (Debian 12.2.0-14+deb12u1) 12.2.0 Fedora Linux 42 Kernel: 5.15 Compiler: clang gcc (GCC) 15.2.1 20250808 (Red Hat 15.2.1-1) Windows Server 2022 Kernel: 10.0.20348.2031 Compiler: clang 15.0.7, gcc 14.1.0 (MinGW), and MSVC VS 19.39.33521 To view detailed results, visit: https://lab.dpdk.org/results/dashboard/patchsets/34355/ UNH-IOL DPDK Community Lab To manage your email subscriptions, visit: https://lab.dpdk.org/results/dashboard/preferences/subscriptions/