From mboxrd@z Thu Jan 1 00:00:00 1970 Return-Path: Received: from mails.dpdk.org (mails.dpdk.org [217.70.189.124]) by inbox.dpdk.org (Postfix) with ESMTP id 363D8489B4 for ; Thu, 23 Oct 2025 16:40:35 +0200 (CEST) Received: from mails.dpdk.org (localhost [127.0.0.1]) by mails.dpdk.org (Postfix) with ESMTP id 1238740151; Thu, 23 Oct 2025 16:40:35 +0200 (CEST) Received: from mail-pl1-f225.google.com (mail-pl1-f225.google.com [209.85.214.225]) by mails.dpdk.org (Postfix) with ESMTP id 9653040151 for ; Thu, 23 Oct 2025 16:40:33 +0200 (CEST) Received: by mail-pl1-f225.google.com with SMTP id d9443c01a7336-28e7cd6dbc0so12395095ad.0 for ; Thu, 23 Oct 2025 07:40:33 -0700 (PDT) DKIM-Signature: v=1; a=rsa-sha256; c=relaxed/relaxed; d=iol.unh.edu; s=unh-iol; t=1761230433; x=1761835233; darn=dpdk.org; h=references:in-reply-to:cc:to:from:subject:message-id:date:from:to :cc:subject:date:message-id:reply-to; bh=ghb2xKdtrssd8SpqVoNXlY19iLfCzahyfB8gTnPxyDc=; b=CtPhx0XiyIpYJ2uX4Fj4pSCvCBfhoSyy4/YWBB4HUP5T5lOTucHyGx2PEzqtMvn8ok S81fTonu6QIbcwhJnl/iCqSES1ldBdjmKnrzsEBI8+sK/w+AJGbYeGbyRl9hpPQdFnN9 hyLPb6nnyJAJqVvaaE1jOobtzg7NZ2/f5PvRw= X-Google-DKIM-Signature: v=1; a=rsa-sha256; c=relaxed/relaxed; d=1e100.net; s=20230601; t=1761230433; x=1761835233; h=references:in-reply-to:cc:to:from:subject:message-id:date :x-gm-message-state:from:to:cc:subject:date:message-id:reply-to; bh=ghb2xKdtrssd8SpqVoNXlY19iLfCzahyfB8gTnPxyDc=; b=cI1gR/K/zZa3rQu8HaCadeNdKUBZ1ddSTp6pgA96OxY8xIefMv/rTFp0PPdtGK79Mr yVyECEsvRHIluWf5FZbJQ/4WQ+LxIJWVQrqv6ftFtMux/5txWD9XBFnlaPCyF0FmNNvN qYrxftxfJRdHEEWDSQY6UCflz2pPhJ9zBQ5WKOxLMYQWdZRRPT7KeuwPJTOheY3qcZHa sTWrfoXL5KVTDqa+8KtinPG0HYgo5TSm0uI78dqCrrI7NK2no14i2trVlXcf8nbunJJ+ eSYjns6I3Vq6zpCdKqGB8yg+gpNvybpyQaxT0Dqyqkpll+MJcmjyKrNTZavtATvnRPXW rbsg== X-Gm-Message-State: AOJu0YyDVokbWb40tRjO/yG9tonw6k3fsNtbgL4qFw9fsXh4AaZ9WE9M G23EVaS84j4Ruoa8XmfjF7j59Jb7EPG8m/zl48GgLht6twEiWrTRS4bwRYbtmOx9ujkw8jSvFGb 5kPLqlI6+U7bXIf+Eltd9QFYeyQdBOBj9elcr2gmLWP1lDm3gThxauevNRxHw X-Gm-Gg: ASbGncvIlFLHUSVDdKxyxuaOcLuiCS7OoR5+pV7g2rKTvfXTvT8l0qEWSFDjUxRkURn rDsttUkPimi8Y6aUIfzsRQ0Fwn4JqYEIFKCzPJJCAgw8DOZrp1qzWLJsDSWA0tQ9FkX3q40/Yzz PaShzN8wKhTqvgDToUM/qDj5UiDHVoEQsJGjS0jXds23oBa6e1ZDbAFCDoIKhgq7bJJMpwoBl7p dBU9gzPKlBgRGd7m8jvnmjV7acA83t9561NVYZMgvbgxAfF7pG7WzJm1TzO3UQSv61YB48p9lrX RN6DLm/ye+ZVwdaM68Pu2mahjGYbPYbQSdK6NTtzx10USEggLDpKQWmz+0XlP3IrU3PgIGqofO0 ZjLRu1mPJ X-Google-Smtp-Source: AGHT+IF7YyX4eOlv5HOTxWmYyzoZXZJkoEg9lbFBM67hGtSMN28JehXfrzZPobTQ1T8bBIO1lruQfY+f3mT0 X-Received: by 2002:a17:903:138a:b0:290:26fb:2b91 with SMTP id d9443c01a7336-290c9bef53cmr307294885ad.0.1761230430778; Thu, 23 Oct 2025 07:40:30 -0700 (PDT) Received: from postal.iol.unh.edu (postal.iol.unh.edu. [2606:4100:3880:1234::84]) by smtp-relay.gmail.com with ESMTPS id d9443c01a7336-2946dee70c8sm2339055ad.38.2025.10.23.07.40.30 (version=TLS1_2 cipher=ECDHE-ECDSA-AES128-GCM-SHA256 bits=128/128); Thu, 23 Oct 2025 07:40:30 -0700 (PDT) X-Relaying-Domain: iol.unh.edu Date: Thu, 23 Oct 2025 07:40:30 -0700 (PDT) Message-ID: <68fa3e5e.170a0220.35f45d.b46cSMTPIN_ADDED_MISSING@mx.google.com> Received: from [172.21.0.2] (unknown [172.18.0.240]) by postal.iol.unh.edu (Postfix) with ESMTP id 2BBFB6051830; Thu, 23 Oct 2025 10:40:30 -0400 (EDT) Subject: |SUCCESS| pw158027 [PATCH] [v6] mbuf: optimize segment prefree From: dpdklab@iol.unh.edu To: Test Report Cc: dpdk-test-reports@iol.unh.edu In-Reply-To: <20251023124858.318148-1-mb@smartsharesystems.com> References: <20251023124858.318148-1-mb@smartsharesystems.com> Content-Type: text/plain X-BeenThere: test-report@dpdk.org X-Mailman-Version: 2.1.29 Precedence: list List-Id: automatic DPDK test reports List-Unsubscribe: , List-Archive: List-Post: List-Help: List-Subscribe: , Errors-To: test-report-bounces@dpdk.org Test-Label: iol-unit-amd64-testing Test-Status: SUCCESS http://dpdk.org/patch/158027 _Testing PASS_ Submitter: Morten Brorup Date: Thursday, October 23 2025 12:48:58 DPDK git baseline: Repo:dpdk Branch: master CommitID:2863cbd9ee6dabee2b183382d298f4054ba3e8a2 158027 --> testing pass Upstream job id: Generic-Unit-Test-DPDK#384584 Test environment and result as below: +-------------------------------+----------------+ | Environment | dpdk_unit_test | +===============================+================+ | CentOS Stream 9 | PASS | +-------------------------------+----------------+ | Debian GNU/Linux 12 | PASS | +-------------------------------+----------------+ | CentOS Stream 10 | PASS | +-------------------------------+----------------+ | Fedora Linux 40 | PASS | +-------------------------------+----------------+ | Fedora Linux 41 | PASS | +-------------------------------+----------------+ | Red Hat Enterprise Linux 9.5 | PASS | +-------------------------------+----------------+ | Fedora Linux 42 | PASS | +-------------------------------+----------------+ | Red Hat Enterprise Linux 8.10 | PASS | +-------------------------------+----------------+ | Ubuntu 24.04 | PASS | +-------------------------------+----------------+ | Ubuntu 22.04 | PASS | +-------------------------------+----------------+ | Ubuntu 20.04 | PASS | +-------------------------------+----------------+ | Windows Server 2022 | PASS | +-------------------------------+----------------+ CentOS Stream 9 Kernel: 5.15 Compiler: gcc gcc (GCC) 11.5.0 20240719 (Red Hat 11.5.0-11) Debian GNU/Linux 12 Kernel: 5.15 Compiler: gcc gcc (Debian 12.2.0-14+deb12u1) 12.2.0 CentOS Stream 10 Kernel: 5.15 Compiler: gcc gcc (GCC) 14.2.1 20250110 (Red Hat 14.2.1-8) Fedora Linux 40 Kernel: 5.15 Compiler: gcc gcc (GCC) 14.2.1 20240912 (Red Hat 14.2.1-3) Fedora Linux 41 Kernel: 5.15 Compiler: gcc gcc (GCC) 14.3.1 20250523 (Red Hat 14.3.1-1) Red Hat Enterprise Linux 9.5 Kernel: 5.15 Compiler: gcc gcc (GCC) 11.5.0 20240719 (Red Hat 11.5.0-2) Fedora Linux 42 Kernel: 5.15 Compiler: gcc gcc (GCC) 15.2.1 20250808 (Red Hat 15.2.1-1) Red Hat Enterprise Linux 8.10 Kernel: 5.15 Compiler: gcc gcc (GCC) 8.5.0 20210514 (Red Hat 8.5.0-22) Ubuntu 24.04 Kernel: 5.15 Compiler: gcc gcc (Ubuntu 13.3.0-6ubuntu2~24.04) 13.3.0 Ubuntu 22.04 Kernel: 5.15 Compiler: gcc gcc (Ubuntu 11.4.0-1ubuntu1~22.04) 11.4.0 Ubuntu 20.04 Kernel: 5.15 Compiler: gcc gcc (Ubuntu 9.4.0-1ubuntu1~20.04.2) 9.4.0 Windows Server 2022 Kernel: 10.0.20348.2031 Compiler: clang 15.0.7, gcc 14.1.0 (MinGW), and MSVC VS 19.39.33521 To view detailed results, visit: https://lab.dpdk.org/results/dashboard/patchsets/34360/ UNH-IOL DPDK Community Lab To manage your email subscriptions, visit: https://lab.dpdk.org/results/dashboard/preferences/subscriptions/