From mboxrd@z Thu Jan 1 00:00:00 1970 Return-Path: Received: from mails.dpdk.org (mails.dpdk.org [217.70.189.124]) by inbox.dpdk.org (Postfix) with ESMTP id A5DCA489B4 for ; Thu, 23 Oct 2025 17:19:23 +0200 (CEST) Received: from mails.dpdk.org (localhost [127.0.0.1]) by mails.dpdk.org (Postfix) with ESMTP id A04A940151; Thu, 23 Oct 2025 17:19:23 +0200 (CEST) Received: from mail-io1-f99.google.com (mail-io1-f99.google.com [209.85.166.99]) by mails.dpdk.org (Postfix) with ESMTP id 82EFF40151 for ; Thu, 23 Oct 2025 17:19:22 +0200 (CEST) Received: by mail-io1-f99.google.com with SMTP id ca18e2360f4ac-940d327df21so45468639f.1 for ; Thu, 23 Oct 2025 08:19:22 -0700 (PDT) DKIM-Signature: v=1; a=rsa-sha256; c=relaxed/relaxed; d=iol.unh.edu; s=unh-iol; t=1761232762; x=1761837562; darn=dpdk.org; h=references:in-reply-to:cc:to:from:subject:message-id:date:from:to :cc:subject:date:message-id:reply-to; bh=1BzARjLOA/aW/uh4t7fEWhzaUeF4d45Sp0WU1HtSAqc=; b=DXBj4Bx2chQdglOGrKvlCbvM23tfJ1lpSWPWokhJkHPDFiKn5gliB0acSlopRJj71R G/pB7fLHcm+83bchxiPAb1w049gLafkMBG7bYQX8TBL6w/WraIOcb5YWLAKdum/eb7jd 7yzaE3FrPaFhrDdqZ0M4Cl8IuZlcjw95RC85c= X-Google-DKIM-Signature: v=1; a=rsa-sha256; c=relaxed/relaxed; d=1e100.net; s=20230601; t=1761232762; x=1761837562; h=references:in-reply-to:cc:to:from:subject:message-id:date :x-gm-message-state:from:to:cc:subject:date:message-id:reply-to; bh=1BzARjLOA/aW/uh4t7fEWhzaUeF4d45Sp0WU1HtSAqc=; b=HCgNKuVjTXA2Hhm4CHRGeHO9gUWNErtjdggNiclcjjarY04qmyhkVW2V2+jtTnaoIW wK3smatlYJ0utFdItBpHarLB5/BuHO60CAA6iMkHudy/d/06KkBr66vxHkOS+qua3xSY ZbBGXPzFUf7l45dRMPufPqPwmUEbOYUE31jkHNNQrfH1k8rrEH7vOxilBGhcYoSw+VYB UUe4giWftEN4cSrCLBKqZLVgg3WnNyzR5pPh9TKELNqjeTgdJiwSgxaTUMa8sXtjslLn CNaoVO0ueCA23ouUkXDG9uVOnie2JgRgrysyHA/2AFM6Yvjin+f+EvXlrNTTmFSn53hd HgIg== X-Gm-Message-State: AOJu0Yxtip0j6WJrn5z8aVBSwBJjSPrOHSu3wxaDzkfF8PWZ7IoInSTB HMYSiZ9OAmR+44zvR/X30EeMkJs7DEpmh+QBovhGg96sxSwS+KopGn5Ar+iCtul9y2q6CgNwbtd hMJq3QOYYZhgx7e3Iy2O7s6jqk4OMF4XhAsR4vwiA8iBMMIwSXVCcRA4jBR4h X-Gm-Gg: ASbGncvjd4hasEkwqqeAAXXmrd0iAuchWIlLEn1gfHcSzNQHTC1Q4oV8EhzAoHRgao1 ENztgOyyZFyq3CFYVk04LgF39LSv19E44PdOcVzJVe4tYbN1R+/W2Gl4Vn60z2PrPpm8OzRb46B w+Q8pblrzcpHj5X1Q0T2gnVuHK0sxDF/i6eaumzsaAtDw8QQPQo0HPqv9sSZ7OG4MgTOn4aldYT 0W5AES6zqPx4E6bZ46W/7M6JFT89PR+HlpyELLT4zJjBbBvWD5fFmdPfiTj9mctxYNp22Jacdgc J0pn88zB4zdIEe0qWTRDZxhZJ+LGKZbFUqSfDI0jvoI/YlVYOaiZG/xpW/YLFN4DabpnElF8gKK z96HNDN2c X-Google-Smtp-Source: AGHT+IFrT+Svk3/eDa56ADMyii3KUFrkGXmznXZLfs+uv2IvE/HPhI7k/G/BNdxVp3tNaJgIqdfc2JQmGHfm X-Received: by 2002:a05:6e02:378e:b0:42f:95ab:2364 with SMTP id e9e14a558f8ab-430c52a03f3mr319883015ab.26.1761232761723; Thu, 23 Oct 2025 08:19:21 -0700 (PDT) Received: from postal.iol.unh.edu (postal.iol.unh.edu. [2606:4100:3880:1234::84]) by smtp-relay.gmail.com with ESMTPS id e9e14a558f8ab-431dbc9c02bsm2253615ab.34.2025.10.23.08.19.21 (version=TLS1_2 cipher=ECDHE-ECDSA-AES128-GCM-SHA256 bits=128/128); Thu, 23 Oct 2025 08:19:21 -0700 (PDT) X-Relaying-Domain: iol.unh.edu Date: Thu, 23 Oct 2025 08:19:21 -0700 (PDT) Message-ID: <68fa4779.050a0220.3581fd.afbdSMTPIN_ADDED_MISSING@mx.google.com> Received: from [172.21.0.2] (unknown [172.18.0.240]) by postal.iol.unh.edu (Postfix) with ESMTP id 4BEBC6050A61; Thu, 23 Oct 2025 11:19:21 -0400 (EDT) Subject: |WARNING| pw158011 [PATCH] [v3] net/vmxnet3: disable RSS for single From: dpdklab@iol.unh.edu To: Test Report Cc: dpdk-test-reports@iol.unh.edu, Stephen Hemminger In-Reply-To: <20251023083019.18792-1-amiyaranjan.mohakud@gmail.com> References: <20251023083019.18792-1-amiyaranjan.mohakud@gmail.com> Content-Type: text/plain X-BeenThere: test-report@dpdk.org X-Mailman-Version: 2.1.29 Precedence: list List-Id: automatic DPDK test reports List-Unsubscribe: , List-Archive: List-Post: List-Help: List-Subscribe: , Errors-To: test-report-bounces@dpdk.org Test-Label: iol-compile-amd64-testing Test-Status: WARNING http://dpdk.org/patch/158011 _Testing issues_ Submitter: Amiya Ranjan Mohakud Date: Thursday, October 23 2025 08:30:19 DPDK git baseline: Repo:dpdk-next-net Branch: master CommitID:4c4055bdd19f919795f83a01faae9fc267570d7f 158011 --> testing issues Upstream job id: Generic-DPDK-Compile-Meson#437039 Test environment and result as below: +---------------------+--------------------+-------------------+-------------------------+----------------------+-------------------+------------------+ | Environment | dpdk_meson_compile | dpdk_msvc_compile | dpdk_llvm_clang_compile | dpdk_mingw64_compile | dpdk_compile_spdk | dpdk_compile_ovs | +=====================+====================+===================+=========================+======================+===================+==================+ | Ubuntu 20.04 | PASS | SKIPPED | SKIPPED | SKIPPED | SKIPPED | SKIPPED | +---------------------+--------------------+-------------------+-------------------------+----------------------+-------------------+------------------+ | FreeBSD 14.2 | PASS | SKIPPED | SKIPPED | SKIPPED | SKIPPED | SKIPPED | +---------------------+--------------------+-------------------+-------------------------+----------------------+-------------------+------------------+ | CentOS Stream 9 | PASS | SKIPPED | SKIPPED | SKIPPED | WARN | SKIPPED | +---------------------+--------------------+-------------------+-------------------------+----------------------+-------------------+------------------+ | CentOS Stream 10 | PASS | SKIPPED | SKIPPED | SKIPPED | SKIPPED | SKIPPED | +---------------------+--------------------+-------------------+-------------------------+----------------------+-------------------+------------------+ | Debian GNU/Linux 12 | PASS | SKIPPED | SKIPPED | SKIPPED | WARN | SKIPPED | +---------------------+--------------------+-------------------+-------------------------+----------------------+-------------------+------------------+ | Fedora Linux 42 | PASS | SKIPPED | SKIPPED | SKIPPED | WARN | PASS | +---------------------+--------------------+-------------------+-------------------------+----------------------+-------------------+------------------+ | Windows Server 2022 | SKIPPED | PASS | PASS | PASS | SKIPPED | SKIPPED | +---------------------+--------------------+-------------------+-------------------------+----------------------+-------------------+------------------+ ==== 20 line log output for Fedora Linux 42 (dpdk_compile_spdk): ==== --- Failed to get log output --- ==== End log output ==== Ubuntu 20.04 Kernel: 4.19 Compiler: gcc gcc (Ubuntu 9.4.0-1ubuntu1~20.04.2) 9.4.0 FreeBSD 14.2 Kernel: 14.2-RELEASE Compiler: clang 18.1.6 CentOS Stream 9 Kernel: 5.15 Compiler: gcc gcc (GCC) 11.5.0 20240719 (Red Hat 11.5.0-11) CentOS Stream 10 Kernel: 5.15 Compiler: gcc gcc (GCC) 14.2.1 20250110 (Red Hat 14.2.1-8) Debian GNU/Linux 12 Kernel: 5.15 Compiler: gcc gcc (Debian 12.2.0-14+deb12u1) 12.2.0 Fedora Linux 42 Kernel: 5.15 Compiler: clang gcc (GCC) 15.2.1 20250808 (Red Hat 15.2.1-1) Windows Server 2022 Kernel: 10.0.20348.2031 Compiler: clang 15.0.7, gcc 14.1.0 (MinGW), and MSVC VS 19.39.33521 To view detailed results, visit: https://lab.dpdk.org/results/dashboard/patchsets/34355/ UNH-IOL DPDK Community Lab To manage your email subscriptions, visit: https://lab.dpdk.org/results/dashboard/preferences/subscriptions/