From mboxrd@z Thu Jan 1 00:00:00 1970 Return-Path: Received: from mails.dpdk.org (mails.dpdk.org [217.70.189.124]) by inbox.dpdk.org (Postfix) with ESMTP id 4BF08489B4 for ; Thu, 23 Oct 2025 17:49:49 +0200 (CEST) Received: from mails.dpdk.org (localhost [127.0.0.1]) by mails.dpdk.org (Postfix) with ESMTP id 46E2340144; Thu, 23 Oct 2025 17:49:49 +0200 (CEST) Received: from mail-il1-f228.google.com (mail-il1-f228.google.com [209.85.166.228]) by mails.dpdk.org (Postfix) with ESMTP id 19FB240144 for ; Thu, 23 Oct 2025 17:49:44 +0200 (CEST) Received: by mail-il1-f228.google.com with SMTP id e9e14a558f8ab-430abca3354so9738855ab.2 for ; Thu, 23 Oct 2025 08:49:44 -0700 (PDT) DKIM-Signature: v=1; a=rsa-sha256; c=relaxed/relaxed; d=iol.unh.edu; s=unh-iol; t=1761234583; x=1761839383; darn=dpdk.org; h=references:in-reply-to:cc:to:from:subject:message-id:date:from:to :cc:subject:date:message-id:reply-to; bh=bj/S01+nL326kZH87GQIMcgioN03FXIAGaMhxNTuvaw=; b=EImAvWQiNrts97cQsu1ab6fSIMzH9Sc0N9oGva6+ZmPkDCbTn+9afemfTZwL3lIHOI 2dDC5pcUhCEyvUyGj8v7CjzZ4TEVsDp9enpYbZUl5oXHyY5lzS8REyQJK3uDApeH+rYL S8BHIFO6TDJcqMC9zfaxaSlF/p1pAqAAiOfac= X-Google-DKIM-Signature: v=1; a=rsa-sha256; c=relaxed/relaxed; d=1e100.net; s=20230601; t=1761234583; x=1761839383; h=references:in-reply-to:cc:to:from:subject:message-id:date :x-gm-message-state:from:to:cc:subject:date:message-id:reply-to; bh=bj/S01+nL326kZH87GQIMcgioN03FXIAGaMhxNTuvaw=; b=Ipg97YsRR74evKx/5uJuY5l+lyyqijoJwqCpceP20nDmp+5mYrEJgGm+evixXwT89c wmgYUYpcwXYs048wHSo4785+/N/E2KAI3RraLH5/Bsj1W5NHfBa0qdfGOlKKcCLD2bK6 r1hfNJeJ0mBuAq58wGWOD2yUj2AXHvZrQ8Qt0YG0gFXj3lsFY7SDdb9yVJk2bO9CCZq2 PCMfh7xXLJvnfqA7q+QVFvb3Ng3jgau6fqn1C8EM42ifAnpPV0F9RiJjWf30AGyNSY5V SXskIW/lD4Gncp+aq2FkKl4WQX58ClpA1MI2scwnQBch3pS53ge+cnPqPkGfRwHJRt1y YE1g== X-Gm-Message-State: AOJu0Yxa0hBOexvwMgevcwOn52EDCzyw2JpLlSWrhKK1dW3kt5FGHr8/ k2Y46APPh02DtIHUByvmIT8pXk8WbesCrr7960F6IABKo0zyeNr88OPbnq2bzeV99wCSeIfVTDi BFXD8ErdQ+TUCQkFuoe+1K2zulfLpFlISPRGeKHqEZeBSN6H6EA/RYnuWJQHK X-Gm-Gg: ASbGncshn8/xS8Y7UjovyeBL15bFOLrAqRFHl49iUTsoU7J/TwZOF25I5C8Cu8pnmEW PbhBLTYBWJGAAWDh6UAZZRS/Up0AG5EhsMjp8E9z2SaYhkMTvC+6dhcCsCuiwQWaJdwA3ITpnKh MGLcp10nyQdBZJlwfWo1DaokQNDTF3rZBliJtgtjPJnnDaJFZ/5LeGYdfIjPj0x6Ogktk/E8w3v ytnpMrVyMNdcEGK35+oVmTHA+WYjS3/RixmdbeHNayH9oXUQSozpRrwsnWem+yvVmbgJaCb/y+0 FFjxWGUnkwBj7N2ZxXiBXT2C1fX9l8ZWbjtkUOadUp3q/QLgVos5wJTBrrrOsxywraQTFfLonwQ SQBlEKVp8 X-Google-Smtp-Source: AGHT+IHycjZsZ5ZYSBfuYYpUYYwLuhP+qYVqaAbR+OO6lKvlw45UssXVx/6qtHfNwsAw5iBND/wAV/oUHuEX X-Received: by 2002:a05:6e02:1fca:b0:425:8c47:13fb with SMTP id e9e14a558f8ab-430c527bc9amr359808295ab.17.1761234583309; Thu, 23 Oct 2025 08:49:43 -0700 (PDT) Received: from postal.iol.unh.edu (postal.iol.unh.edu. [2606:4100:3880:1234::84]) by smtp-relay.gmail.com with ESMTPS id e9e14a558f8ab-431dbc088c6sm2157155ab.9.2025.10.23.08.49.43 (version=TLS1_2 cipher=ECDHE-ECDSA-AES128-GCM-SHA256 bits=128/128); Thu, 23 Oct 2025 08:49:43 -0700 (PDT) X-Relaying-Domain: iol.unh.edu Date: Thu, 23 Oct 2025 08:49:43 -0700 (PDT) Message-ID: <68fa4e97.050a0220.2624bc.a9a7SMTPIN_ADDED_MISSING@mx.google.com> Received: from [172.21.0.2] (unknown [172.18.0.240]) by postal.iol.unh.edu (Postfix) with ESMTP id D3A8F6050A61; Thu, 23 Oct 2025 11:49:42 -0400 (EDT) Subject: |SUCCESS| pw158002 [PATCH] [v3] net/vmxnet3: disable RSS for single From: dpdklab@iol.unh.edu To: Test Report Cc: dpdk-test-reports@iol.unh.edu, Stephen Hemminger In-Reply-To: <20251023072238.17584-1-amiyaranjan.mohakud@gmail.com> References: <20251023072238.17584-1-amiyaranjan.mohakud@gmail.com> Content-Type: text/plain X-BeenThere: test-report@dpdk.org X-Mailman-Version: 2.1.29 Precedence: list List-Id: automatic DPDK test reports List-Unsubscribe: , List-Archive: List-Post: List-Help: List-Subscribe: , Errors-To: test-report-bounces@dpdk.org Test-Label: iol-unit-arm64-testing Test-Status: SUCCESS http://dpdk.org/patch/158002 _Testing PASS_ Submitter: Amiya Ranjan Mohakud Date: Thursday, October 23 2025 07:22:38 DPDK git baseline: Repo:dpdk-next-net Branch: master CommitID:4c4055bdd19f919795f83a01faae9fc267570d7f 158002 --> testing pass Upstream job id: Generic-Unit-Test-DPDK#384376 Test environment and result as below: +------------------------------+----------------+------------------------------+--------------+---------------------------+ | Environment | dpdk_unit_test | cryptodev_sw_snow3g_autotest | lpm_autotest | cryptodev_sw_zuc_autotest | +==============================+================+==============================+==============+===========================+ | Fedora Linux 40 | PASS | SKIPPED | SKIPPED | SKIPPED | +------------------------------+----------------+------------------------------+--------------+---------------------------+ | Fedora Linux 42 | PASS | SKIPPED | SKIPPED | SKIPPED | +------------------------------+----------------+------------------------------+--------------+---------------------------+ | CentOS Stream 10 | PASS | SKIPPED | SKIPPED | SKIPPED | +------------------------------+----------------+------------------------------+--------------+---------------------------+ | Fedora Linux 41 | PASS | SKIPPED | SKIPPED | SKIPPED | +------------------------------+----------------+------------------------------+--------------+---------------------------+ | CentOS Stream 9 | PASS | SKIPPED | SKIPPED | SKIPPED | +------------------------------+----------------+------------------------------+--------------+---------------------------+ | Ubuntu 20.04 | PASS | SKIPPED | PASS | SKIPPED | +------------------------------+----------------+------------------------------+--------------+---------------------------+ | Red Hat Enterprise Linux 9.5 | PASS | SKIPPED | SKIPPED | SKIPPED | +------------------------------+----------------+------------------------------+--------------+---------------------------+ | Debian GNU/Linux 12 | PASS | SKIPPED | SKIPPED | SKIPPED | +------------------------------+----------------+------------------------------+--------------+---------------------------+ | Ubuntu 24.04 | PASS | SKIPPED | SKIPPED | SKIPPED | +------------------------------+----------------+------------------------------+--------------+---------------------------+ | Ubuntu 22.04 | PASS | SKIPPED | SKIPPED | SKIPPED | +------------------------------+----------------+------------------------------+--------------+---------------------------+ | Debian 12 (arm) | SKIPPED | PASS | SKIPPED | PASS | +------------------------------+----------------+------------------------------+--------------+---------------------------+ Fedora Linux 40 Kernel: 5.4 Compiler: clang gcc (GCC) 14.2.1 20240912 (Red Hat 14.2.1-3) Fedora Linux 42 Kernel: 5.4 Compiler: clang gcc (GCC) 15.2.1 20250808 (Red Hat 15.2.1-1) CentOS Stream 10 Kernel: 5.4 Compiler: gcc gcc (GCC) 14.2.1 20250110 (Red Hat 14.2.1-8) Fedora Linux 41 Kernel: 5.4 Compiler: clang gcc (GCC) 14.3.1 20250523 (Red Hat 14.3.1-1) CentOS Stream 9 Kernel: 5.4 Compiler: gcc gcc (GCC) 11.5.0 20240719 (Red Hat 11.5.0-11) Ubuntu 20.04 Kernel: 5.4 Compiler: gcc gcc (Ubuntu 9.4.0-1ubuntu1~20.04.2) 9.4.0 Red Hat Enterprise Linux 9.5 Kernel: 5.4 Compiler: gcc gcc (GCC) 11.5.0 20240719 (Red Hat 11.5.0-2) Debian GNU/Linux 12 Kernel: 5.4 Compiler: gcc gcc (Debian 12.2.0-14+deb12u1) 12.2.0 Ubuntu 24.04 Kernel: 5.4 Compiler: gcc gcc (Ubuntu 13.3.0-6ubuntu2~24.04) 13.3.0 Ubuntu 22.04 Kernel: 5.15 Compiler: gcc gcc (Ubuntu 11.4.0-1ubuntu1~22.04.2) 11.4.0 Debian 12 (arm) Kernel: Depends on container host Compiler: gcc (Debian 12.2.0-14) 12.2.0 To view detailed results, visit: https://lab.dpdk.org/results/dashboard/patchsets/34352/ UNH-IOL DPDK Community Lab To manage your email subscriptions, visit: https://lab.dpdk.org/results/dashboard/preferences/subscriptions/