From mboxrd@z Thu Jan 1 00:00:00 1970 Return-Path: Received: from mails.dpdk.org (mails.dpdk.org [217.70.189.124]) by inbox.dpdk.org (Postfix) with ESMTP id 901BE489B5 for ; Thu, 23 Oct 2025 18:08:53 +0200 (CEST) Received: from mails.dpdk.org (localhost [127.0.0.1]) by mails.dpdk.org (Postfix) with ESMTP id 67E5E40151; Thu, 23 Oct 2025 18:08:53 +0200 (CEST) Received: from mail-yx1-f100.google.com (mail-yx1-f100.google.com [74.125.224.100]) by mails.dpdk.org (Postfix) with ESMTP id E78E340151 for ; Thu, 23 Oct 2025 18:08:51 +0200 (CEST) Received: by mail-yx1-f100.google.com with SMTP id 956f58d0204a3-63e11347fd9so1139244d50.1 for ; Thu, 23 Oct 2025 09:08:51 -0700 (PDT) DKIM-Signature: v=1; a=rsa-sha256; c=relaxed/relaxed; d=iol.unh.edu; s=unh-iol; t=1761235731; x=1761840531; darn=dpdk.org; h=references:in-reply-to:cc:to:from:subject:message-id:date:from:to :cc:subject:date:message-id:reply-to; bh=9643hmDlUJ851xxcIxy0HaaJ3ekwaPeHa5PLOkmHb+Y=; b=eBrpxEc0DN1VVRlwLHX3l/nvwaR8YgGkZwWkE4okLx3AdLVSP3/pbnmkKe82MRxjhE V6kToEpwWem6196JIjymuuZAJpLciBYp2doVsSTDzJHQ80RWfg18ZJ8vgSYPVE01y/uX AwyvsZEcbYpJWt769IcoHyVMsv3n1RUa1ks/I= X-Google-DKIM-Signature: v=1; a=rsa-sha256; c=relaxed/relaxed; d=1e100.net; s=20230601; t=1761235731; x=1761840531; h=references:in-reply-to:cc:to:from:subject:message-id:date :x-gm-message-state:from:to:cc:subject:date:message-id:reply-to; bh=9643hmDlUJ851xxcIxy0HaaJ3ekwaPeHa5PLOkmHb+Y=; b=m4IpUVU0gcG/aeMtbvt6DL5NOJ9hjdu37G72yaauv7RJ3KJJiRvDrb06uzhFrqVTAd 1MHi3u86K3Q3FU1d2VGSNmfYeRxrwvdzS4hQxN8czo0lW8QSsq9Nq2CQw9OLdCbaYMQc MWYqZWeb/dO9qXEJAOSkzyGpUvYYgjMdYl4h8SOEj4fUeKFtiZTPPRb5i5AwAtRhWnhU bGLkUxLCgo+IpYDySsBz02f1PEAaQjxAHMTd9gIOIl3n4EyAKdKnfW0wPeF9y9mO/bGv adOD+hQafhy5KoiuaaL8xMf5xiD3aiNscq51ABbfJXnTqvp43jzfyx05H9ww/dlx9ATm 70vw== X-Gm-Message-State: AOJu0YwTNauPFLKHqd491zAR+ny/KThS7sChyMjIehrgTPTlqGoZhJgW RakEkSyRffKjEB1IyxCplAFPUDRNyjCkm3FP94zz8S/7gupjhwpzQe9K4EvZg2A6n31aDIRBqLo fDQHGic1s1W4OKJUcTP2u+rI6E72swHcgrKaBZwLQE4i6kCNSlFkrNNdy7Nsb X-Gm-Gg: ASbGnctXw1g8bMT2/XmKUnNyxy8hXLtqa27VjRwIe5sQzJj2yGksQojQd47hB1eBZbi 0RnaJzoMwqYPjcbGRoJRCW8rNIBqKm8bk6DjvvkcapIW2tVix+SyxMSWpouRUF4sFvq5lLhRtfh nFPARnv57lI3JKCZpUGAyijKChEAanjp1j1W8I8TP7SFUxNKUnDKutf7lRGNoKcf05Jjm5xABf6 HKB7J7dpZZ5eqdL5MPO9LiR40jjx5bY34eEKloFDUk+W4j70tHIQ7hxu0/eRuiFzgJh9psvITTx SxqOnOBOlq8cBGOiY8VwRDp7BUX6nkeV5lSPBWetDTUrv0dnePhc/jdipujnFOYWQ+1fzxyyDZf X6siEb8xp X-Google-Smtp-Source: AGHT+IEtcu07wdVwhIWEuF5Ix5I0y56EidKN+0QQsOwdbj0nF5iM/SW9VDuRXIl55pB+c9qy7bLdyPAZ3vBH X-Received: by 2002:a05:690e:1209:b0:63e:106a:9f2a with SMTP id 956f58d0204a3-63e16264d06mr18467407d50.64.1761235729417; Thu, 23 Oct 2025 09:08:49 -0700 (PDT) Received: from postal.iol.unh.edu (postal.iol.unh.edu. [2606:4100:3880:1234::84]) by smtp-relay.gmail.com with ESMTPS id 00721157ae682-785cd6ca295sm1150727b3.17.2025.10.23.09.08.49 (version=TLS1_2 cipher=ECDHE-ECDSA-AES128-GCM-SHA256 bits=128/128); Thu, 23 Oct 2025 09:08:49 -0700 (PDT) X-Relaying-Domain: iol.unh.edu Date: Thu, 23 Oct 2025 09:08:49 -0700 (PDT) Message-ID: <68fa5311.050a0220.3a78fe.59abSMTPIN_ADDED_MISSING@mx.google.com> Received: from [172.21.0.3] (unknown [172.18.0.240]) by postal.iol.unh.edu (Postfix) with ESMTP id 19B5D604D420; Thu, 23 Oct 2025 12:08:49 -0400 (EDT) Subject: |WARNING| pw158011 [PATCH] [v3] net/vmxnet3: disable RSS for single From: dpdklab@iol.unh.edu To: Test Report Cc: dpdk-test-reports@iol.unh.edu, Stephen Hemminger In-Reply-To: <20251023083019.18792-1-amiyaranjan.mohakud@gmail.com> References: <20251023083019.18792-1-amiyaranjan.mohakud@gmail.com> Content-Type: text/plain X-BeenThere: test-report@dpdk.org X-Mailman-Version: 2.1.29 Precedence: list List-Id: automatic DPDK test reports List-Unsubscribe: , List-Archive: List-Post: List-Help: List-Subscribe: , Errors-To: test-report-bounces@dpdk.org Test-Label: iol-compile-amd64-testing Test-Status: WARNING http://dpdk.org/patch/158011 _Testing issues_ Submitter: Amiya Ranjan Mohakud Date: Thursday, October 23 2025 08:30:19 DPDK git baseline: Repo:dpdk-next-net Branch: master CommitID:4c4055bdd19f919795f83a01faae9fc267570d7f 158011 --> testing issues Upstream job id: Generic-DPDK-Compile-Meson#437042 Test environment and result as below: +-------------------------------+--------------------+-------------------+-------------------------+----------------------+-------------------+------------------+ | Environment | dpdk_meson_compile | dpdk_msvc_compile | dpdk_llvm_clang_compile | dpdk_mingw64_compile | dpdk_compile_spdk | dpdk_compile_ovs | +===============================+====================+===================+=========================+======================+===================+==================+ | Ubuntu 20.04 | PASS | SKIPPED | SKIPPED | SKIPPED | SKIPPED | SKIPPED | +-------------------------------+--------------------+-------------------+-------------------------+----------------------+-------------------+------------------+ | FreeBSD 14.2 | PASS | SKIPPED | SKIPPED | SKIPPED | SKIPPED | SKIPPED | +-------------------------------+--------------------+-------------------+-------------------------+----------------------+-------------------+------------------+ | CentOS Stream 9 | PASS | SKIPPED | SKIPPED | SKIPPED | WARN | SKIPPED | +-------------------------------+--------------------+-------------------+-------------------------+----------------------+-------------------+------------------+ | CentOS Stream 10 | PASS | SKIPPED | SKIPPED | SKIPPED | SKIPPED | SKIPPED | +-------------------------------+--------------------+-------------------+-------------------------+----------------------+-------------------+------------------+ | Debian GNU/Linux 12 | PASS | SKIPPED | SKIPPED | SKIPPED | WARN | SKIPPED | +-------------------------------+--------------------+-------------------+-------------------------+----------------------+-------------------+------------------+ | Fedora Linux 42 | PASS | SKIPPED | SKIPPED | SKIPPED | WARN | PASS | +-------------------------------+--------------------+-------------------+-------------------------+----------------------+-------------------+------------------+ | openSUSE Leap 15.6 | PASS | SKIPPED | SKIPPED | SKIPPED | SKIPPED | SKIPPED | +-------------------------------+--------------------+-------------------+-------------------------+----------------------+-------------------+------------------+ | Red Hat Enterprise Linux 8.10 | PASS | SKIPPED | SKIPPED | SKIPPED | SKIPPED | SKIPPED | +-------------------------------+--------------------+-------------------+-------------------------+----------------------+-------------------+------------------+ | Windows Server 2022 | SKIPPED | PASS | PASS | PASS | SKIPPED | SKIPPED | +-------------------------------+--------------------+-------------------+-------------------------+----------------------+-------------------+------------------+ ==== 20 line log output for Fedora Linux 42 (dpdk_compile_spdk): ==== --- Failed to get log output --- ==== End log output ==== Ubuntu 20.04 Kernel: 4.19 Compiler: gcc gcc (Ubuntu 9.4.0-1ubuntu1~20.04.2) 9.4.0 FreeBSD 14.2 Kernel: 14.2-RELEASE Compiler: clang 18.1.6 CentOS Stream 9 Kernel: 5.15 Compiler: gcc gcc (GCC) 11.5.0 20240719 (Red Hat 11.5.0-11) CentOS Stream 10 Kernel: 5.15 Compiler: gcc gcc (GCC) 14.2.1 20250110 (Red Hat 14.2.1-8) Debian GNU/Linux 12 Kernel: 5.15 Compiler: gcc gcc (Debian 12.2.0-14+deb12u1) 12.2.0 Fedora Linux 42 Kernel: 5.15 Compiler: clang gcc (GCC) 15.2.1 20250808 (Red Hat 15.2.1-1) openSUSE Leap 15.6 Kernel: 5.15 Compiler: gcc gcc (SUSE Linux) 7.5.0 Red Hat Enterprise Linux 8.10 Kernel: 5.15 Compiler: gcc gcc (GCC) 8.5.0 20210514 (Red Hat 8.5.0-22) Windows Server 2022 Kernel: 10.0.20348.2031 Compiler: clang 15.0.7, gcc 14.1.0 (MinGW), and MSVC VS 19.39.33521 To view detailed results, visit: https://lab.dpdk.org/results/dashboard/patchsets/34355/ UNH-IOL DPDK Community Lab To manage your email subscriptions, visit: https://lab.dpdk.org/results/dashboard/preferences/subscriptions/