From mboxrd@z Thu Jan 1 00:00:00 1970 Return-Path: Received: from mails.dpdk.org (mails.dpdk.org [217.70.189.124]) by inbox.dpdk.org (Postfix) with ESMTP id C6CD0489B5 for ; Thu, 23 Oct 2025 18:23:07 +0200 (CEST) Received: from mails.dpdk.org (localhost [127.0.0.1]) by mails.dpdk.org (Postfix) with ESMTP id C26F24021E; Thu, 23 Oct 2025 18:23:07 +0200 (CEST) Received: from mail-io1-f98.google.com (mail-io1-f98.google.com [209.85.166.98]) by mails.dpdk.org (Postfix) with ESMTP id E160C4021E for ; Thu, 23 Oct 2025 18:23:06 +0200 (CEST) Received: by mail-io1-f98.google.com with SMTP id ca18e2360f4ac-940dbb1e343so109706239f.0 for ; Thu, 23 Oct 2025 09:23:06 -0700 (PDT) DKIM-Signature: v=1; a=rsa-sha256; c=relaxed/relaxed; d=iol.unh.edu; s=unh-iol; t=1761236586; x=1761841386; darn=dpdk.org; h=references:in-reply-to:cc:to:from:subject:message-id:date:from:to :cc:subject:date:message-id:reply-to; bh=YqQtS7pZEZNdH17EE5qz1RbJVudSFEJum+0duDk/j4E=; b=VDe8inryPImCBQlIj9t0gkpp3bEXr6PV/2gYcdNT0QKvlRzKl0LAxg1eu3soxLO9a3 30bNMM1GdQOf84tk8c/cFJSG9/F+SHGCNrbmnzxDix8rigcUjbXOJJG1fAt0AAPEy/ku LkUOPFunmQngTSZ4LSKIqNvT1GNBVnWb98YtE= X-Google-DKIM-Signature: v=1; a=rsa-sha256; c=relaxed/relaxed; d=1e100.net; s=20230601; t=1761236586; x=1761841386; h=references:in-reply-to:cc:to:from:subject:message-id:date :x-gm-message-state:from:to:cc:subject:date:message-id:reply-to; bh=YqQtS7pZEZNdH17EE5qz1RbJVudSFEJum+0duDk/j4E=; b=dUSSCM0yvHKvAD8asD4oLFhYfI1gfsnpQBGG6fq0ctl6mz8ZOiwkVX6DxkahynplWU IxduSKVsjM+F/Nq3a/bm+c3SXxz3TLbH3DoTuVu+920MOp35o+LdEo7MMHvu1kSpHx9G y/276xTNCpSg5+Df9eD0sFMxOGKDQstA8T40YN6sD97bz7U3xjZb0ZJEr1Tw2qWDnjzS t/4ngLdyIt+0UjqhMPR5etaYxdLoCjaGDzBFjiy55m+EJUJR7ID7MDJtkwxlZyYAr+XH qDMUJ+daz5a3+/DO7FjjVa+OKk9tMf1Qplr9Q5V/M7f4wd5TJgl2dCIIs4HhvXSXeaDY 3f1A== X-Gm-Message-State: AOJu0Yx4lkHdh0x5oxHpd3P23rVXdJsx2xjLBd0QVWcpv8Zn21fEFT8g KGF9OXhogrrcxVpkdcuYzAeO3LsDs7ErRMcGlJUa85qo+9wDoR6Y2Y/R39Hz3RfKXt5/NO9xHBt lhGwZQE7b4yCv44nKLIFRV+dtGGvGvFb/7qVWuNMMrErT X-Gm-Gg: ASbGnctSdz27PQAbWk75HUFq/zPOyIQ9vv6OvKMvLW8KB8o9JrNFqtZiVpUMih6szoV FcQSFW4CSmEOPFAYaKefb7dGQgmf46zytE0EUE3R4SNtay6X3ZDGOI9dB5x/dPAoXvdAydGNvLi 2Li7wATTGiOoSU3d/qtZbnvJjlOsZpXpnZAT4WbyV/kOd+ju8uGzgc7IYsAOBSOgto+Xl8Wl9sg 3FnPRhkYJEF+U7Om5LfhYoixvok0ObLyTmq8o8OvVcRH8GSa/h1SKw6nyHtPqQ/OAiBmn50YTeX seTjMazpGgcUoMjCIE6oF1jnsZWzFhdCEFtZ+OgnwWLZ4agbKcfAYZ3BNOXL6K7G7Zc4CZYxNo5 8r48veJpD2ZFQ6XfQJ8j+O6yFG+zB9Ms= X-Google-Smtp-Source: AGHT+IF6nAx7LgjjT9i87JTyO9F1LsTLlUb0y7lwad4rwoUcJcxs9LF0bJDRZyeDwIrKugXOc4rUBLzlHQKH X-Received: by 2002:a05:6e02:2788:b0:430:ab30:7b24 with SMTP id e9e14a558f8ab-431d32df715mr95782415ab.15.1761236586090; Thu, 23 Oct 2025 09:23:06 -0700 (PDT) Received: from postal.iol.unh.edu (postal.iol.unh.edu. [132.177.123.84]) by smtp-relay.gmail.com with ESMTPS id e9e14a558f8ab-431dbb82831sm2262205ab.0.2025.10.23.09.23.06 (version=TLS1_2 cipher=ECDHE-ECDSA-AES128-GCM-SHA256 bits=128/128); Thu, 23 Oct 2025 09:23:06 -0700 (PDT) X-Relaying-Domain: iol.unh.edu Date: Thu, 23 Oct 2025 09:23:06 -0700 (PDT) Message-ID: <68fa566a.050a0220.515f4.b76bSMTPIN_ADDED_MISSING@mx.google.com> Received: from [172.21.0.2] (unknown [172.18.0.240]) by postal.iol.unh.edu (Postfix) with ESMTP id BBDF9604D420; Thu, 23 Oct 2025 12:23:05 -0400 (EDT) Subject: |WARNING| pw158011 [PATCH] [v3] net/vmxnet3: disable RSS for single From: dpdklab@iol.unh.edu To: Test Report Cc: dpdk-test-reports@iol.unh.edu, Stephen Hemminger In-Reply-To: <20251023083019.18792-1-amiyaranjan.mohakud@gmail.com> References: <20251023083019.18792-1-amiyaranjan.mohakud@gmail.com> Content-Type: text/plain X-BeenThere: test-report@dpdk.org X-Mailman-Version: 2.1.29 Precedence: list List-Id: automatic DPDK test reports List-Unsubscribe: , List-Archive: List-Post: List-Help: List-Subscribe: , Errors-To: test-report-bounces@dpdk.org Test-Label: iol-compile-amd64-testing Test-Status: WARNING http://dpdk.org/patch/158011 _Testing issues_ Submitter: Amiya Ranjan Mohakud Date: Thursday, October 23 2025 08:30:19 DPDK git baseline: Repo:dpdk-next-net Branch: master CommitID:4c4055bdd19f919795f83a01faae9fc267570d7f 158011 --> testing issues Upstream job id: Generic-DPDK-Compile-Meson#437044 Test environment and result as below: +-------------------------------+--------------------+-------------------+-------------------------+----------------------+-------------------+------------------+ | Environment | dpdk_meson_compile | dpdk_msvc_compile | dpdk_llvm_clang_compile | dpdk_mingw64_compile | dpdk_compile_spdk | dpdk_compile_ovs | +===============================+====================+===================+=========================+======================+===================+==================+ | Ubuntu 20.04 | PASS | SKIPPED | SKIPPED | SKIPPED | SKIPPED | SKIPPED | +-------------------------------+--------------------+-------------------+-------------------------+----------------------+-------------------+------------------+ | FreeBSD 14.2 | PASS | SKIPPED | SKIPPED | SKIPPED | SKIPPED | SKIPPED | +-------------------------------+--------------------+-------------------+-------------------------+----------------------+-------------------+------------------+ | CentOS Stream 9 | PASS | SKIPPED | SKIPPED | SKIPPED | WARN | SKIPPED | +-------------------------------+--------------------+-------------------+-------------------------+----------------------+-------------------+------------------+ | CentOS Stream 10 | PASS | SKIPPED | SKIPPED | SKIPPED | SKIPPED | SKIPPED | +-------------------------------+--------------------+-------------------+-------------------------+----------------------+-------------------+------------------+ | Debian GNU/Linux 12 | PASS | SKIPPED | SKIPPED | SKIPPED | WARN | SKIPPED | +-------------------------------+--------------------+-------------------+-------------------------+----------------------+-------------------+------------------+ | Fedora Linux 42 | PASS | SKIPPED | SKIPPED | SKIPPED | WARN | PASS | +-------------------------------+--------------------+-------------------+-------------------------+----------------------+-------------------+------------------+ | openSUSE Leap 15.6 | PASS | SKIPPED | SKIPPED | SKIPPED | SKIPPED | SKIPPED | +-------------------------------+--------------------+-------------------+-------------------------+----------------------+-------------------+------------------+ | Red Hat Enterprise Linux 8.10 | PASS | SKIPPED | SKIPPED | SKIPPED | SKIPPED | SKIPPED | +-------------------------------+--------------------+-------------------+-------------------------+----------------------+-------------------+------------------+ | Red Hat Enterprise Linux 9.5 | PASS | SKIPPED | SKIPPED | SKIPPED | SKIPPED | SKIPPED | +-------------------------------+--------------------+-------------------+-------------------------+----------------------+-------------------+------------------+ | Windows Server 2022 | SKIPPED | PASS | PASS | PASS | SKIPPED | SKIPPED | +-------------------------------+--------------------+-------------------+-------------------------+----------------------+-------------------+------------------+ ==== 20 line log output for Fedora Linux 42 (dpdk_compile_spdk): ==== --- Failed to get log output --- ==== End log output ==== Ubuntu 20.04 Kernel: 4.19 Compiler: gcc gcc (Ubuntu 9.4.0-1ubuntu1~20.04.2) 9.4.0 FreeBSD 14.2 Kernel: 14.2-RELEASE Compiler: clang 18.1.6 CentOS Stream 9 Kernel: 5.15 Compiler: gcc gcc (GCC) 11.5.0 20240719 (Red Hat 11.5.0-11) CentOS Stream 10 Kernel: 5.15 Compiler: gcc gcc (GCC) 14.2.1 20250110 (Red Hat 14.2.1-8) Debian GNU/Linux 12 Kernel: 5.15 Compiler: gcc gcc (Debian 12.2.0-14+deb12u1) 12.2.0 Fedora Linux 42 Kernel: 5.15 Compiler: clang gcc (GCC) 15.2.1 20250808 (Red Hat 15.2.1-1) openSUSE Leap 15.6 Kernel: 5.15 Compiler: gcc gcc (SUSE Linux) 7.5.0 Red Hat Enterprise Linux 8.10 Kernel: 5.15 Compiler: gcc gcc (GCC) 8.5.0 20210514 (Red Hat 8.5.0-22) Red Hat Enterprise Linux 9.5 Kernel: 5.15 Compiler: gcc gcc (GCC) 11.5.0 20240719 (Red Hat 11.5.0-2) Windows Server 2022 Kernel: 10.0.20348.2031 Compiler: clang 15.0.7, gcc 14.1.0 (MinGW), and MSVC VS 19.39.33521 To view detailed results, visit: https://lab.dpdk.org/results/dashboard/patchsets/34355/ UNH-IOL DPDK Community Lab To manage your email subscriptions, visit: https://lab.dpdk.org/results/dashboard/preferences/subscriptions/