From mboxrd@z Thu Jan 1 00:00:00 1970 Return-Path: Received: from mails.dpdk.org (mails.dpdk.org [217.70.189.124]) by inbox.dpdk.org (Postfix) with ESMTP id 548B0489B5 for ; Thu, 23 Oct 2025 18:26:14 +0200 (CEST) Received: from mails.dpdk.org (localhost [127.0.0.1]) by mails.dpdk.org (Postfix) with ESMTP id 4EEFF40151; Thu, 23 Oct 2025 18:26:14 +0200 (CEST) Received: from mail-il1-f225.google.com (mail-il1-f225.google.com [209.85.166.225]) by mails.dpdk.org (Postfix) with ESMTP id B911F40151 for ; Thu, 23 Oct 2025 18:26:13 +0200 (CEST) Received: by mail-il1-f225.google.com with SMTP id e9e14a558f8ab-430c97cbe0eso10186965ab.2 for ; Thu, 23 Oct 2025 09:26:13 -0700 (PDT) DKIM-Signature: v=1; a=rsa-sha256; c=relaxed/relaxed; d=iol.unh.edu; s=unh-iol; t=1761236773; x=1761841573; darn=dpdk.org; h=references:in-reply-to:cc:to:from:subject:message-id:date:from:to :cc:subject:date:message-id:reply-to; bh=WRjNrybcQR4Z32LhygnIteUmu2FvStPyKMw+3JkJBkQ=; b=LBxfDSRUz97qZLiJZiRkDJmbl5NHr0q9hCyAPe+aanfR9Ba5KiBeTEIo3ptrrC7cGH 6iUi9tihU3gmHU05ncczsgtbQNnePI5txd6RBkfGuEPUWa5h9UbjI9jYnslD3PeKbVs7 xGAGHVVsqCVzJoHah0NlfEapO0xDyzNgGz/xs= X-Google-DKIM-Signature: v=1; a=rsa-sha256; c=relaxed/relaxed; d=1e100.net; s=20230601; t=1761236773; x=1761841573; h=references:in-reply-to:cc:to:from:subject:message-id:date :x-gm-message-state:from:to:cc:subject:date:message-id:reply-to; bh=WRjNrybcQR4Z32LhygnIteUmu2FvStPyKMw+3JkJBkQ=; b=igdchM0/56APqmWBAjGaQuYQlmgiySzFfIoD4DhsGGhgLCoFREMbJL8zwOpgxQm1hD 9mSlqkn9n5CC/W08l46rAzxs6xKzeyrl3U0lq1t8ZQOpTdiKYhmqfK9PnVpbq8nxeOMX J4JPfz70z1V9yvMflvPxEXr9k54PBAKWnWTFjFK5BjNQ1wDsQ1o0e/BimcXBRwzHRZ+/ f4x68qahHezmdUWbSw+9M+5IijvEqe+Psp2cY2ICc2+aFFs5sIuHJoi9QzyWlQ8Jrqe6 rGYj1K4uQfJgDxFPlrdbHRhqxvtY+kEVyCT9AaTBSykNimhhT8FW1JuW+JNUCjDw3WyI 9WcA== X-Gm-Message-State: AOJu0YxOFwrZLatlqRCiK9XOMo4FeJzqum946B84fZUpYmPg5dwzNIp3 KpdUW+E4SfoEO+S2S5EgBaTMAoFnkXykr2ArnCSi3/Kfxl5LWqTcWr15TV6YDvmlJq5kqxNYBVM 1hvmzQO/PC2VY+UL5lORs28Po+CeanWbqjTMVOZKMYX7cQcUllf7IziGmfpx0 X-Gm-Gg: ASbGnctvR2wcoAgVzNx+8PQ5nOKchyAfuTWBxQE0jjc5BDY6gqvE58J6DdrCMJ0BToJ WZZqfLOxRzhp2Iad+1cqxAqlNdgyMlWDlKfHef9LqOR3Ls8rgSJWkniu5xV8Bgw20sDscQL2t86 3uOSg4A+lj7IpzpeIlOWU8B/9kbemAQdGzyTEBapUWDcP5qNCeZPoy1HwyvLlGfnFJshMcXVpuB zbdIroK56b6iDjwPOAM930eXNjWwXo3bRV05dz68MGMPTN7ccZ/NBXdFnlxZApR1WelK+yj9o7J SaApgt963K0Wpm7dyjUis/ltkrWa7cSnc3kjN/FgnFfX2sg6ymONUtAl0yzOOqKCXQg4TKt1YB9 aN7PV7xB1 X-Google-Smtp-Source: AGHT+IHZAYR0YT+1/VoFdvA1TGc5/phasRD/2SmJmrqhmIuUvOOC/3J4fETTmvJJQwjJ4jl+E4aFR/7T5TJx X-Received: by 2002:a05:6e02:3f09:b0:430:cad8:4610 with SMTP id e9e14a558f8ab-431dc20f615mr38051845ab.23.1761236773003; Thu, 23 Oct 2025 09:26:13 -0700 (PDT) Received: from postal.iol.unh.edu (postal.iol.unh.edu. [2606:4100:3880:1234::84]) by smtp-relay.gmail.com with ESMTPS id e9e14a558f8ab-431dbc03752sm2242015ab.10.2025.10.23.09.26.12 (version=TLS1_2 cipher=ECDHE-ECDSA-AES128-GCM-SHA256 bits=128/128); Thu, 23 Oct 2025 09:26:12 -0700 (PDT) X-Relaying-Domain: iol.unh.edu Date: Thu, 23 Oct 2025 09:26:12 -0700 (PDT) Message-ID: <68fa5724.050a0220.34d300.b2e9SMTPIN_ADDED_MISSING@mx.google.com> Received: from [172.21.0.2] (unknown [172.18.0.240]) by postal.iol.unh.edu (Postfix) with ESMTP id A7864604D420; Thu, 23 Oct 2025 12:26:12 -0400 (EDT) Subject: |WARNING| pw158011 [PATCH] [v3] net/vmxnet3: disable RSS for single From: dpdklab@iol.unh.edu To: Test Report Cc: dpdk-test-reports@iol.unh.edu, Stephen Hemminger In-Reply-To: <20251023083019.18792-1-amiyaranjan.mohakud@gmail.com> References: <20251023083019.18792-1-amiyaranjan.mohakud@gmail.com> Content-Type: text/plain X-BeenThere: test-report@dpdk.org X-Mailman-Version: 2.1.29 Precedence: list List-Id: automatic DPDK test reports List-Unsubscribe: , List-Archive: List-Post: List-Help: List-Subscribe: , Errors-To: test-report-bounces@dpdk.org Test-Label: iol-compile-amd64-testing Test-Status: WARNING http://dpdk.org/patch/158011 _Testing issues_ Submitter: Amiya Ranjan Mohakud Date: Thursday, October 23 2025 08:30:19 DPDK git baseline: Repo:dpdk-next-net Branch: master CommitID:4c4055bdd19f919795f83a01faae9fc267570d7f 158011 --> testing issues Upstream job id: Generic-DPDK-Compile-Meson#437045 Test environment and result as below: +-------------------------------+--------------------+-------------------+-------------------------+----------------------+-------------------+------------------+ | Environment | dpdk_meson_compile | dpdk_msvc_compile | dpdk_llvm_clang_compile | dpdk_mingw64_compile | dpdk_compile_spdk | dpdk_compile_ovs | +===============================+====================+===================+=========================+======================+===================+==================+ | Ubuntu 20.04 | PASS | SKIPPED | SKIPPED | SKIPPED | SKIPPED | SKIPPED | +-------------------------------+--------------------+-------------------+-------------------------+----------------------+-------------------+------------------+ | FreeBSD 14.2 | PASS | SKIPPED | SKIPPED | SKIPPED | SKIPPED | SKIPPED | +-------------------------------+--------------------+-------------------+-------------------------+----------------------+-------------------+------------------+ | CentOS Stream 9 | PASS | SKIPPED | SKIPPED | SKIPPED | WARN | SKIPPED | +-------------------------------+--------------------+-------------------+-------------------------+----------------------+-------------------+------------------+ | CentOS Stream 10 | PASS | SKIPPED | SKIPPED | SKIPPED | SKIPPED | SKIPPED | +-------------------------------+--------------------+-------------------+-------------------------+----------------------+-------------------+------------------+ | Debian GNU/Linux 12 | PASS | SKIPPED | SKIPPED | SKIPPED | WARN | SKIPPED | +-------------------------------+--------------------+-------------------+-------------------------+----------------------+-------------------+------------------+ | Fedora Linux 42 | PASS | SKIPPED | SKIPPED | SKIPPED | WARN | PASS | +-------------------------------+--------------------+-------------------+-------------------------+----------------------+-------------------+------------------+ | openSUSE Leap 15.6 | PASS | SKIPPED | SKIPPED | SKIPPED | SKIPPED | SKIPPED | +-------------------------------+--------------------+-------------------+-------------------------+----------------------+-------------------+------------------+ | Red Hat Enterprise Linux 8.10 | PASS | SKIPPED | SKIPPED | SKIPPED | SKIPPED | SKIPPED | +-------------------------------+--------------------+-------------------+-------------------------+----------------------+-------------------+------------------+ | Red Hat Enterprise Linux 9.5 | PASS | SKIPPED | SKIPPED | SKIPPED | SKIPPED | SKIPPED | +-------------------------------+--------------------+-------------------+-------------------------+----------------------+-------------------+------------------+ | Windows Server 2022 | SKIPPED | PASS | PASS | PASS | SKIPPED | SKIPPED | +-------------------------------+--------------------+-------------------+-------------------------+----------------------+-------------------+------------------+ ==== 20 line log output for Fedora Linux 42 (dpdk_compile_spdk): ==== --- Failed to get log output --- ==== End log output ==== Ubuntu 20.04 Kernel: 4.19 Compiler: gcc gcc (Ubuntu 9.4.0-1ubuntu1~20.04.2) 9.4.0 FreeBSD 14.2 Kernel: 14.2-RELEASE Compiler: clang 18.1.6 CentOS Stream 9 Kernel: 5.15 Compiler: gcc gcc (GCC) 11.5.0 20240719 (Red Hat 11.5.0-11) CentOS Stream 10 Kernel: 5.15 Compiler: gcc gcc (GCC) 14.2.1 20250110 (Red Hat 14.2.1-8) Debian GNU/Linux 12 Kernel: 5.15 Compiler: gcc gcc (Debian 12.2.0-14+deb12u1) 12.2.0 Fedora Linux 42 Kernel: 5.15 Compiler: clang gcc (GCC) 15.2.1 20250808 (Red Hat 15.2.1-1) openSUSE Leap 15.6 Kernel: 5.15 Compiler: gcc gcc (SUSE Linux) 7.5.0 Red Hat Enterprise Linux 8.10 Kernel: 5.15 Compiler: gcc gcc (GCC) 8.5.0 20210514 (Red Hat 8.5.0-22) Red Hat Enterprise Linux 9.5 Kernel: 5.15 Compiler: gcc gcc (GCC) 11.5.0 20240719 (Red Hat 11.5.0-2) Windows Server 2022 Kernel: 10.0.20348.2031 Compiler: clang 15.0.7, gcc 14.1.0 (MinGW), and MSVC VS 19.39.33521 To view detailed results, visit: https://lab.dpdk.org/results/dashboard/patchsets/34355/ UNH-IOL DPDK Community Lab To manage your email subscriptions, visit: https://lab.dpdk.org/results/dashboard/preferences/subscriptions/