From mboxrd@z Thu Jan 1 00:00:00 1970 Return-Path: Received: from mails.dpdk.org (mails.dpdk.org [217.70.189.124]) by inbox.dpdk.org (Postfix) with ESMTP id 355C0489B5 for ; Thu, 23 Oct 2025 18:40:25 +0200 (CEST) Received: from mails.dpdk.org (localhost [127.0.0.1]) by mails.dpdk.org (Postfix) with ESMTP id 2EBCF40144; Thu, 23 Oct 2025 18:40:25 +0200 (CEST) Received: from mail-yw1-f227.google.com (mail-yw1-f227.google.com [209.85.128.227]) by mails.dpdk.org (Postfix) with ESMTP id 5688840144 for ; Thu, 23 Oct 2025 18:40:23 +0200 (CEST) Received: by mail-yw1-f227.google.com with SMTP id 00721157ae682-7817c2d909cso11941627b3.1 for ; Thu, 23 Oct 2025 09:40:23 -0700 (PDT) DKIM-Signature: v=1; a=rsa-sha256; c=relaxed/relaxed; d=iol.unh.edu; s=unh-iol; t=1761237622; x=1761842422; darn=dpdk.org; h=references:in-reply-to:cc:to:from:subject:message-id:date:from:to :cc:subject:date:message-id:reply-to; bh=n2VpTWU01nazwuD3IJXE0yMxaCN2PXoRHQ6+avWc6BA=; b=ALmn34U/87AW6JJZiFJLjw93S7KMg2ghZyJS022b8j1wclYbjQcjRiZlbREuAPREMa L1eTFkO99H8REo39MM+bmg/8WCmpiHcCFF6fP36JH22hZSHZBzdnnoaymvPaKDH/Bicr mbd+/9/Qx8VMSiDyZQeGtKM97IcXIsBbNJVo8= X-Google-DKIM-Signature: v=1; a=rsa-sha256; c=relaxed/relaxed; d=1e100.net; s=20230601; t=1761237622; x=1761842422; h=references:in-reply-to:cc:to:from:subject:message-id:date :x-gm-message-state:from:to:cc:subject:date:message-id:reply-to; bh=n2VpTWU01nazwuD3IJXE0yMxaCN2PXoRHQ6+avWc6BA=; b=nDSEpFVQptEeKzqbEuAoL2j5e1SoqX6TdEi2yVjrgecYfzd33B4OzjRHqQo+qaIdPC uij7k2R/7J7YIYknnItj5DjGCXtkdgHV7opQXpbhh/eAz1LO2Jq01jByNru+fqDjk0Yv LcaO5cO+YqtH+OEvZZ2EBbxDThnK5ZaTMRVNlBfuWqEcGTNF//52vgj4UQUUDbm23Ieb 7Bqs93yIkuJaMhbpG+LIE693gtvPwK7eCD6FzwMNzxRs51Xor+KOWrlUL3PARNEM7X5d RwlR9ycXst+XCHUw6xVmuRIkqmw6wcUQQyKqSvyeLgdriaBg6Mcd+pbd33ZH4k7uACsh S+Ww== X-Gm-Message-State: AOJu0YzD92jnqW86WNIGgWOJquD1PWlK0wILYzN4nVS8TbP8hK43BWei A5aX3U/B6/YsdnhCCV7k6u7xYX11wZGQ2MQUXp7B/pQuFzcQtlXlKgkQY9QZmwM7nGlG04kkzIt JENgfU7nAc7v+rc8uEi80hH6HVwdKd7aUQbjVqmU2EXfJ X-Gm-Gg: ASbGncvRSoGW0kwLOye/AN65jP3azsmz6TT8c056HreFmHCfGTwlppQ+ANQOfX/FQx9 UMimSqpAO/OfO7+ztXtLdx3z4FUZTJECkxbKuzI1JPZO5U7DxlJWeUPlmo2AnOKqskStkcsH579 6fY72JT3/tjcFfPYpfmvS18RzZ3eDK004455CHCrm/bPXycaT5dp5IdAjxrawge6S68wg8b3Aqh Tb95h1VCy9vN7bm2qqNzqPcIzWgVgggHA8x67Hzamh5N0cafhfVP/+Ihi2ezVhOYvVpIpGzTxbr XMSVi3s1HnyNtnfrxANmEnapp9zON9t5PAOM359YbCrX1sPWTpD4XofH0hVwCXj1VOIM921L44O ohySKPIplFqr1QnBUJED8fQtE3eY2bcU= X-Google-Smtp-Source: AGHT+IE1QpoeyO04vr9L/9v0Qk6FurdV+C8aqspS3nzJnzMgtV1fbM7gaTK5E3A/ALiMovPq6QVed1p4tnPy X-Received: by 2002:a05:690c:67c5:b0:77f:772e:6229 with SMTP id 00721157ae682-7836d169afcmr388779017b3.1.1761237622136; Thu, 23 Oct 2025 09:40:22 -0700 (PDT) Received: from postal.iol.unh.edu (postal.iol.unh.edu. [132.177.123.84]) by smtp-relay.gmail.com with ESMTPS id 956f58d0204a3-63f378d961csm136006d50.2.2025.10.23.09.40.22 (version=TLS1_2 cipher=ECDHE-ECDSA-AES128-GCM-SHA256 bits=128/128); Thu, 23 Oct 2025 09:40:22 -0700 (PDT) X-Relaying-Domain: iol.unh.edu Date: Thu, 23 Oct 2025 09:40:22 -0700 (PDT) Message-ID: <68fa5a76.050a0220.52bd2.68ceSMTPIN_ADDED_MISSING@mx.google.com> Received: from [172.21.0.2] (unknown [172.18.0.240]) by postal.iol.unh.edu (Postfix) with ESMTP id BE2B76050A61; Thu, 23 Oct 2025 12:40:21 -0400 (EDT) Subject: |WARNING| pw158011 [PATCH] [v3] net/vmxnet3: disable RSS for single From: dpdklab@iol.unh.edu To: Test Report Cc: dpdk-test-reports@iol.unh.edu, Stephen Hemminger In-Reply-To: <20251023083019.18792-1-amiyaranjan.mohakud@gmail.com> References: <20251023083019.18792-1-amiyaranjan.mohakud@gmail.com> Content-Type: text/plain X-BeenThere: test-report@dpdk.org X-Mailman-Version: 2.1.29 Precedence: list List-Id: automatic DPDK test reports List-Unsubscribe: , List-Archive: List-Post: List-Help: List-Subscribe: , Errors-To: test-report-bounces@dpdk.org Test-Label: iol-compile-amd64-testing Test-Status: WARNING http://dpdk.org/patch/158011 _Testing issues_ Submitter: Amiya Ranjan Mohakud Date: Thursday, October 23 2025 08:30:19 DPDK git baseline: Repo:dpdk-next-net Branch: master CommitID:4c4055bdd19f919795f83a01faae9fc267570d7f 158011 --> testing issues Upstream job id: Generic-DPDK-Compile-Meson#437047 Test environment and result as below: +-------------------------------+--------------------+-------------------+-------------------------+----------------------+-------------------+------------------+ | Environment | dpdk_meson_compile | dpdk_msvc_compile | dpdk_llvm_clang_compile | dpdk_mingw64_compile | dpdk_compile_spdk | dpdk_compile_ovs | +===============================+====================+===================+=========================+======================+===================+==================+ | Ubuntu 20.04 | PASS | SKIPPED | SKIPPED | SKIPPED | SKIPPED | SKIPPED | +-------------------------------+--------------------+-------------------+-------------------------+----------------------+-------------------+------------------+ | FreeBSD 14.2 | PASS | SKIPPED | SKIPPED | SKIPPED | SKIPPED | SKIPPED | +-------------------------------+--------------------+-------------------+-------------------------+----------------------+-------------------+------------------+ | CentOS Stream 9 | PASS | SKIPPED | SKIPPED | SKIPPED | WARN | SKIPPED | +-------------------------------+--------------------+-------------------+-------------------------+----------------------+-------------------+------------------+ | CentOS Stream 10 | PASS | SKIPPED | SKIPPED | SKIPPED | SKIPPED | SKIPPED | +-------------------------------+--------------------+-------------------+-------------------------+----------------------+-------------------+------------------+ | Debian GNU/Linux 12 | PASS | SKIPPED | SKIPPED | SKIPPED | WARN | SKIPPED | +-------------------------------+--------------------+-------------------+-------------------------+----------------------+-------------------+------------------+ | Fedora Linux 42 | PASS | SKIPPED | SKIPPED | SKIPPED | WARN | PASS | +-------------------------------+--------------------+-------------------+-------------------------+----------------------+-------------------+------------------+ | openSUSE Leap 15.6 | PASS | SKIPPED | SKIPPED | SKIPPED | SKIPPED | SKIPPED | +-------------------------------+--------------------+-------------------+-------------------------+----------------------+-------------------+------------------+ | Red Hat Enterprise Linux 8.10 | PASS | SKIPPED | SKIPPED | SKIPPED | SKIPPED | SKIPPED | +-------------------------------+--------------------+-------------------+-------------------------+----------------------+-------------------+------------------+ | Red Hat Enterprise Linux 9.5 | PASS | SKIPPED | SKIPPED | SKIPPED | SKIPPED | SKIPPED | +-------------------------------+--------------------+-------------------+-------------------------+----------------------+-------------------+------------------+ | Ubuntu 22.04 | PASS | SKIPPED | SKIPPED | SKIPPED | WARN | SKIPPED | +-------------------------------+--------------------+-------------------+-------------------------+----------------------+-------------------+------------------+ | Ubuntu 24.04 | PASS | SKIPPED | SKIPPED | SKIPPED | WARN | PASS | +-------------------------------+--------------------+-------------------+-------------------------+----------------------+-------------------+------------------+ | Windows Server 2022 | SKIPPED | PASS | PASS | PASS | SKIPPED | SKIPPED | +-------------------------------+--------------------+-------------------+-------------------------+----------------------+-------------------+------------------+ ==== 20 line log output for Ubuntu 24.04 (dpdk_compile_spdk): ==== --- Failed to get log output --- ==== End log output ==== Ubuntu 20.04 Kernel: 4.19 Compiler: gcc gcc (Ubuntu 9.4.0-1ubuntu1~20.04.2) 9.4.0 FreeBSD 14.2 Kernel: 14.2-RELEASE Compiler: clang 18.1.6 CentOS Stream 9 Kernel: 5.15 Compiler: gcc gcc (GCC) 11.5.0 20240719 (Red Hat 11.5.0-11) CentOS Stream 10 Kernel: 5.15 Compiler: gcc gcc (GCC) 14.2.1 20250110 (Red Hat 14.2.1-8) Debian GNU/Linux 12 Kernel: 5.15 Compiler: gcc gcc (Debian 12.2.0-14+deb12u1) 12.2.0 Fedora Linux 42 Kernel: 5.15 Compiler: clang gcc (GCC) 15.2.1 20250808 (Red Hat 15.2.1-1) openSUSE Leap 15.6 Kernel: 5.15 Compiler: gcc gcc (SUSE Linux) 7.5.0 Red Hat Enterprise Linux 8.10 Kernel: 5.15 Compiler: gcc gcc (GCC) 8.5.0 20210514 (Red Hat 8.5.0-22) Red Hat Enterprise Linux 9.5 Kernel: 5.15 Compiler: gcc gcc (GCC) 11.5.0 20240719 (Red Hat 11.5.0-2) Ubuntu 22.04 Kernel: 5.15 Compiler: gcc gcc (Ubuntu 11.4.0-1ubuntu1~22.04) 11.4.0 Ubuntu 24.04 Kernel: 5.15 Compiler: gcc gcc (Ubuntu 13.3.0-6ubuntu2~24.04) 13.3.0 Windows Server 2022 Kernel: 10.0.20348.2031 Compiler: clang 15.0.7, gcc 14.1.0 (MinGW), and MSVC VS 19.39.33521 To view detailed results, visit: https://lab.dpdk.org/results/dashboard/patchsets/34355/ UNH-IOL DPDK Community Lab To manage your email subscriptions, visit: https://lab.dpdk.org/results/dashboard/preferences/subscriptions/