From mboxrd@z Thu Jan 1 00:00:00 1970 Return-Path: Received: from mails.dpdk.org (mails.dpdk.org [217.70.189.124]) by inbox.dpdk.org (Postfix) with ESMTP id 57DDE489B5 for ; Thu, 23 Oct 2025 18:40:40 +0200 (CEST) Received: from mails.dpdk.org (localhost [127.0.0.1]) by mails.dpdk.org (Postfix) with ESMTP id 5317940144; Thu, 23 Oct 2025 18:40:40 +0200 (CEST) Received: from mail-qv1-f97.google.com (mail-qv1-f97.google.com [209.85.219.97]) by mails.dpdk.org (Postfix) with ESMTP id DEC4640144 for ; Thu, 23 Oct 2025 18:40:39 +0200 (CEST) Received: by mail-qv1-f97.google.com with SMTP id 6a1803df08f44-87c13813464so13892366d6.1 for ; Thu, 23 Oct 2025 09:40:39 -0700 (PDT) DKIM-Signature: v=1; a=rsa-sha256; c=relaxed/relaxed; d=iol.unh.edu; s=unh-iol; t=1761237639; x=1761842439; darn=dpdk.org; h=references:in-reply-to:cc:to:from:subject:message-id:date:from:to :cc:subject:date:message-id:reply-to; bh=UxIcyGsmSM+ooBu2RnVvEIQhwWmH9QGm9pXtvG5Z7Eg=; b=Kgf/3XTtKTE0t3RgW0d8J2N7DO+WgOVRhoVDArPm8sxpDagpBMl/pwOH3RrRTurTqx HL1xLUPBuGiz1BkA2CTxjb7s5AjzUFjzDPQZV/WYSji013t0bV6xVvoAxhdqiXJzlTui WBHsd/UgfcICZ6Nj8zchKwG8V+IZo5smTRCkU= X-Google-DKIM-Signature: v=1; a=rsa-sha256; c=relaxed/relaxed; d=1e100.net; s=20230601; t=1761237639; x=1761842439; h=references:in-reply-to:cc:to:from:subject:message-id:date :x-gm-message-state:from:to:cc:subject:date:message-id:reply-to; bh=UxIcyGsmSM+ooBu2RnVvEIQhwWmH9QGm9pXtvG5Z7Eg=; b=MnsZu0/0uyMCPS1+/V9u85RDcyCi1Pz8K+Uaz8Gt2WHEDyoHPwfgta65NSuVJi6VZ1 3wsoaH6mBrvhkQZnIY54nIq08WeS0kmGvj/w7VN5orVLcJUohP3kkv706LFOud1ug+A/ CRpqQJjQZrYaFaERZPzSGCyPb5RJQekkB0FRbvtF5JDcUSM6k4TqzDWybWYzknTRhZXm zOAicwoA6xtctoD/EPvwwjf+cJ1uWAKDc0Rk9VuDuMm9dsonzI1cjumyxao+U/nfIROO 9Ui2sx3hVy8DuoWtULbdxXpBr5AusimhaIRr5OLrP/c6h7QwCqaYqdTUFHqUynbkIZO4 xIvw== X-Gm-Message-State: AOJu0YyLTbbuDcrJGnSv0gOq4XQyz3KDe6ngz8YFNqU4APfw7EN+N254 qASgVOXRkzMU0O/oyemQ2hFa5GzAOhN+oOjqyKP6LiVydzy73fsGcnUsfZTEsefXj5gPwkaEYh8 ZsScDLFkZYIUL6AI3VCytep/nxQwWIo1eq4hCo+mdIZTy X-Gm-Gg: ASbGncsZCtPwWtfPMWvN+zBPAezLIWd98UVK1cIOsdqGiwuPNqP/xr2PQ26sJ+8B6Yl rGS7mycC8b+L25PGWQCuyWuQwQkDnJ0WJusOruMMp5unteEk2IgRAFWSgtH+GR3VlGg3Ku7yNmj mtX4l3c54V/R2HxuccCibJ+r4uyQyXysmd5zIrwHojKRWMmNCd2hqFvAaLPzQ5WhGk9EmRmB80O o0rUvtG8WWV+kPpgbDwPxcEZVauFhiRAy03Q3/qr9k30mRm/3CapaMqSWAbSqTfWWW7/7jVQcCN zh+Pf4ML9agV57nfFV5TQI7ylayaARrVQ/qWUvdMj7DUY+jnhCTus12EU1AouPR5asMsiy9qpft Sw9PbjLVDU0P2+KuyifgUFGdjYZilkKU= X-Google-Smtp-Source: AGHT+IFbbYMSLHNs+8FaDNA2Q7VWwAgwFdOfVarYO+B+VrfyKk419ea7RLkya79BSZ7QZKEAgJUzf5dQjBLk X-Received: by 2002:a05:6214:1c8e:b0:87c:82c:628 with SMTP id 6a1803df08f44-87c20652952mr267591246d6.57.1761237639063; Thu, 23 Oct 2025 09:40:39 -0700 (PDT) Received: from postal.iol.unh.edu (postal.iol.unh.edu. [132.177.123.84]) by smtp-relay.gmail.com with ESMTPS id 6a1803df08f44-87f9e8021a4sm1895336d6.29.2025.10.23.09.40.38 (version=TLS1_2 cipher=ECDHE-ECDSA-AES128-GCM-SHA256 bits=128/128); Thu, 23 Oct 2025 09:40:39 -0700 (PDT) X-Relaying-Domain: iol.unh.edu Date: Thu, 23 Oct 2025 09:40:39 -0700 (PDT) Message-ID: <68fa5a87.050a0220.1559bc.9c6bSMTPIN_ADDED_MISSING@mx.google.com> Received: from [172.21.0.2] (unknown [172.18.0.240]) by postal.iol.unh.edu (Postfix) with ESMTP id BC3FB6050A61; Thu, 23 Oct 2025 12:40:38 -0400 (EDT) Subject: |WARNING| pw158029-158036 [PATCH] [v4,8/8] doc: update documentation From: dpdklab@iol.unh.edu To: Test Report Cc: dpdk-test-reports@iol.unh.edu In-Reply-To: <20251023154748.38535-9-stephen@networkplumber.org> References: <20251023154748.38535-9-stephen@networkplumber.org> Content-Type: text/plain X-BeenThere: test-report@dpdk.org X-Mailman-Version: 2.1.29 Precedence: list List-Id: automatic DPDK test reports List-Unsubscribe: , List-Archive: List-Post: List-Help: List-Subscribe: , Errors-To: test-report-bounces@dpdk.org Test-Label: iol-unit-amd64-testing Test-Status: WARNING http://dpdk.org/patch/158036 _Testing issues_ Submitter: Stephen Hemminger Date: Thursday, October 23 2025 15:46:29 DPDK git baseline: Repo:dpdk Branch: master CommitID:7c744b9a08cf3dd6bdd215689bb6d2beb8a8a4ef 158029-158036 --> testing issues Upstream job id: Generic-VM-Unit-Test-DPDK#32012 Test environment and result as below: +-------------------------------+----------------+ | Environment | dpdk_unit_test | +===============================+================+ | CentOS Stream 9 | WARN | +-------------------------------+----------------+ | Fedora Linux 40 | PASS | +-------------------------------+----------------+ | Debian GNU/Linux 12 | WARN | +-------------------------------+----------------+ | CentOS Stream 10 | WARN | +-------------------------------+----------------+ | Fedora Linux 42 | PASS | +-------------------------------+----------------+ | Ubuntu 20.04 | WARN | +-------------------------------+----------------+ | Red Hat Enterprise Linux 9.5 | WARN | +-------------------------------+----------------+ | Red Hat Enterprise Linux 8.10 | WARN | +-------------------------------+----------------+ | Fedora Linux 41 | WARN | +-------------------------------+----------------+ | Ubuntu 24.04 | WARN | +-------------------------------+----------------+ | Ubuntu 22.04 | WARN | +-------------------------------+----------------+ | Windows Server 2022 | PASS | +-------------------------------+----------------+ ==== 20 line log output for Ubuntu 22.04 (dpdk_unit_test): ==== In file included from ../lib/eal/common/eal_export.h:8, from ../lib/pdump/rte_pdump.c:7: ../lib/pdump/rte_pdump.c: In function 'pdump_copy': ../lib/eal/include/rte_common.h:799:20: error: comparison of integer expressions of different signedness: 'unsigned int' and 'int' [-Werror=sign-compare] 799 | _a < _b ? _a : _b; \ | ^ ../lib/pdump/rte_pdump.c:211:34: note: in expansion of macro 'RTE_MIN' 211 | unsigned int n = RTE_MIN(nb_pkts - offs, PDUMP_BURST_SIZE); | ^~~~~~~ ../lib/eal/include/rte_common.h:799:32: error: operand of '?:' changes signedness from 'int' to 'unsigned int' due to unsignedness of other operand [-Werror=sign-compare] 799 | _a < _b ? _a : _b; \ | ^~ ../lib/pdump/rte_pdump.c:211:34: note: in expansion of macro 'RTE_MIN' 211 | unsigned int n = RTE_MIN(nb_pkts - offs, PDUMP_BURST_SIZE); | ^~~~~~~ cc1: all warnings being treated as errors [558/3592] Generating vhost.sym_chk with a custom command (wrapped by meson to capture output) [559/3592] Generating table.sym_chk with a custom command (wrapped by meson to capture output) [560/3592] Compiling C object lib/librte_pipeline.a.p/pipeline_rte_table_action.c.o ninja: build stopped: subcommand failed. ==== End log output ==== CentOS Stream 9 Kernel: 5.15 Compiler: gcc gcc (GCC) 11.5.0 20240719 (Red Hat 11.5.0-11) Fedora Linux 40 Kernel: 5.15 Compiler: gcc gcc (GCC) 14.2.1 20240912 (Red Hat 14.2.1-3) Debian GNU/Linux 12 Kernel: 5.15 Compiler: gcc gcc (Debian 12.2.0-14+deb12u1) 12.2.0 CentOS Stream 10 Kernel: 5.15 Compiler: gcc gcc (GCC) 14.2.1 20250110 (Red Hat 14.2.1-8) Fedora Linux 42 Kernel: 5.15 Compiler: gcc gcc (GCC) 15.2.1 20250808 (Red Hat 15.2.1-1) Ubuntu 20.04 Kernel: 5.15 Compiler: gcc gcc (Ubuntu 9.4.0-1ubuntu1~20.04.2) 9.4.0 Red Hat Enterprise Linux 9.5 Kernel: 5.15 Compiler: gcc gcc (GCC) 11.5.0 20240719 (Red Hat 11.5.0-2) Red Hat Enterprise Linux 8.10 Kernel: 5.15 Compiler: gcc gcc (GCC) 8.5.0 20210514 (Red Hat 8.5.0-22) Fedora Linux 41 Kernel: 5.15 Compiler: clang gcc (GCC) 14.3.1 20250523 (Red Hat 14.3.1-1) Ubuntu 24.04 Kernel: 5.15 Compiler: gcc gcc (Ubuntu 13.3.0-6ubuntu2~24.04) 13.3.0 Ubuntu 22.04 Kernel: 5.15 Compiler: gcc gcc (Ubuntu 11.4.0-1ubuntu1~22.04) 11.4.0 Windows Server 2022 Kernel: 10.0.20348.2031 Compiler: clang 15.0.7, gcc 14.1.0 (MinGW), and MSVC VS 19.39.33521 To view detailed results, visit: https://lab.dpdk.org/results/dashboard/patchsets/34362/ UNH-IOL DPDK Community Lab To manage your email subscriptions, visit: https://lab.dpdk.org/results/dashboard/preferences/subscriptions/