From mboxrd@z Thu Jan 1 00:00:00 1970 Return-Path: Received: from mails.dpdk.org (mails.dpdk.org [217.70.189.124]) by inbox.dpdk.org (Postfix) with ESMTP id A5917489BB for ; Thu, 23 Oct 2025 18:57:16 +0200 (CEST) Received: from mails.dpdk.org (localhost [127.0.0.1]) by mails.dpdk.org (Postfix) with ESMTP id 8935240276; Thu, 23 Oct 2025 18:57:16 +0200 (CEST) Received: from mail-pf1-f228.google.com (mail-pf1-f228.google.com [209.85.210.228]) by mails.dpdk.org (Postfix) with ESMTP id 3866D40276 for ; Thu, 23 Oct 2025 18:57:15 +0200 (CEST) Received: by mail-pf1-f228.google.com with SMTP id d2e1a72fcca58-78118e163e5so2156161b3a.0 for ; Thu, 23 Oct 2025 09:57:15 -0700 (PDT) DKIM-Signature: v=1; a=rsa-sha256; c=relaxed/relaxed; d=iol.unh.edu; s=unh-iol; t=1761238634; x=1761843434; darn=dpdk.org; h=references:in-reply-to:cc:to:from:subject:message-id:date:from:to :cc:subject:date:message-id:reply-to; bh=DVmGlpp0tOrv2SwjThpQYg0j/9DJX/yh+46z8vKoMno=; b=GZSVrL0PcuCiYhh61tUsz0+TM7/2epg1uiYKaFkUB8XpXfSCZOvc/hK7uQB7BerD+y qAaFtKXj42vknu99GqK0SblrFXSxxOxcbWms3y0TC11hflAwO0I6tRqC3qBQaBbBzvZe O0BumTiljwKOpFJHLMtS/70irqfO2+O8X9/g4= X-Google-DKIM-Signature: v=1; a=rsa-sha256; c=relaxed/relaxed; d=1e100.net; s=20230601; t=1761238634; x=1761843434; h=references:in-reply-to:cc:to:from:subject:message-id:date :x-gm-message-state:from:to:cc:subject:date:message-id:reply-to; bh=DVmGlpp0tOrv2SwjThpQYg0j/9DJX/yh+46z8vKoMno=; b=R30g/aVRux4PqaaZAybhekv/kIlPNqkry0uyeeMvBJ/uBGtshxg4STyZ3swSij2A4g l26MQqfcRVeSUEba/T0l2zSmZ4LvVJRR5Yx4FR4Qof8yu1ClvAWL2nbOTpu+jtf7qwLm ZM8v5QoeZ9SFj94U0JZduQbWxNRfxSLflYPcTDSUq4H+OlhMymjtNwDPlkHZwsa683Uv ltofty+/IFBQwAYfufk7gbZetAfJqYPbqP1mIJDtqx6rTKHTCmwYfp3TesdP4awmqb64 zyFzJXmOVgDBKn4Awf0nC1zba+veNvYURuoh5qSDuPc2NXqt7xx+IW+Lpc2YfHjBQBIX ho5A== X-Gm-Message-State: AOJu0Yyf+fMwH3MthXo5DjtdbpO3wD/n+kHK11ia89bKPu3BxFeKS0RJ NcZB0aNImzzBGoGHrUgJe9UZuJaZhdePc2me0Mz6Uq1v2Ju6K7b3XfU/q+zsU3hMGzQhec8mzkw gZurrMgKpMIGICq0rlmMN+xgVLxcgymxZQDntZNmxOqPWvR7/WtTUnuNoerjH X-Gm-Gg: ASbGncukYXsvT2GtULwA+jYiAgj1FxzomTbgGdIGkXh/hl88S/LQoCkrysFOv0lWC/Y Gaidd/rEfafHB1L08twRmYlRDWS+P6NcSeVaiVxhMR8cr9+n8MpEDjNspLOZ58BKfZR6Q7nt6xd gs7AKKvcPkwOttM/5lV+z1t/xro1axfWVUkXQQTXqNb11PosP8mWi43zWuxIY05U9tPI+plbQ3O 3e89ostYVJtSeREpTubFtHlE62tvAvjE8MWJm+9hZPgNOp3QwqcKkZq7PWmHZlHgRqiGDFNicVL n7x56PmdkKPD5PeUTMBYn3ddytJb/FpXqf3B0bCWsDllznIZN4qeAU/ox8uLhegin09uJJ2VkvN vSSHh8eJ3 X-Google-Smtp-Source: AGHT+IH0ixddaE7gy9FhrxwHi9JO4q/LI8XJmuxpDFLlf1oTMOHlUg6zhV+REZIcpvikiSVISBBxBdGXP0CY X-Received: by 2002:a17:903:1208:b0:288:5ce8:ea74 with SMTP id d9443c01a7336-292ffba4654mr115264805ad.3.1761238634318; Thu, 23 Oct 2025 09:57:14 -0700 (PDT) Received: from postal.iol.unh.edu (postal.iol.unh.edu. [2606:4100:3880:1234::84]) by smtp-relay.gmail.com with ESMTPS id d9443c01a7336-2946df1b8a0sm2712265ad.49.2025.10.23.09.57.14 (version=TLS1_2 cipher=ECDHE-ECDSA-AES128-GCM-SHA256 bits=128/128); Thu, 23 Oct 2025 09:57:14 -0700 (PDT) X-Relaying-Domain: iol.unh.edu Date: Thu, 23 Oct 2025 09:57:14 -0700 (PDT) Message-ID: <68fa5e6a.170a0220.27b064.d9d9SMTPIN_ADDED_MISSING@mx.google.com> Received: from [172.21.0.2] (unknown [172.18.0.240]) by postal.iol.unh.edu (Postfix) with ESMTP id BA6926050A61; Thu, 23 Oct 2025 12:57:13 -0400 (EDT) Subject: |WARNING| pw158012-158017 [PATCH] [v6,6/6] net/cnxk: report link mod From: dpdklab@iol.unh.edu To: Test Report Cc: dpdk-test-reports@iol.unh.edu In-Reply-To: <20251023110332.6231-6-skori@marvell.com> References: <20251023110332.6231-6-skori@marvell.com> Content-Type: text/plain X-BeenThere: test-report@dpdk.org X-Mailman-Version: 2.1.29 Precedence: list List-Id: automatic DPDK test reports List-Unsubscribe: , List-Archive: List-Post: List-Help: List-Subscribe: , Errors-To: test-report-bounces@dpdk.org Test-Label: iol-compile-amd64-testing Test-Status: WARNING http://dpdk.org/patch/158017 _Testing issues_ Submitter: Sunil Kumar Kori Date: Thursday, October 23 2025 11:02:06 DPDK git baseline: Repo:dpdk-next-net-mrvl Branch: master CommitID:2863cbd9ee6dabee2b183382d298f4054ba3e8a2 158012-158017 --> testing issues Upstream job id: Generic-DPDK-Compile-Meson#437050 Test environment and result as below: +---------------------+--------------------+-------------------------+-------------------+----------------------+-------------------+------------------+ | Environment | dpdk_meson_compile | dpdk_llvm_clang_compile | dpdk_msvc_compile | dpdk_mingw64_compile | dpdk_compile_spdk | dpdk_compile_ovs | +=====================+====================+=========================+===================+======================+===================+==================+ | Ubuntu 20.04 | PASS | SKIPPED | SKIPPED | SKIPPED | SKIPPED | SKIPPED | +---------------------+--------------------+-------------------------+-------------------+----------------------+-------------------+------------------+ | FreeBSD 14.2 | PASS | SKIPPED | SKIPPED | SKIPPED | SKIPPED | SKIPPED | +---------------------+--------------------+-------------------------+-------------------+----------------------+-------------------+------------------+ | Alpine Linux 3.22.0 | PASS | SKIPPED | SKIPPED | SKIPPED | SKIPPED | SKIPPED | +---------------------+--------------------+-------------------------+-------------------+----------------------+-------------------+------------------+ | CentOS Stream 9 | PASS | SKIPPED | SKIPPED | SKIPPED | WARN | SKIPPED | +---------------------+--------------------+-------------------------+-------------------+----------------------+-------------------+------------------+ | CentOS Stream 10 | PEND | SKIPPED | SKIPPED | SKIPPED | SKIPPED | SKIPPED | +---------------------+--------------------+-------------------------+-------------------+----------------------+-------------------+------------------+ | Debian GNU/Linux 12 | PEND | SKIPPED | SKIPPED | SKIPPED | PEND | SKIPPED | +---------------------+--------------------+-------------------------+-------------------+----------------------+-------------------+------------------+ | Fedora Linux 42 | PEND | SKIPPED | SKIPPED | SKIPPED | PEND | PEND | +---------------------+--------------------+-------------------------+-------------------+----------------------+-------------------+------------------+ | Windows Server 2022 | SKIPPED | PASS | PASS | PASS | SKIPPED | SKIPPED | +---------------------+--------------------+-------------------------+-------------------+----------------------+-------------------+------------------+ ==== 20 line log output for CentOS Stream 9 (dpdk_compile_spdk): ==== --- Failed to get log output --- ==== End log output ==== Ubuntu 20.04 Kernel: 4.19 Compiler: gcc gcc (Ubuntu 9.4.0-1ubuntu1~20.04.2) 9.4.0 FreeBSD 14.2 Kernel: 14.2-RELEASE Compiler: clang 18.1.6 Alpine Linux 3.22.0 Kernel: 5.15 Compiler: gcc gcc (Alpine 14.2.0) 14.2.0 CentOS Stream 9 Kernel: 5.15 Compiler: gcc gcc (GCC) 11.5.0 20240719 (Red Hat 11.5.0-11) CentOS Stream 10 Kernel: 5.15 Compiler: gcc gcc (GCC) 14.2.1 20250110 (Red Hat 14.2.1-8) Debian GNU/Linux 12 Kernel: 5.15 Compiler: gcc gcc (Debian 12.2.0-14+deb12u1) 12.2.0 Fedora Linux 42 Kernel: 5.15 Compiler: clang gcc (GCC) 15.2.1 20250808 (Red Hat 15.2.1-1) Windows Server 2022 Kernel: 10.0.20348.2031 Compiler: clang 15.0.7, gcc 14.1.0 (MinGW), and MSVC VS 19.39.33521 To view detailed results, visit: https://lab.dpdk.org/results/dashboard/patchsets/34357/ UNH-IOL DPDK Community Lab To manage your email subscriptions, visit: https://lab.dpdk.org/results/dashboard/preferences/subscriptions/