From mboxrd@z Thu Jan 1 00:00:00 1970 Return-Path: Received: from mails.dpdk.org (mails.dpdk.org [217.70.189.124]) by inbox.dpdk.org (Postfix) with ESMTP id 682DB489B9 for ; Thu, 23 Oct 2025 19:04:25 +0200 (CEST) Received: from mails.dpdk.org (localhost [127.0.0.1]) by mails.dpdk.org (Postfix) with ESMTP id 610C940144; Thu, 23 Oct 2025 19:04:25 +0200 (CEST) Received: from mail-yx1-f99.google.com (mail-yx1-f99.google.com [74.125.224.99]) by mails.dpdk.org (Postfix) with ESMTP id 024C940144 for ; Thu, 23 Oct 2025 19:04:24 +0200 (CEST) Received: by mail-yx1-f99.google.com with SMTP id 956f58d0204a3-63d0692136bso1314022d50.1 for ; Thu, 23 Oct 2025 10:04:23 -0700 (PDT) DKIM-Signature: v=1; a=rsa-sha256; c=relaxed/relaxed; d=iol.unh.edu; s=unh-iol; t=1761239063; x=1761843863; darn=dpdk.org; h=references:in-reply-to:cc:to:from:subject:message-id:date:from:to :cc:subject:date:message-id:reply-to; bh=hO/l5VsOnKOeVvve4wOdzTVCDOD4QD+BjDozpWVQdfE=; b=jPslSilGk3AFBBb3rqFF8e352wgPoVVZCExgV0st9u40+m7r60IkG4ihD2Qp0YrhoH A81ysBssS2FWTUgUm5hPP6G0q4eBXXHjRxDWIxFGFzk+ft0ZKqyFLlUQ0tCUjmsGLprp gp/lg/a6fAeB/rpGF1COC1Ln4yIQmLFiE2HIo= X-Google-DKIM-Signature: v=1; a=rsa-sha256; c=relaxed/relaxed; d=1e100.net; s=20230601; t=1761239063; x=1761843863; h=references:in-reply-to:cc:to:from:subject:message-id:date :x-gm-message-state:from:to:cc:subject:date:message-id:reply-to; bh=hO/l5VsOnKOeVvve4wOdzTVCDOD4QD+BjDozpWVQdfE=; b=OIQXfmclnRraldHUxsPjhEvWqXT+QYhZZiwU72S+3/o0+YNWqucJIM0KuApjgAqYM9 Q24Pr/1GWgxkKNgcA0sow7YRwfoUpgRLD7JA68iwmvLpHYVey8L+Q3fLgfQtMbIpaEwG oBuo6ziJSLZtmQ+xMZr8Q0TYZHpZfpLmdV0N1J6/X+a4xWUOVEjtgBSmrhvASVQiXIcd 6E/iCPdHAzWANy1uO7+OAKcKtDIrjroXoI79n7J8BHlBHbE8P02ljqDwNpAx1hplMHHD yi21mmaRZBalbUh5yuALvx+hF47q7kamwiAYmkKiO1H/k+jqOPRDRNVdv5o6BIgmOoE8 XIQA== X-Gm-Message-State: AOJu0YxqD26ZTxJuzWjr7VRNVvUg8OXCiyWrWFC6hfPzyFVmgjMMeNNP +knJQ91OChF5VQJA/DOSOp+b2nhRLzMym2vkQDTecV87Lxm/1GbpDlwbHfpQ/bUn3/6zuMB09yY wMsPTb1SQ1MEQ1mioQ2VrdO/gB/rnUVuH//jCDvuay5tOyWYmV40QbM2YDbcy X-Gm-Gg: ASbGncvYM/jic2qXB15EOSuPojAzFEAR57PV79ocpmH5l/EbbQlN44lx1fzfwBzhHkY +JvCJ7tIdZW4JABqyPa3hcwo1UJaoWbZwRzuccq97QZNV853z81tMJLfHpl7vpRkt8e3TJcaK1T HbA4dnu/eaFCEsOe3SPvOsBOP89/cPte23R/ia6VHC2R8nrBodAGs/dA/+pNuRdxZJqnBRLXtIj FwKlw5m80khgyiTP76K0k2PVf/da1dkeYvUEnqj4T1/r9wsvnm/EqihherhXOSU5Pu99alnvetX c2drs4V17HJWzkJUCrBJ1sllc42amcbPmteuVSkwLDQ8rjLWicZl328QEW+aYpRO8LBXBrcQWH7 IZQxN5M2g X-Google-Smtp-Source: AGHT+IHt7unBUudWZHlM/Bzf8VZTOMi4DsJhiEr6sS0i4/IuM1HkOWOdcmqhxmw29EVDQ6ICfRxDPrHI/Sl9 X-Received: by 2002:a53:acd8:0:10b0:633:ac51:9823 with SMTP id 956f58d0204a3-63e160e3c31mr19281168d50.2.1761239063240; Thu, 23 Oct 2025 10:04:23 -0700 (PDT) Received: from postal.iol.unh.edu (postal.iol.unh.edu. [2606:4100:3880:1234::84]) by smtp-relay.gmail.com with ESMTPS id 956f58d0204a3-63f3791375fsm145771d50.7.2025.10.23.10.04.23 (version=TLS1_2 cipher=ECDHE-ECDSA-AES128-GCM-SHA256 bits=128/128); Thu, 23 Oct 2025 10:04:23 -0700 (PDT) X-Relaying-Domain: iol.unh.edu Date: Thu, 23 Oct 2025 10:04:23 -0700 (PDT) Message-ID: <68fa6017.530a0220.1d5b02.7050SMTPIN_ADDED_MISSING@mx.google.com> Received: from [172.21.0.5] (unknown [172.18.0.240]) by postal.iol.unh.edu (Postfix) with ESMTP id E66246050A62; Thu, 23 Oct 2025 13:04:22 -0400 (EDT) Subject: |SUCCESS| pw158037 [PATCH] [v7] mbuf: optimize segment prefree From: dpdklab@iol.unh.edu To: Test Report Cc: dpdk-test-reports@iol.unh.edu In-Reply-To: <20251023161851.328258-1-mb@smartsharesystems.com> References: <20251023161851.328258-1-mb@smartsharesystems.com> Content-Type: text/plain X-BeenThere: test-report@dpdk.org X-Mailman-Version: 2.1.29 Precedence: list List-Id: automatic DPDK test reports List-Unsubscribe: , List-Archive: List-Post: List-Help: List-Subscribe: , Errors-To: test-report-bounces@dpdk.org Test-Label: iol-compile-amd64-testing Test-Status: SUCCESS http://dpdk.org/patch/158037 _Testing PASS_ Submitter: Morten Brorup Date: Thursday, October 23 2025 16:18:50 DPDK git baseline: Repo:dpdk Branch: master CommitID:7c744b9a08cf3dd6bdd215689bb6d2beb8a8a4ef 158037 --> testing pass Upstream job id: Windows-Compile-DPDK-Native#31845 Test environment and result as below: +---------------------+--------------------+-------------------+-------------------------+ | Environment | dpdk_meson_compile | dpdk_msvc_compile | dpdk_llvm_clang_compile | +=====================+====================+===================+=========================+ | Ubuntu 20.04 | PASS | SKIPPED | SKIPPED | +---------------------+--------------------+-------------------+-------------------------+ | FreeBSD 14.2 | PASS | SKIPPED | SKIPPED | +---------------------+--------------------+-------------------+-------------------------+ | Windows Server 2022 | SKIPPED | PASS | PASS | +---------------------+--------------------+-------------------+-------------------------+ Ubuntu 20.04 Kernel: 4.19 Compiler: gcc gcc (Ubuntu 9.4.0-1ubuntu1~20.04.2) 9.4.0 FreeBSD 14.2 Kernel: 14.2-RELEASE Compiler: clang 18.1.6 Windows Server 2022 Kernel: 10.0.20348.2031 Compiler: clang 15.0.7, gcc 14.1.0 (MinGW), and MSVC VS 19.39.33521 To view detailed results, visit: https://lab.dpdk.org/results/dashboard/patchsets/34363/ UNH-IOL DPDK Community Lab To manage your email subscriptions, visit: https://lab.dpdk.org/results/dashboard/preferences/subscriptions/