From mboxrd@z Thu Jan 1 00:00:00 1970 Return-Path: Received: from mails.dpdk.org (mails.dpdk.org [217.70.189.124]) by inbox.dpdk.org (Postfix) with ESMTP id 15B5D489B9 for ; Thu, 23 Oct 2025 19:20:41 +0200 (CEST) Received: from mails.dpdk.org (localhost [127.0.0.1]) by mails.dpdk.org (Postfix) with ESMTP id E8DE040144; Thu, 23 Oct 2025 19:20:40 +0200 (CEST) Received: from mail-pl1-f227.google.com (mail-pl1-f227.google.com [209.85.214.227]) by mails.dpdk.org (Postfix) with ESMTP id 459C440144 for ; Thu, 23 Oct 2025 19:20:40 +0200 (CEST) Received: by mail-pl1-f227.google.com with SMTP id d9443c01a7336-28e7cd6dbc0so14743305ad.0 for ; Thu, 23 Oct 2025 10:20:40 -0700 (PDT) DKIM-Signature: v=1; a=rsa-sha256; c=relaxed/relaxed; d=iol.unh.edu; s=unh-iol; t=1761240039; x=1761844839; darn=dpdk.org; h=references:in-reply-to:cc:to:from:subject:message-id:date:from:to :cc:subject:date:message-id:reply-to; bh=REy2FHc2POLBFeRtUILEEIH+1Sm6NcBMrEbTQABxztE=; b=KvzFk3YdiEMtUN/zVazphyDAiXjxl6mV5vKmxNYMhd3GOeeGtX0ZLm47P24EVFMYaN VHS3z6XYiRsyuCXzrsTgiPYVe77ZqQ3ZZWXQXx3gw2eLju64i9c18ObyNpdlsyGre5rD CAy/DZ+xcZQ38CqaWzPtmSfvI/Fn4idDWQj+E= X-Google-DKIM-Signature: v=1; a=rsa-sha256; c=relaxed/relaxed; d=1e100.net; s=20230601; t=1761240039; x=1761844839; h=references:in-reply-to:cc:to:from:subject:message-id:date :x-gm-message-state:from:to:cc:subject:date:message-id:reply-to; bh=REy2FHc2POLBFeRtUILEEIH+1Sm6NcBMrEbTQABxztE=; b=llVZfykNt4BnavS8kYLnkxW81fQmvozyh9GYX0e9kbYVlF55GYSLs+pxxEbNDlcPMM HGelGCnPZ9tTeibnC2ojDlFqXWdOwQlIBthVOpKQKWi2BqIyvCNKpXstkAWd8r5cF3cK GUzMfBQ683Sx6OJUsbqk7lsXWmqKnlDPGtft9Giu+wNpwAVxMU8ZbrSkaMxh6tWSw9m4 3ptqVHXS+mrHkXWTzqr/ERvMMz7FA/vsP1HLjrorh+lQNEC5l3BJYDIG+xJ+piaHh6TR Xz27lx556nK5JOK7zeJo9a5DVm9xsfI82iZ5cmivf7y2sIavPj2xCtw96FfWsj7A2Xas rUzw== X-Gm-Message-State: AOJu0YzlCkn1t2a/K3q8gLf17pWjQFljfDeOFw0Aq76ld9ekXQ7nEyT7 0AI1phCXDxMrLUFKFwCY37Sz2ckCchAnfA7kYp23Ac988WDU0d4QYGS156Meqs0dusM7AWbxe9N VvgYo66CT43H15IbR2d177/35WsV+IDnk9iz+MAnkMP+P2IhL4PUq/HyezoAB X-Gm-Gg: ASbGncsCElsXom2axO6QS8EAiWjSry6QmQFLQ1MvNVIeK5u3KSR/3Rcoq0Tdk11EB7K qo2ZjqIH8wn60exWB/kg3rxAQb/lXrATdYU+FUBRjqXDvTwlG5BTvOUE0sDRyibCbPl9mDTghke BRFMRtCSf6Q3mNovwpO9QBH25w27hMKBwViLW0KlUF6knWQrDapuVZXVR/zoHWu9YIMmhKdIBY6 2KDkTAOie0CL2jNTBIy2WD/C+FGSJ48Vg6uiHN3WbqPr9tQ+Ud8U5CT7hh+aW5U4rc66YJ3ETBb KhWtsABV6AcIaFURK3oRN2WYi2mLwzVKL7HmYzls3lTk3gf2ZHPZBfmwZ7Mhc0BtL8QgwRI6kWU vPbEUSsNd X-Google-Smtp-Source: AGHT+IG0v7PEwjWGs7p1DOnd77PDySyHG5zKFE6VYP6hsYpds3vwcRGyZizDqOP/FCNVxI/wrHrYK4tR6H51 X-Received: by 2002:a17:903:1965:b0:281:613:844b with SMTP id d9443c01a7336-290cc6d44b1mr286042125ad.52.1761240039308; Thu, 23 Oct 2025 10:20:39 -0700 (PDT) Received: from postal.iol.unh.edu (postal.iol.unh.edu. [2606:4100:3880:1234::84]) by smtp-relay.gmail.com with ESMTPS id d9443c01a7336-2946dd990d7sm2615305ad.2.2025.10.23.10.20.39 (version=TLS1_2 cipher=ECDHE-ECDSA-AES128-GCM-SHA256 bits=128/128); Thu, 23 Oct 2025 10:20:39 -0700 (PDT) X-Relaying-Domain: iol.unh.edu Date: Thu, 23 Oct 2025 10:20:39 -0700 (PDT) Message-ID: <68fa63e7.170a0220.378511.d2ffSMTPIN_ADDED_MISSING@mx.google.com> Received: from [172.21.0.2] (unknown [172.18.0.240]) by postal.iol.unh.edu (Postfix) with ESMTP id AB3B46050A61; Thu, 23 Oct 2025 13:20:38 -0400 (EDT) Subject: |WARNING| pw158011 [PATCH] [v3] net/vmxnet3: disable RSS for single From: dpdklab@iol.unh.edu To: Test Report Cc: dpdk-test-reports@iol.unh.edu, Stephen Hemminger In-Reply-To: <20251023083019.18792-1-amiyaranjan.mohakud@gmail.com> References: <20251023083019.18792-1-amiyaranjan.mohakud@gmail.com> Content-Type: text/plain X-BeenThere: test-report@dpdk.org X-Mailman-Version: 2.1.29 Precedence: list List-Id: automatic DPDK test reports List-Unsubscribe: , List-Archive: List-Post: List-Help: List-Subscribe: , Errors-To: test-report-bounces@dpdk.org Test-Label: iol-compile-amd64-testing Test-Status: WARNING http://dpdk.org/patch/158011 _Testing issues_ Submitter: Amiya Ranjan Mohakud Date: Thursday, October 23 2025 08:30:19 DPDK git baseline: Repo:dpdk-next-net Branch: master CommitID:4c4055bdd19f919795f83a01faae9fc267570d7f 158011 --> testing issues Upstream job id: Generic-DPDK-Compile-Meson#437048 Test environment and result as below: +-------------------------------+--------------------+-------------------+-------------------------+----------------------+-------------------+------------------+ | Environment | dpdk_meson_compile | dpdk_msvc_compile | dpdk_llvm_clang_compile | dpdk_mingw64_compile | dpdk_compile_spdk | dpdk_compile_ovs | +===============================+====================+===================+=========================+======================+===================+==================+ | Ubuntu 20.04 | PASS | SKIPPED | SKIPPED | SKIPPED | SKIPPED | SKIPPED | +-------------------------------+--------------------+-------------------+-------------------------+----------------------+-------------------+------------------+ | FreeBSD 14.2 | PASS | SKIPPED | SKIPPED | SKIPPED | SKIPPED | SKIPPED | +-------------------------------+--------------------+-------------------+-------------------------+----------------------+-------------------+------------------+ | CentOS Stream 9 | PASS | SKIPPED | SKIPPED | SKIPPED | WARN | SKIPPED | +-------------------------------+--------------------+-------------------+-------------------------+----------------------+-------------------+------------------+ | CentOS Stream 10 | PASS | SKIPPED | SKIPPED | SKIPPED | SKIPPED | SKIPPED | +-------------------------------+--------------------+-------------------+-------------------------+----------------------+-------------------+------------------+ | Debian GNU/Linux 12 | PASS | SKIPPED | SKIPPED | SKIPPED | WARN | SKIPPED | +-------------------------------+--------------------+-------------------+-------------------------+----------------------+-------------------+------------------+ | Fedora Linux 42 | PASS | SKIPPED | SKIPPED | SKIPPED | WARN | PASS | +-------------------------------+--------------------+-------------------+-------------------------+----------------------+-------------------+------------------+ | openSUSE Leap 15.6 | PASS | SKIPPED | SKIPPED | SKIPPED | SKIPPED | SKIPPED | +-------------------------------+--------------------+-------------------+-------------------------+----------------------+-------------------+------------------+ | Red Hat Enterprise Linux 8.10 | PASS | SKIPPED | SKIPPED | SKIPPED | SKIPPED | SKIPPED | +-------------------------------+--------------------+-------------------+-------------------------+----------------------+-------------------+------------------+ | Red Hat Enterprise Linux 9.5 | PASS | SKIPPED | SKIPPED | SKIPPED | SKIPPED | SKIPPED | +-------------------------------+--------------------+-------------------+-------------------------+----------------------+-------------------+------------------+ | Ubuntu 22.04 | PASS | SKIPPED | SKIPPED | SKIPPED | WARN | SKIPPED | +-------------------------------+--------------------+-------------------+-------------------------+----------------------+-------------------+------------------+ | Ubuntu 24.04 | PASS | SKIPPED | SKIPPED | SKIPPED | WARN | PASS | +-------------------------------+--------------------+-------------------+-------------------------+----------------------+-------------------+------------------+ | Alpine Linux 3.22.0 | PASS | SKIPPED | SKIPPED | SKIPPED | SKIPPED | SKIPPED | +-------------------------------+--------------------+-------------------+-------------------------+----------------------+-------------------+------------------+ | Windows Server 2022 | SKIPPED | PASS | PASS | PASS | SKIPPED | SKIPPED | +-------------------------------+--------------------+-------------------+-------------------------+----------------------+-------------------+------------------+ ==== 20 line log output for Ubuntu 24.04 (dpdk_compile_spdk): ==== --- Failed to get log output --- ==== End log output ==== Ubuntu 20.04 Kernel: 4.19 Compiler: gcc gcc (Ubuntu 9.4.0-1ubuntu1~20.04.2) 9.4.0 FreeBSD 14.2 Kernel: 14.2-RELEASE Compiler: clang 18.1.6 CentOS Stream 9 Kernel: 5.15 Compiler: gcc gcc (GCC) 11.5.0 20240719 (Red Hat 11.5.0-11) CentOS Stream 10 Kernel: 5.15 Compiler: gcc gcc (GCC) 14.2.1 20250110 (Red Hat 14.2.1-8) Debian GNU/Linux 12 Kernel: 5.15 Compiler: gcc gcc (Debian 12.2.0-14+deb12u1) 12.2.0 Fedora Linux 42 Kernel: 5.15 Compiler: clang gcc (GCC) 15.2.1 20250808 (Red Hat 15.2.1-1) openSUSE Leap 15.6 Kernel: 5.15 Compiler: gcc gcc (SUSE Linux) 7.5.0 Red Hat Enterprise Linux 8.10 Kernel: 5.15 Compiler: gcc gcc (GCC) 8.5.0 20210514 (Red Hat 8.5.0-22) Red Hat Enterprise Linux 9.5 Kernel: 5.15 Compiler: gcc gcc (GCC) 11.5.0 20240719 (Red Hat 11.5.0-2) Ubuntu 22.04 Kernel: 5.15 Compiler: gcc gcc (Ubuntu 11.4.0-1ubuntu1~22.04) 11.4.0 Ubuntu 24.04 Kernel: 5.15 Compiler: gcc gcc (Ubuntu 13.3.0-6ubuntu2~24.04) 13.3.0 Alpine Linux 3.22.0 Kernel: 5.15 Compiler: gcc gcc (Alpine 14.2.0) 14.2.0 Windows Server 2022 Kernel: 10.0.20348.2031 Compiler: clang 15.0.7, gcc 14.1.0 (MinGW), and MSVC VS 19.39.33521 To view detailed results, visit: https://lab.dpdk.org/results/dashboard/patchsets/34355/ UNH-IOL DPDK Community Lab To manage your email subscriptions, visit: https://lab.dpdk.org/results/dashboard/preferences/subscriptions/