From mboxrd@z Thu Jan 1 00:00:00 1970 Return-Path: Received: from mails.dpdk.org (mails.dpdk.org [217.70.189.124]) by inbox.dpdk.org (Postfix) with ESMTP id F373D489BA for ; Thu, 23 Oct 2025 20:03:13 +0200 (CEST) Received: from mails.dpdk.org (localhost [127.0.0.1]) by mails.dpdk.org (Postfix) with ESMTP id D608A40144; Thu, 23 Oct 2025 20:03:13 +0200 (CEST) Received: from mail-pg1-f228.google.com (mail-pg1-f228.google.com [209.85.215.228]) by mails.dpdk.org (Postfix) with ESMTP id 082FE40144 for ; Thu, 23 Oct 2025 20:03:13 +0200 (CEST) Received: by mail-pg1-f228.google.com with SMTP id 41be03b00d2f7-b4fb8d3a2dbso753488a12.3 for ; Thu, 23 Oct 2025 11:03:12 -0700 (PDT) DKIM-Signature: v=1; a=rsa-sha256; c=relaxed/relaxed; d=iol.unh.edu; s=unh-iol; t=1761242592; x=1761847392; darn=dpdk.org; h=references:in-reply-to:cc:to:from:subject:message-id:date:from:to :cc:subject:date:message-id:reply-to; bh=g1mWWeDpgJKdVCmXuJ19eS/8XSF75pfdMZ5cNle5gqE=; b=cOgwbf2jAuls6zEkjP1xhrYyckOx5EybglPwzXBC1kWdm6h8oOtAqrIMvHMXQvtmw0 grWB1OLlDXvY4RC67RlfX3vWsfEZZLY2xmn3cQ3cWo7diFVu0MvSmQYVijHNeOrML3fc 9AewPsz62VHXX/XSxpZBK6wN2HTz8Z/UTrYRU= X-Google-DKIM-Signature: v=1; a=rsa-sha256; c=relaxed/relaxed; d=1e100.net; s=20230601; t=1761242592; x=1761847392; h=references:in-reply-to:cc:to:from:subject:message-id:date :x-gm-message-state:from:to:cc:subject:date:message-id:reply-to; bh=g1mWWeDpgJKdVCmXuJ19eS/8XSF75pfdMZ5cNle5gqE=; b=eY8/mzN1Z/7y+CNqeWc6q2jEGcQsRv5bUf9iQjcLBYkx1CQ1dhwa9ugtS1K4+hXpxX iTbSrAnpf6KmzW3H/bEh8I4KHdCOM/M7sE8uf9CKlRJGFrrMiIODpsGztsbpRdjlOyS7 q4wxrZbrB4NRJlmRL3JhUlkxiqEXFd+7pw/28ahImBNu2gdui3/t6DZTjsDZiFPpF6TH NaCI9AxxlP4aN5QmdQVpnhESp0puFMeYcDO3uB523Bl2fbjBlnDEZ5wQKXxA/8NXOpti /fKQMR1a1HaY6+/QdYI+d2PuDMD56djlC55wWGH2afrjE+vghzakW2OjDg6TzrbyV7L1 uMMg== X-Gm-Message-State: AOJu0YyiAJZa3gMspW7vhP+OlM/iS6bqDx6ZTsGGaFGsP3bDrKR8agFY cdPjERtziVk+nZxWZyaFdarWOvarjWbaaOUBHwNCeMPJOaxJJNVOV9nN5GYEJz4QdUEhRD7qj1L o5ufzaltv/c9uUk+qtvsk3ceFM4Z/WPK2EC+PvROE7T5I X-Gm-Gg: ASbGncuq01LyhNdK4pbO7u3oCfCk3N5lFVDzzJchK6ZGtC4zUiGoaEFI3p9A3iSUYa9 Og+ILX8jotNvNiN1M/JTh/3gN6xnq6bAKRpuovPxaFGs9JI/J4Gaes6Qs5ViCu5gMpIuFM63PNk 5lr0KVVwchyu1SNB7UIrFZb+l1cmB4iNbkwaFvPCzSyas0++XZdt1MxLL4b+yCSxmIrddswsGeF XMX8EUxy1o8s580SC43b+kFydQGlSrhsrbm2AlPwjgeGZhy9Hj3WYHd0q2V98vVSKGK7C13yYvH dNft3+ZpP0dScbFx7FhFqaFoqsdp5wuGAGR1P/+hcOhMcvVbfr77GK25yLBj09YN9ulObmunkqG DJavNFZQr1oiYM4QRP1xCYOL0sLHP/dI= X-Google-Smtp-Source: AGHT+IETdT03l+PxpwFJiTA9pXasTn6V6a7d5C53fEdNq6hHuaQbSqMqBvm9kPADMKGBdxOUN8cLd55wx15E X-Received: by 2002:a17:902:f647:b0:266:ddd:772f with SMTP id d9443c01a7336-290c9c89cc9mr291983185ad.9.1761242591907; Thu, 23 Oct 2025 11:03:11 -0700 (PDT) Received: from postal.iol.unh.edu (postal.iol.unh.edu. [132.177.123.84]) by smtp-relay.gmail.com with ESMTPS id d9443c01a7336-2946dfd068dsm2782515ad.55.2025.10.23.11.03.11 (version=TLS1_2 cipher=ECDHE-ECDSA-AES128-GCM-SHA256 bits=128/128); Thu, 23 Oct 2025 11:03:11 -0700 (PDT) X-Relaying-Domain: iol.unh.edu Date: Thu, 23 Oct 2025 11:03:11 -0700 (PDT) Message-ID: <68fa6ddf.170a0220.2ec2b4.db47SMTPIN_ADDED_MISSING@mx.google.com> Received: from [172.21.0.2] (unknown [172.18.0.240]) by postal.iol.unh.edu (Postfix) with ESMTP id 528AD604D420; Thu, 23 Oct 2025 14:03:11 -0400 (EDT) Subject: |SUCCESS| pw158037 [PATCH] [v7] mbuf: optimize segment prefree From: dpdklab@iol.unh.edu To: Test Report Cc: dpdk-test-reports@iol.unh.edu In-Reply-To: <20251023161851.328258-1-mb@smartsharesystems.com> References: <20251023161851.328258-1-mb@smartsharesystems.com> Content-Type: text/plain X-BeenThere: test-report@dpdk.org X-Mailman-Version: 2.1.29 Precedence: list List-Id: automatic DPDK test reports List-Unsubscribe: , List-Archive: List-Post: List-Help: List-Subscribe: , Errors-To: test-report-bounces@dpdk.org Test-Label: iol-unit-amd64-testing Test-Status: SUCCESS http://dpdk.org/patch/158037 _Testing PASS_ Submitter: Morten Brorup Date: Thursday, October 23 2025 16:18:50 DPDK git baseline: Repo:dpdk Branch: master CommitID:7c744b9a08cf3dd6bdd215689bb6d2beb8a8a4ef 158037 --> testing pass Upstream job id: Generic-Unit-Test-DPDK#384628 Test environment and result as below: +-------------------------------+----------------+ | Environment | dpdk_unit_test | +===============================+================+ | Debian GNU/Linux 12 | PASS | +-------------------------------+----------------+ | Fedora Linux 40 | PASS | +-------------------------------+----------------+ | CentOS Stream 9 | PASS | +-------------------------------+----------------+ | CentOS Stream 10 | PASS | +-------------------------------+----------------+ | Ubuntu 22.04 | PASS | +-------------------------------+----------------+ | Red Hat Enterprise Linux 9.5 | PASS | +-------------------------------+----------------+ | Fedora Linux 42 | PASS | +-------------------------------+----------------+ | Ubuntu 24.04 | PASS | +-------------------------------+----------------+ | Fedora Linux 41 | PASS | +-------------------------------+----------------+ | Ubuntu 20.04 | PASS | +-------------------------------+----------------+ | Red Hat Enterprise Linux 8.10 | PASS | +-------------------------------+----------------+ | Windows Server 2022 | PASS | +-------------------------------+----------------+ Debian GNU/Linux 12 Kernel: 5.15 Compiler: gcc gcc (Debian 12.2.0-14+deb12u1) 12.2.0 Fedora Linux 40 Kernel: 5.15 Compiler: gcc gcc (GCC) 14.2.1 20240912 (Red Hat 14.2.1-3) CentOS Stream 9 Kernel: 5.15 Compiler: gcc gcc (GCC) 11.5.0 20240719 (Red Hat 11.5.0-11) CentOS Stream 10 Kernel: 5.15 Compiler: gcc gcc (GCC) 14.2.1 20250110 (Red Hat 14.2.1-8) Ubuntu 22.04 Kernel: 5.15 Compiler: gcc gcc (Ubuntu 11.4.0-1ubuntu1~22.04) 11.4.0 Red Hat Enterprise Linux 9.5 Kernel: 5.15 Compiler: gcc gcc (GCC) 11.5.0 20240719 (Red Hat 11.5.0-2) Fedora Linux 42 Kernel: 5.15 Compiler: gcc gcc (GCC) 15.2.1 20250808 (Red Hat 15.2.1-1) Ubuntu 24.04 Kernel: 5.15 Compiler: gcc gcc (Ubuntu 13.3.0-6ubuntu2~24.04) 13.3.0 Fedora Linux 41 Kernel: 5.15 Compiler: gcc gcc (GCC) 14.3.1 20250523 (Red Hat 14.3.1-1) Ubuntu 20.04 Kernel: 5.15 Compiler: gcc gcc (Ubuntu 9.4.0-1ubuntu1~20.04.2) 9.4.0 Red Hat Enterprise Linux 8.10 Kernel: 5.15 Compiler: gcc gcc (GCC) 8.5.0 20210514 (Red Hat 8.5.0-22) Windows Server 2022 Kernel: 10.0.20348.2031 Compiler: clang 15.0.7, gcc 14.1.0 (MinGW), and MSVC VS 19.39.33521 To view detailed results, visit: https://lab.dpdk.org/results/dashboard/patchsets/34363/ UNH-IOL DPDK Community Lab To manage your email subscriptions, visit: https://lab.dpdk.org/results/dashboard/preferences/subscriptions/