From mboxrd@z Thu Jan 1 00:00:00 1970 Return-Path: Received: from mails.dpdk.org (mails.dpdk.org [217.70.189.124]) by inbox.dpdk.org (Postfix) with ESMTP id 6EFFA489BA for ; Thu, 23 Oct 2025 20:07:49 +0200 (CEST) Received: from mails.dpdk.org (localhost [127.0.0.1]) by mails.dpdk.org (Postfix) with ESMTP id 53C4F40144; Thu, 23 Oct 2025 20:07:49 +0200 (CEST) Received: from mail-pg1-f226.google.com (mail-pg1-f226.google.com [209.85.215.226]) by mails.dpdk.org (Postfix) with ESMTP id 4D30740144 for ; Thu, 23 Oct 2025 20:07:48 +0200 (CEST) Received: by mail-pg1-f226.google.com with SMTP id 41be03b00d2f7-b6cf1a95274so875444a12.1 for ; Thu, 23 Oct 2025 11:07:48 -0700 (PDT) DKIM-Signature: v=1; a=rsa-sha256; c=relaxed/relaxed; d=iol.unh.edu; s=unh-iol; t=1761242867; x=1761847667; darn=dpdk.org; h=references:in-reply-to:cc:to:from:subject:message-id:date:from:to :cc:subject:date:message-id:reply-to; bh=+px734FLVMBQ7Vwce3EDBSyWGhhj1QeZwyVjwrf5aYg=; b=DD8Nzdvhv5uewDlzi81cwg50ois8Z5ePwMH1AHk/qre5kvLRUJ7Kpdt+vr4bXoSOSW TddRB9JEMXqYEvmZ9GSzA55xWij27uoaa5roEz4lkFwPhCvnxZbabzBg6XJ50JYsEd2B yCJCrCIPKSECxbd+35l4BJU2LIJKvTc7/HHc4= X-Google-DKIM-Signature: v=1; a=rsa-sha256; c=relaxed/relaxed; d=1e100.net; s=20230601; t=1761242867; x=1761847667; h=references:in-reply-to:cc:to:from:subject:message-id:date :x-gm-message-state:from:to:cc:subject:date:message-id:reply-to; bh=+px734FLVMBQ7Vwce3EDBSyWGhhj1QeZwyVjwrf5aYg=; b=kw9qtFqxqk+lShVfTG5sCvKA0pAxMm1iszPXqdINx9Aejk0vL8vAMd4kMuQ/v0TL+K G+QcL4DyAni/7kATSCi+WWkolXs4DVLmiiPBPrLI0pFstP9jMEF3kn9zBgFUAtq8rarz 5yxL0WjNH6ep4SwxD00VJlsROqmxStASIysWb7TxTV+QlSkvGvJB9A7lYQjFraHDe26u hhGQwApNuJ8oMC8iZRH4r6wPcPIuEkZbF6vn+ubuT2092wh/SIz4vxRjzSTGuPBBR+Ob LuM4ojq5Oa4aQrtzT4sYsnTAq7GcQenJdz1ICgqygJAPFkWBkH0Xu3QDwOUPImk+fL3z eKCg== X-Gm-Message-State: AOJu0Yw6gC3HdHrT2hX8iyxo3IPs+BhfVs7Uy1STyIx3nNZp9s8gkgCZ +ZhipwebMsSuuGbGT60M9+Yzu/ByT9v0F1nxvw1bbxPCvTU8ubghDlWvRqm6ew7JGsD/MlMRZyu gJCl+LixTbJHtkgtLmxrN6NUWfD7mxd16rXRYPm+T6adEfzvC6Y7NuxaR705u X-Gm-Gg: ASbGnctMfTNNR9niJkpVYqeMrx4Q8qGE10wt3pthCy6Mnr5Z5dxNl7BRPPouCtfz9MI DJ43ttrtoD9N4a+WLzEFq1fSmREPZIlz1FNu+b/f59+4TQuNT4wNdx4HHs8rDdY2dDTfmFgal4p G3DINV1eYFkS8pwapXV0ML9lcuxbMOsAmcxTLm9EhYp7fE8i8zSUxXmuU67Lm4Bl+gU2iUEjDYc hyxDXdnRsPrJ6My4y2SjA9fblL+3L+mq2HI0VhyUu0567jmDyPioW1wvQw1kude1wt1orseaR1Y OU4CyMDbiPLlnT9Fdej8MnOWzPXNpqxuuPCrLeJzEEypXZjyuc1hti1feyrf+X5E82RtkQ5ruMD r6R5+Xb82 X-Google-Smtp-Source: AGHT+IEba4qssHWm5cp76wqvuVnw6RcRTwc2JlNwXv/o5seNdz9quGSLjH7wZpNYhIyytkBuu1bAGua6gPri X-Received: by 2002:a17:903:2443:b0:24c:cca1:7cfc with SMTP id d9443c01a7336-290cb947830mr311512085ad.59.1761242867189; Thu, 23 Oct 2025 11:07:47 -0700 (PDT) Received: from postal.iol.unh.edu (postal.iol.unh.edu. [2606:4100:3880:1234::84]) by smtp-relay.gmail.com with ESMTPS id d9443c01a7336-2946de024afsm2904635ad.28.2025.10.23.11.07.47 (version=TLS1_2 cipher=ECDHE-ECDSA-AES128-GCM-SHA256 bits=128/128); Thu, 23 Oct 2025 11:07:47 -0700 (PDT) X-Relaying-Domain: iol.unh.edu Date: Thu, 23 Oct 2025 11:07:47 -0700 (PDT) Message-ID: <68fa6ef3.170a0220.2f04aa.e550SMTPIN_ADDED_MISSING@mx.google.com> Received: from [172.21.0.3] (unknown [172.18.0.240]) by postal.iol.unh.edu (Postfix) with ESMTP id 9B8C1604D420; Thu, 23 Oct 2025 14:07:46 -0400 (EDT) Subject: |WARNING| pw158012-158017 [PATCH] [v6,6/6] net/cnxk: report link mod From: dpdklab@iol.unh.edu To: Test Report Cc: dpdk-test-reports@iol.unh.edu In-Reply-To: <20251023110332.6231-6-skori@marvell.com> References: <20251023110332.6231-6-skori@marvell.com> Content-Type: text/plain X-BeenThere: test-report@dpdk.org X-Mailman-Version: 2.1.29 Precedence: list List-Id: automatic DPDK test reports List-Unsubscribe: , List-Archive: List-Post: List-Help: List-Subscribe: , Errors-To: test-report-bounces@dpdk.org Test-Label: iol-compile-amd64-testing Test-Status: WARNING http://dpdk.org/patch/158017 _Testing issues_ Submitter: Sunil Kumar Kori Date: Thursday, October 23 2025 11:02:06 DPDK git baseline: Repo:dpdk-next-net-mrvl Branch: master CommitID:2863cbd9ee6dabee2b183382d298f4054ba3e8a2 158012-158017 --> testing issues Upstream job id: Generic-DPDK-Compile-Meson#437060 Test environment and result as below: +-------------------------------+--------------------+-------------------------+-------------------+----------------------+-------------------+------------------+ | Environment | dpdk_meson_compile | dpdk_llvm_clang_compile | dpdk_msvc_compile | dpdk_mingw64_compile | dpdk_compile_spdk | dpdk_compile_ovs | +===============================+====================+=========================+===================+======================+===================+==================+ | Ubuntu 20.04 | PASS | SKIPPED | SKIPPED | SKIPPED | SKIPPED | SKIPPED | +-------------------------------+--------------------+-------------------------+-------------------+----------------------+-------------------+------------------+ | FreeBSD 14.2 | PASS | SKIPPED | SKIPPED | SKIPPED | SKIPPED | SKIPPED | +-------------------------------+--------------------+-------------------------+-------------------+----------------------+-------------------+------------------+ | Alpine Linux 3.22.0 | PASS | SKIPPED | SKIPPED | SKIPPED | SKIPPED | SKIPPED | +-------------------------------+--------------------+-------------------------+-------------------+----------------------+-------------------+------------------+ | CentOS Stream 9 | PASS | SKIPPED | SKIPPED | SKIPPED | WARN | SKIPPED | +-------------------------------+--------------------+-------------------------+-------------------+----------------------+-------------------+------------------+ | CentOS Stream 10 | PASS | SKIPPED | SKIPPED | SKIPPED | SKIPPED | SKIPPED | +-------------------------------+--------------------+-------------------------+-------------------+----------------------+-------------------+------------------+ | Debian GNU/Linux 12 | PASS | SKIPPED | SKIPPED | SKIPPED | WARN | SKIPPED | +-------------------------------+--------------------+-------------------------+-------------------+----------------------+-------------------+------------------+ | Fedora Linux 42 | PASS | SKIPPED | SKIPPED | SKIPPED | WARN | PASS | +-------------------------------+--------------------+-------------------------+-------------------+----------------------+-------------------+------------------+ | openSUSE Leap 15.6 | PASS | SKIPPED | SKIPPED | SKIPPED | SKIPPED | SKIPPED | +-------------------------------+--------------------+-------------------------+-------------------+----------------------+-------------------+------------------+ | Red Hat Enterprise Linux 8.10 | PASS | SKIPPED | SKIPPED | SKIPPED | SKIPPED | SKIPPED | +-------------------------------+--------------------+-------------------------+-------------------+----------------------+-------------------+------------------+ | Red Hat Enterprise Linux 9.5 | PASS | SKIPPED | SKIPPED | SKIPPED | SKIPPED | SKIPPED | +-------------------------------+--------------------+-------------------------+-------------------+----------------------+-------------------+------------------+ | Ubuntu 22.04 | PASS | SKIPPED | SKIPPED | SKIPPED | WARN | SKIPPED | +-------------------------------+--------------------+-------------------------+-------------------+----------------------+-------------------+------------------+ | Ubuntu 24.04 | PASS | SKIPPED | SKIPPED | SKIPPED | WARN | PASS | +-------------------------------+--------------------+-------------------------+-------------------+----------------------+-------------------+------------------+ | Windows Server 2022 | SKIPPED | PASS | PASS | PASS | SKIPPED | SKIPPED | +-------------------------------+--------------------+-------------------------+-------------------+----------------------+-------------------+------------------+ ==== 20 line log output for Ubuntu 24.04 (dpdk_compile_spdk): ==== --- Failed to get log output --- ==== End log output ==== Ubuntu 20.04 Kernel: 4.19 Compiler: gcc gcc (Ubuntu 9.4.0-1ubuntu1~20.04.2) 9.4.0 FreeBSD 14.2 Kernel: 14.2-RELEASE Compiler: clang 18.1.6 Alpine Linux 3.22.0 Kernel: 5.15 Compiler: gcc gcc (Alpine 14.2.0) 14.2.0 CentOS Stream 9 Kernel: 5.15 Compiler: gcc gcc (GCC) 11.5.0 20240719 (Red Hat 11.5.0-11) CentOS Stream 10 Kernel: 5.15 Compiler: gcc gcc (GCC) 14.2.1 20250110 (Red Hat 14.2.1-8) Debian GNU/Linux 12 Kernel: 5.15 Compiler: gcc gcc (Debian 12.2.0-14+deb12u1) 12.2.0 Fedora Linux 42 Kernel: 5.15 Compiler: clang gcc (GCC) 15.2.1 20250808 (Red Hat 15.2.1-1) openSUSE Leap 15.6 Kernel: 5.15 Compiler: gcc gcc (SUSE Linux) 7.5.0 Red Hat Enterprise Linux 8.10 Kernel: 5.15 Compiler: gcc gcc (GCC) 8.5.0 20210514 (Red Hat 8.5.0-22) Red Hat Enterprise Linux 9.5 Kernel: 5.15 Compiler: gcc gcc (GCC) 11.5.0 20240719 (Red Hat 11.5.0-2) Ubuntu 22.04 Kernel: 5.15 Compiler: gcc gcc (Ubuntu 11.4.0-1ubuntu1~22.04) 11.4.0 Ubuntu 24.04 Kernel: 5.15 Compiler: gcc gcc (Ubuntu 13.3.0-6ubuntu2~24.04) 13.3.0 Windows Server 2022 Kernel: 10.0.20348.2031 Compiler: clang 15.0.7, gcc 14.1.0 (MinGW), and MSVC VS 19.39.33521 To view detailed results, visit: https://lab.dpdk.org/results/dashboard/patchsets/34357/ UNH-IOL DPDK Community Lab To manage your email subscriptions, visit: https://lab.dpdk.org/results/dashboard/preferences/subscriptions/