From mboxrd@z Thu Jan 1 00:00:00 1970 Return-Path: Received: from mails.dpdk.org (mails.dpdk.org [217.70.189.124]) by inbox.dpdk.org (Postfix) with ESMTP id 25123489BA for ; Thu, 23 Oct 2025 20:24:31 +0200 (CEST) Received: from mails.dpdk.org (localhost [127.0.0.1]) by mails.dpdk.org (Postfix) with ESMTP id 210C540144; Thu, 23 Oct 2025 20:24:31 +0200 (CEST) Received: from mail-pf1-f225.google.com (mail-pf1-f225.google.com [209.85.210.225]) by mails.dpdk.org (Postfix) with ESMTP id 6EB8740144 for ; Thu, 23 Oct 2025 20:24:30 +0200 (CEST) Received: by mail-pf1-f225.google.com with SMTP id d2e1a72fcca58-7833765433cso1516294b3a.0 for ; Thu, 23 Oct 2025 11:24:30 -0700 (PDT) DKIM-Signature: v=1; a=rsa-sha256; c=relaxed/relaxed; d=iol.unh.edu; s=unh-iol; t=1761243869; x=1761848669; darn=dpdk.org; h=references:in-reply-to:cc:to:from:subject:message-id:date:from:to :cc:subject:date:message-id:reply-to; bh=xmniSCxe/BIylw1nmIcx/rGD4TnMbS3PXraCVPrxpjg=; b=WGDY+hjJhu9mD6PDDEGE3iUCuc4BE6kjkkgN/N5i/Y1XCPUhutKfN7C+3yowxI2Nky fyVANDAW8BruAg2uHiMWZlXVmXqRbrThOGz2Rpm6UmQ8iQIJPblyxbdbts4Kjycrt49l RpFj1XwjC7fMtJ3AW7oaazhbzxURzL6d13vz8= X-Google-DKIM-Signature: v=1; a=rsa-sha256; c=relaxed/relaxed; d=1e100.net; s=20230601; t=1761243869; x=1761848669; h=references:in-reply-to:cc:to:from:subject:message-id:date :x-gm-message-state:from:to:cc:subject:date:message-id:reply-to; bh=xmniSCxe/BIylw1nmIcx/rGD4TnMbS3PXraCVPrxpjg=; b=dFKqDDdkAkQeJJKzpKpeGMvshp82XWYkbhs4JWMgDubVr0JcR1erua9qX/LdUJeb3Q Jx1QeiDlxdubdkwnVh+qSPnFb5YGN7nlOTbUJbEMobGaU47IXvXIh9WdsgjbkrngOJDo ny+RXKDpZXlHzvOIeFYZwBzldEPUktwNgjPax+ANH0IwVbEkYFu1IE6s1elMsWOJV5fe WrWPaIopRCXMorqcYFz49IscOP2E4typRcG0LBz0p3CWPgf+WoAg8TGo4CC7aA5cglkq B/EnAWSJ2Tu8nl96q+GpOTrmUigC3gVb9WCfDDkdgrnQq6psuiWw5EfgYhHAAVzT2PWi OF9w== X-Gm-Message-State: AOJu0Yx2d1nrOf6qgkZ0F1IsZpqDIQ8I/wS2JjIiL5Zgq5eShjZbAL8s uZi/n6A4+lltUZWG3JgEDDMRnsQ7aUGXi+pFFowrlSn6CxjErrbd25xuAA3ODtDlRU8c1XHLFfS lAdVZ9KpxxXSOcYl3tGvHRLsIDIjoPZT0DtdEa092GgLRyDhqjrS3voz9zYe+ X-Gm-Gg: ASbGncuBlqA33kYV/fqRUAy4mweWo2oNv8EUkmpmFULP6y3JMHFf1GjO9FCKzhvHmmy THLSVVEocNgz1kAQBzA4Vz9c/JZy9PvqjW5GGJeJkvxILtLN6csb5BtZi0zkmjUk6hEWhEaXzLN 9pNxEweR8eQrrUBrV94xd1l9pMtqROvX8E4hPV9xxAqt9W68Yc3cw0eTssRpUb4kmTTCID7va5l jP62LJO68mmHb85aiVMmawXckoyD8akE8FZns70Wd66nmIijSGNsLa6jeq+vrXPmVDxis9kfq4F MyL+qKGqu732RXZ4j15VdLk4mrmUSXpY5CU1i1RKp8J9cr4ipi7daYTZMl9PXA7vu4bIwGQhxLv gT+PtrKh6 X-Google-Smtp-Source: AGHT+IED9cOafnJFu7X4SaE2fSHTBrLoNVgic3stQ28bFtkFDFmw9XdeIkE5YqOV2f8BJllXcTgipnzq5qym X-Received: by 2002:a05:6a00:3d13:b0:7a2:7bdd:cbf4 with SMTP id d2e1a72fcca58-7a27bddcd09mr2427615b3a.27.1761243869500; Thu, 23 Oct 2025 11:24:29 -0700 (PDT) Received: from postal.iol.unh.edu (postal.iol.unh.edu. [2606:4100:3880:1234::84]) by smtp-relay.gmail.com with ESMTPS id d2e1a72fcca58-7a274a94fa5sm218544b3a.4.2025.10.23.11.24.29 (version=TLS1_2 cipher=ECDHE-ECDSA-AES128-GCM-SHA256 bits=128/128); Thu, 23 Oct 2025 11:24:29 -0700 (PDT) X-Relaying-Domain: iol.unh.edu Date: Thu, 23 Oct 2025 11:24:29 -0700 (PDT) Message-ID: <68fa72dd.050a0220.37572a.b6eeSMTPIN_ADDED_MISSING@mx.google.com> Received: from [172.21.0.2] (unknown [172.18.0.240]) by postal.iol.unh.edu (Postfix) with ESMTP id C3D65604D420; Thu, 23 Oct 2025 14:24:28 -0400 (EDT) Subject: |SUCCESS| pw158038-158056 [PATCH] [v3,19/19] drivers: fix Klocwork i From: dpdklab@iol.unh.edu To: Test Report Cc: dpdk-test-reports@iol.unh.edu In-Reply-To: <20251023172728.770661-19-ndabilpuram@marvell.com> References: <20251023172728.770661-19-ndabilpuram@marvell.com> Content-Type: text/plain X-BeenThere: test-report@dpdk.org X-Mailman-Version: 2.1.29 Precedence: list List-Id: automatic DPDK test reports List-Unsubscribe: , List-Archive: List-Post: List-Help: List-Subscribe: , Errors-To: test-report-bounces@dpdk.org Test-Label: iol-compile-amd64-testing Test-Status: SUCCESS http://dpdk.org/patch/158056 _Testing PASS_ Submitter: Nithin Dabilpuram Date: Thursday, October 23 2025 17:27:27 DPDK git baseline: Repo:dpdk-next-net-mrvl Branch: master CommitID:2863cbd9ee6dabee2b183382d298f4054ba3e8a2 158038-158056 --> testing pass Upstream job id: Windows-Compile-DPDK-Native#31848 Test environment and result as below: +---------------------+--------------------+-------------------------+-------------------+----------------------+ | Environment | dpdk_meson_compile | dpdk_llvm_clang_compile | dpdk_msvc_compile | dpdk_mingw64_compile | +=====================+====================+=========================+===================+======================+ | Ubuntu 20.04 | PASS | SKIPPED | SKIPPED | SKIPPED | +---------------------+--------------------+-------------------------+-------------------+----------------------+ | FreeBSD 14.2 | PASS | SKIPPED | SKIPPED | SKIPPED | +---------------------+--------------------+-------------------------+-------------------+----------------------+ | Windows Server 2022 | SKIPPED | PASS | PASS | PASS | +---------------------+--------------------+-------------------------+-------------------+----------------------+ Ubuntu 20.04 Kernel: 4.19 Compiler: gcc gcc (Ubuntu 9.4.0-1ubuntu1~20.04.2) 9.4.0 FreeBSD 14.2 Kernel: 14.2-RELEASE Compiler: clang 18.1.6 Windows Server 2022 Kernel: 10.0.20348.2031 Compiler: clang 15.0.7, gcc 14.1.0 (MinGW), and MSVC VS 19.39.33521 To view detailed results, visit: https://lab.dpdk.org/results/dashboard/patchsets/34364/ UNH-IOL DPDK Community Lab To manage your email subscriptions, visit: https://lab.dpdk.org/results/dashboard/preferences/subscriptions/