From mboxrd@z Thu Jan 1 00:00:00 1970 Return-Path: Received: from mails.dpdk.org (mails.dpdk.org [217.70.189.124]) by inbox.dpdk.org (Postfix) with ESMTP id 24172489BA for ; Thu, 23 Oct 2025 20:34:01 +0200 (CEST) Received: from mails.dpdk.org (localhost [127.0.0.1]) by mails.dpdk.org (Postfix) with ESMTP id 0575C40144; Thu, 23 Oct 2025 20:34:01 +0200 (CEST) Received: from mail-yw1-f225.google.com (mail-yw1-f225.google.com [209.85.128.225]) by mails.dpdk.org (Postfix) with ESMTP id B33FB40144 for ; Thu, 23 Oct 2025 20:33:59 +0200 (CEST) Received: by mail-yw1-f225.google.com with SMTP id 00721157ae682-783fa3aa122so15601077b3.0 for ; Thu, 23 Oct 2025 11:33:59 -0700 (PDT) DKIM-Signature: v=1; a=rsa-sha256; c=relaxed/relaxed; d=iol.unh.edu; s=unh-iol; t=1761244439; x=1761849239; darn=dpdk.org; h=references:in-reply-to:cc:to:from:subject:message-id:date:from:to :cc:subject:date:message-id:reply-to; bh=zcTKPZZIDxHDUWsHpwzXvaf3TMAVqSiWzzLKGQjpLLU=; b=DuSU5s9UcJPVv9mNxg8yd2p8M2D3eyLzICy1Jjn+KnVppcv8a1H259Ok5CvFj6Ajq6 iY0SSkIcLX0wRn87+xKrIWyFeOJLt659LmBhYgyygfpUi3UNqMIieAaV/U9nPkVZTt0w /YhPUfyd22D13rMTA5wcYod6Vjt/YEHYQwl/s= X-Google-DKIM-Signature: v=1; a=rsa-sha256; c=relaxed/relaxed; d=1e100.net; s=20230601; t=1761244439; x=1761849239; h=references:in-reply-to:cc:to:from:subject:message-id:date :x-gm-message-state:from:to:cc:subject:date:message-id:reply-to; bh=zcTKPZZIDxHDUWsHpwzXvaf3TMAVqSiWzzLKGQjpLLU=; b=INJv5NApdOs1PhUd8kaOSM6FwbYNJcBTsEbsAh9yeQcq3hKgsUeKkrX+RNp/EmRFi5 ICUWHDmNp3Zj1GFNQmjebY6INH6btwfI+hj+6L2ItjQ783M4eOhBovzwHBNO/+WHgp0i i8MGW2uOsvOaCAOuokekJDV1WHXDstsabcH3CnuBfncW273zCI6MBUwGKsJlDLIIbt2E vJxMgcfKaSAAq5U/JdjjSojb6DvkSKhtbWg8zR4+xY1ouP99IWCWUin5m1Trd0MBFhz1 AcufzPJDjuWaiontUkacgLioGzWqIgw93H8brmA1ZJuyM3Jxt3njS02i3AEmfT4yRAYm vqWA== X-Gm-Message-State: AOJu0YxzFMyGsD2QCN27wJtskJmGP542wm2VcM+Z7jk1EA0OXPLG0bWG wH+sci2xggzxaA4+5dM+MUoOo5AWIH1GrNchJYWncaJ00Tj/RmSXOTLo0mtlMDEV97ZISP8nRE2 oLhH2x1A8Q3Mr/AsPLlG4QNcqQMgA6wnyctcZuZloC8kxYBIkfpy/gu/Qo0wp X-Gm-Gg: ASbGncuwRnHJb7AgHrWaNn2cudnbcAD4Fb+4zXleKXCoe57lzZQEk8Khh4KvzqRUcEt VC2wVO4pP94IfghZWsnlmoSzd+Yb/sFMuCQZjF5xIYQbJh00ZM72+GvR7C62GT26SZ9lqwsETrb h2tIQDG96yi+coVTXAwnpt1m1LO31fs6D63DZcPxIojaC0Q7sOXc264bSeLG7cHozH2sNrEGM1w QylyWeCFimyg+csDyL1Td7UUcoXXELvIUQ/W5CcJytk97BOgXC7nHs/kz9LBGm/GtX61SuZ028c 2TZXBNwCNP4XfCJV588efCRx7MXn7cL5xWGoXbRxiMTbbSs7Kq2/eTHpjQrkptS6Mec3v8ggqk2 2Iz6s14+M X-Google-Smtp-Source: AGHT+IEa2x15y2hAjU4ZNQobbXJ3nUoUhuLr67kPZyN8xatNuoL6U7TVAbl3oHZ1km+GzEkuGRwdVarHEuEn X-Received: by 2002:a05:690c:289:b0:781:64f:2b6e with SMTP id 00721157ae682-785bd2bd773mr72641177b3.31.1761244438919; Thu, 23 Oct 2025 11:33:58 -0700 (PDT) Received: from postal.iol.unh.edu (postal.iol.unh.edu. [2606:4100:3880:1234::84]) by smtp-relay.gmail.com with ESMTPS id 00721157ae682-785cd6c78adsm1427637b3.23.2025.10.23.11.33.58 (version=TLS1_2 cipher=ECDHE-ECDSA-AES128-GCM-SHA256 bits=128/128); Thu, 23 Oct 2025 11:33:58 -0700 (PDT) X-Relaying-Domain: iol.unh.edu Date: Thu, 23 Oct 2025 11:33:58 -0700 (PDT) Message-ID: <68fa7516.050a0220.381d74.7198SMTPIN_ADDED_MISSING@mx.google.com> Received: from [172.21.0.2] (unknown [172.18.0.240]) by postal.iol.unh.edu (Postfix) with ESMTP id 92C1760003E8; Thu, 23 Oct 2025 14:33:58 -0400 (EDT) Subject: |SUCCESS| pw158038-158056 [PATCH] [v3,19/19] drivers: fix Klocwork i From: dpdklab@iol.unh.edu To: Test Report Cc: dpdk-test-reports@iol.unh.edu In-Reply-To: <20251023172728.770661-19-ndabilpuram@marvell.com> References: <20251023172728.770661-19-ndabilpuram@marvell.com> Content-Type: text/plain X-BeenThere: test-report@dpdk.org X-Mailman-Version: 2.1.29 Precedence: list List-Id: automatic DPDK test reports List-Unsubscribe: , List-Archive: List-Post: List-Help: List-Subscribe: , Errors-To: test-report-bounces@dpdk.org Test-Label: iol-unit-amd64-testing Test-Status: SUCCESS http://dpdk.org/patch/158056 _Testing PASS_ Submitter: Nithin Dabilpuram Date: Thursday, October 23 2025 17:27:27 DPDK git baseline: Repo:dpdk-next-net-mrvl Branch: master CommitID:2863cbd9ee6dabee2b183382d298f4054ba3e8a2 158038-158056 --> testing pass Upstream job id: Generic-VM-Unit-Test-DPDK#32017 Test environment and result as below: +-------------------------------+----------------+ | Environment | dpdk_unit_test | +===============================+================+ | Fedora Linux 42 | PASS | +-------------------------------+----------------+ | CentOS Stream 9 | PASS | +-------------------------------+----------------+ | Ubuntu 24.04 | PASS | +-------------------------------+----------------+ | Red Hat Enterprise Linux 9.5 | PASS | +-------------------------------+----------------+ | Fedora Linux 41 | PASS | +-------------------------------+----------------+ | Windows Server 2022 | PASS | +-------------------------------+----------------+ | Ubuntu 20.04 | PASS | +-------------------------------+----------------+ | Debian GNU/Linux 12 | PASS | +-------------------------------+----------------+ | Fedora Linux 40 | PASS | +-------------------------------+----------------+ | Ubuntu 22.04 | PASS | +-------------------------------+----------------+ | CentOS Stream 10 | PASS | +-------------------------------+----------------+ | Red Hat Enterprise Linux 8.10 | PASS | +-------------------------------+----------------+ Fedora Linux 42 Kernel: 5.15 Compiler: clang gcc (GCC) 15.2.1 20250808 (Red Hat 15.2.1-1) CentOS Stream 9 Kernel: 5.15 Compiler: gcc gcc (GCC) 11.5.0 20240719 (Red Hat 11.5.0-11) Ubuntu 24.04 Kernel: 5.15 Compiler: gcc gcc (Ubuntu 13.3.0-6ubuntu2~24.04) 13.3.0 Red Hat Enterprise Linux 9.5 Kernel: 5.15 Compiler: gcc gcc (GCC) 11.5.0 20240719 (Red Hat 11.5.0-2) Fedora Linux 41 Kernel: 5.15 Compiler: clang gcc (GCC) 14.3.1 20250523 (Red Hat 14.3.1-1) Windows Server 2022 Kernel: 10.0.20348.2031 Compiler: clang 15.0.7, gcc 14.1.0 (MinGW), and MSVC VS 19.39.33521 Ubuntu 20.04 Kernel: 5.15 Compiler: gcc gcc (Ubuntu 9.4.0-1ubuntu1~20.04.2) 9.4.0 Debian GNU/Linux 12 Kernel: 5.15 Compiler: gcc gcc (Debian 12.2.0-14+deb12u1) 12.2.0 Fedora Linux 40 Kernel: 5.15 Compiler: clang gcc (GCC) 14.2.1 20240912 (Red Hat 14.2.1-3) Ubuntu 22.04 Kernel: 5.15 Compiler: gcc gcc (Ubuntu 11.4.0-1ubuntu1~22.04) 11.4.0 CentOS Stream 10 Kernel: 5.15 Compiler: gcc gcc (GCC) 14.2.1 20250110 (Red Hat 14.2.1-8) Red Hat Enterprise Linux 8.10 Kernel: 5.15 Compiler: gcc gcc (GCC) 8.5.0 20210514 (Red Hat 8.5.0-22) To view detailed results, visit: https://lab.dpdk.org/results/dashboard/patchsets/34364/ UNH-IOL DPDK Community Lab To manage your email subscriptions, visit: https://lab.dpdk.org/results/dashboard/preferences/subscriptions/