From mboxrd@z Thu Jan 1 00:00:00 1970 Return-Path: Received: from mails.dpdk.org (mails.dpdk.org [217.70.189.124]) by inbox.dpdk.org (Postfix) with ESMTP id 03165489BA for ; Thu, 23 Oct 2025 20:58:02 +0200 (CEST) Received: from mails.dpdk.org (localhost [127.0.0.1]) by mails.dpdk.org (Postfix) with ESMTP id E36F640144; Thu, 23 Oct 2025 20:58:02 +0200 (CEST) Received: from mail-pg1-f225.google.com (mail-pg1-f225.google.com [209.85.215.225]) by mails.dpdk.org (Postfix) with ESMTP id C537940144 for ; Thu, 23 Oct 2025 20:58:01 +0200 (CEST) Received: by mail-pg1-f225.google.com with SMTP id 41be03b00d2f7-b6ce696c18bso1042869a12.1 for ; Thu, 23 Oct 2025 11:58:01 -0700 (PDT) DKIM-Signature: v=1; a=rsa-sha256; c=relaxed/relaxed; d=iol.unh.edu; s=unh-iol; t=1761245881; x=1761850681; darn=dpdk.org; h=cc:to:from:subject:message-id:date:from:to:cc:subject:date :message-id:reply-to; bh=XkZo2RiIm+MhjIWl2BP2phNMUzLmTdYLxqL1Tkn44g8=; b=EXu/fri6a+6WAd2RwAD8FjfEWyhzg1U1e8DZdjnTilo7yFtwH8+nB2O1LGekhLyUBn vsQl1PcQ/Vxes32EZc7RsRxhrpGxEURJ+gLyISY7j2CH1VEgDfcV9i1/7+2fyLr+mNdk zXJJAmSPfeSYCbhI4S7u1P8JKpN2hO7sq7ObE= X-Google-DKIM-Signature: v=1; a=rsa-sha256; c=relaxed/relaxed; d=1e100.net; s=20230601; t=1761245881; x=1761850681; h=cc:to:from:subject:message-id:date:x-gm-message-state:from:to:cc :subject:date:message-id:reply-to; bh=XkZo2RiIm+MhjIWl2BP2phNMUzLmTdYLxqL1Tkn44g8=; b=H1F+7hqJysESogQNqiMn3Q0oG6KVkMolelyK3JvdRsSSVXAbsiNf8Oe13Mrf8Qm4O0 5wiuyTLqfoqBJ5meXJhp1KUV7Uj1qYEoaeMYQxLOQ1MhDJTuM8yqXz86hY+H34Dtm47T i2/HByoElniv5hSd03PPv95tclWLtMDQnwYzYMGmYq+om3ew3dLu9lDAMkR9mWvwzTfx opjqc//juFuFIWiY1phW7YK26gElKugYuHq4jZf/51GZpYOcePonfDD7+0Wf777BRgZK 1DNSa6l8eJRHiuSOM0kC/3nGiTnKBvSpgXYHqyQuky6g//owLute1qIXZyM1lKHo+qZ/ mMbA== X-Gm-Message-State: AOJu0Yx1VqxU00vcZTlSgAIYyYuurhAildPb5HD4B7+SVCoKZGn9yjUe aKBebXKX3T9Z6j9fzW1oI3qJ2g6OnX0TyZqP8r18yec1C7Dm3vs/zALeoWOPWKRc+U2r6RVBZ5y nZCtpNb1jyW11mhh3C9abSUPR5/LP7nnDdaYp X-Gm-Gg: ASbGncvwHdliXJd7Uqm0ZWYydFK1C8uKiJA+fOtPGzRGBhtt+HO5l8nFqKw9XjCFYaB iPc/d352InpYOjJlN94Y5Ia0DFthf1Q0N5jBDON60jF7mwjE8WiTsCZTWTO5PRDbmOemclMfY7D UFbFHPvzDVB6N1lXeDDiI8ORfLIx88gC6Najqqvc0XsP8HHMJM+u+l4jo7fiiRMnh4HbW2f2i1p U9T0QaalQfLGpC1k56gScdMP3FPD8LGiWZyi9kGHVCe41Ciqqx6wDtwy4gnB2vndgbIMHmKbQjA qmd2lUDYlpG+YaHIsHKfchgJ3sQudHUr6CHfXtYxxNCTmqPkz8bCs2gj0FT7wtjl1r0mnc8vQJi dnh/5J2NT9eIatIfpPsH63wDjg8dCfK4= X-Google-Smtp-Source: AGHT+IEY4xDlyANAscHEd9Ke1F6xCeCRlZXGRAPWoNAF8xURkBVC7TJyu4OWG5q2v8GIMtIj5Gi2XD3fPbXY X-Received: by 2002:a17:903:1d1:b0:290:2a14:2ed5 with SMTP id d9443c01a7336-290c9c89fd2mr272527005ad.4.1761245880807; Thu, 23 Oct 2025 11:58:00 -0700 (PDT) Received: from postal.iol.unh.edu (postal.iol.unh.edu. [132.177.123.84]) by smtp-relay.gmail.com with ESMTPS id d9443c01a7336-2946dee6928sm3094495ad.39.2025.10.23.11.58.00 (version=TLS1_2 cipher=ECDHE-ECDSA-AES128-GCM-SHA256 bits=128/128); Thu, 23 Oct 2025 11:58:00 -0700 (PDT) X-Relaying-Domain: iol.unh.edu Date: Thu, 23 Oct 2025 11:58:00 -0700 (PDT) Message-ID: <68fa7ab8.170a0220.cba78.f3c6SMTPIN_ADDED_MISSING@mx.google.com> Received: from [172.21.0.3] (unknown [172.18.0.240]) by postal.iol.unh.edu (Postfix) with ESMTP id 0E16D6051830; Thu, 23 Oct 2025 14:58:00 -0400 (EDT) Subject: |SUCCESS| [GIT MASTER] b287e404643aeab5bb5db084c142789df187844e From: dpdklab@iol.unh.edu To: Test Report Cc: dpdk-test-reports@iol.unh.edu, Xueming Li , Christian Ehrhardt , Kevin Traynor , Luca Boccassi Content-Type: text/plain X-BeenThere: test-report@dpdk.org X-Mailman-Version: 2.1.29 Precedence: list List-Id: automatic DPDK test reports List-Unsubscribe: , List-Archive: List-Post: List-Help: List-Subscribe: , Errors-To: test-report-bounces@dpdk.org _Testing PASS_ Branch: tags/v24.11 b287e404643aeab5bb5db084c142789df187844e --> testing pass Upstream job id: Generic-DPDK-Compile-Meson#436940 Test environment and result as below: +------------------------------+--------------------+ | Environment | dpdk_meson_compile | +==============================+====================+ | Red Hat Enterprise Linux 9.5 | PASS | +------------------------------+--------------------+ | Ubuntu 20.04 | PASS | +------------------------------+--------------------+ | Debian GNU/Linux 12 | PASS | +------------------------------+--------------------+ | Fedora Linux 42 | PASS | +------------------------------+--------------------+ | Ubuntu 22.04 | PASS | +------------------------------+--------------------+ | Ubuntu 24.04 | PASS | +------------------------------+--------------------+ | CentOS Stream 9 | PASS | +------------------------------+--------------------+ | CentOS Stream 10 | PASS | +------------------------------+--------------------+ Red Hat Enterprise Linux 9.5 Kernel: 5.4 Compiler: gcc gcc (GCC) 11.5.0 20240719 (Red Hat 11.5.0-2) Ubuntu 20.04 Kernel: 5.15 Compiler: aarch64-linux-gnu-gcc gcc (Ubuntu 9.4.0-1ubuntu1~20.04.2) 9.4.0 Debian GNU/Linux 12 Kernel: 5.4 Compiler: gcc gcc (Debian 12.2.0-14+deb12u1) 12.2.0 Fedora Linux 42 Kernel: 5.4 Compiler: gcc gcc (GCC) 15.2.1 20250808 (Red Hat 15.2.1-1) Ubuntu 22.04 Kernel: 5.4 Compiler: gcc gcc (Ubuntu 11.4.0-1ubuntu1~22.04) 11.4.0 Ubuntu 24.04 Kernel: 5.4 Compiler: gcc gcc (Ubuntu 13.3.0-6ubuntu2~24.04) 13.3.0 CentOS Stream 9 Kernel: 5.4 Compiler: gcc gcc (GCC) 11.5.0 20240719 (Red Hat 11.5.0-11) CentOS Stream 10 Kernel: 5.4 Compiler: gcc gcc (GCC) 14.2.1 20250110 (Red Hat 14.2.1-8) To view detailed results, visit: https://lab.dpdk.org/results/dashboard/tarballs/35309/ UNH-IOL DPDK Community Lab To manage your email subscriptions, visit: https://lab.dpdk.org/results/dashboard/preferences/subscriptions/