automatic DPDK test reports
 help / color / mirror / Atom feed
From: dpdklab@iol.unh.edu
To: Test Report <test-report@dpdk.org>
Cc: dpdk-test-reports@iol.unh.edu,
	Stephen Hemminger <stephen@networkplumber.org>
Subject: |WARNING| pw158018-158023 [PATCH] [6/6] net/txgbe: add PF-triggered
Date: Thu, 23 Oct 2025 12:08:30 -0700 (PDT)	[thread overview]
Message-ID: <68fa7d2e.170a0220.3979cb.008cSMTPIN_ADDED_MISSING@mx.google.com> (raw)
In-Reply-To: <20251023121356.21944-7-zaiyuwang@trustnetic.com>

Test-Label: iol-compile-amd64-testing
Test-Status: WARNING
http://dpdk.org/patch/158023

_Testing issues_

Submitter: Zaiyu Wang <zaiyuwang@trustnetic.com>
Date: Thursday, October 23 2025 12:13:55 
DPDK git baseline: Repo:dpdk-next-net
  Branch: master
  CommitID:4c4055bdd19f919795f83a01faae9fc267570d7f

158018-158023 --> testing issues

Upstream job id: Generic-DPDK-Compile-Meson#437092

Test environment and result as below:

+---------------------+--------------------+-------------------+-------------------------+----------------------+-------------------+
|     Environment     | dpdk_meson_compile | dpdk_msvc_compile | dpdk_llvm_clang_compile | dpdk_mingw64_compile | dpdk_compile_spdk |
+=====================+====================+===================+=========================+======================+===================+
| FreeBSD 14.2        | PASS               | SKIPPED           | SKIPPED                 | SKIPPED              | SKIPPED           |
+---------------------+--------------------+-------------------+-------------------------+----------------------+-------------------+
| Ubuntu 20.04        | PASS               | SKIPPED           | SKIPPED                 | SKIPPED              | SKIPPED           |
+---------------------+--------------------+-------------------+-------------------------+----------------------+-------------------+
| CentOS Stream 9     | PEND               | SKIPPED           | SKIPPED                 | SKIPPED              | PEND              |
+---------------------+--------------------+-------------------+-------------------------+----------------------+-------------------+
| CentOS Stream 10    | PASS               | SKIPPED           | SKIPPED                 | SKIPPED              | SKIPPED           |
+---------------------+--------------------+-------------------+-------------------------+----------------------+-------------------+
| Debian GNU/Linux 12 | PASS               | SKIPPED           | SKIPPED                 | SKIPPED              | WARN              |
+---------------------+--------------------+-------------------+-------------------------+----------------------+-------------------+
| Windows Server 2022 | SKIPPED            | PASS              | PASS                    | PASS                 | SKIPPED           |
+---------------------+--------------------+-------------------+-------------------------+----------------------+-------------------+

==== 20 line log output for Debian GNU/Linux 12 (dpdk_compile_spdk): ====
 --- Failed to get log output --- 
==== End log output ====

FreeBSD 14.2
	Kernel: 14.2-RELEASE
	Compiler: clang 18.1.6

Ubuntu 20.04
	Kernel: 4.19
	Compiler: gcc gcc (Ubuntu 9.4.0-1ubuntu1~20.04.2) 9.4.0

CentOS Stream 9
	Kernel: 5.15
	Compiler: gcc gcc (GCC) 11.5.0 20240719 (Red Hat 11.5.0-11)

CentOS Stream 10
	Kernel: 5.15
	Compiler: gcc gcc (GCC) 14.2.1 20250110 (Red Hat 14.2.1-8)

Debian GNU/Linux 12
	Kernel: 5.15
	Compiler: gcc gcc (Debian 12.2.0-14+deb12u1) 12.2.0

Windows Server 2022
	Kernel: 10.0.20348.2031
	Compiler: clang 15.0.7, gcc 14.1.0 (MinGW), and MSVC VS 19.39.33521

To view detailed results, visit:
https://lab.dpdk.org/results/dashboard/patchsets/34358/

UNH-IOL DPDK Community Lab

To manage your email subscriptions, visit: 
https://lab.dpdk.org/results/dashboard/preferences/subscriptions/

  parent reply	other threads:[~2025-10-23 19:08 UTC|newest]

Thread overview: 25+ messages / expand[flat|nested]  mbox.gz  Atom feed  top
     [not found] <20251023121356.21944-7-zaiyuwang@trustnetic.com>
2025-10-23 11:41 ` |SUCCESS| pw158018-158023 [PATCH 6/6] net/txgbe: add PF-triggered VF link status change handling qemudev
2025-10-23 11:46 ` qemudev
2025-10-23 12:15 ` |SUCCESS| pw158023 " checkpatch
2025-10-23 12:39 ` |PENDING| pw158018-158023 [PATCH] [6/6] net/txgbe: add PF-triggered dpdklab
2025-10-23 12:43 ` |SUCCESS| " dpdklab
2025-10-23 12:45 ` |PENDING| " dpdklab
2025-10-23 12:47 ` |SUCCESS| " dpdklab
2025-10-23 12:49 ` |PENDING| " dpdklab
2025-10-23 12:51 ` dpdklab
2025-10-23 12:59 ` |SUCCESS| " dpdklab
2025-10-23 12:59 ` dpdklab
2025-10-23 13:03 ` dpdklab
2025-10-23 13:04 ` dpdklab
2025-10-23 13:05 ` dpdklab
2025-10-23 13:05 ` dpdklab
2025-10-23 13:21 ` dpdklab
2025-10-23 13:23 ` dpdklab
2025-10-23 13:25 ` dpdklab
2025-10-23 13:32 ` dpdklab
2025-10-23 14:19 ` dpdklab
2025-10-23 18:41 ` |PENDING| " dpdklab
2025-10-23 19:08 ` dpdklab [this message]
2025-10-23 19:46 ` |SUCCESS| pw158023 [PATCH 6/6] net/txgbe: add PF-triggered VF link status change handling 0-day Robot
2025-10-23 19:46 ` 0-day Robot
2025-10-23 21:01 ` |WARNING| pw158018-158023 [PATCH] [6/6] net/txgbe: add PF-triggered dpdklab

Reply instructions:

You may reply publicly to this message via plain-text email
using any one of the following methods:

* Save the following mbox file, import it into your mail client,
  and reply-to-all from there: mbox

  Avoid top-posting and favor interleaved quoting:
  https://en.wikipedia.org/wiki/Posting_style#Interleaved_style

* Reply using the --to, --cc, and --in-reply-to
  switches of git-send-email(1):

  git send-email \
    --in-reply-to=68fa7d2e.170a0220.3979cb.008cSMTPIN_ADDED_MISSING@mx.google.com \
    --to=dpdklab@iol.unh.edu \
    --cc=dpdk-test-reports@iol.unh.edu \
    --cc=stephen@networkplumber.org \
    --cc=test-report@dpdk.org \
    /path/to/YOUR_REPLY

  https://kernel.org/pub/software/scm/git/docs/git-send-email.html

* If your mail client supports setting the In-Reply-To header
  via mailto: links, try the mailto: link
Be sure your reply has a Subject: header at the top and a blank line before the message body.
This is a public inbox, see mirroring instructions
for how to clone and mirror all data and code used for this inbox;
as well as URLs for NNTP newsgroup(s).