From mboxrd@z Thu Jan 1 00:00:00 1970 Return-Path: Received: from mails.dpdk.org (mails.dpdk.org [217.70.189.124]) by inbox.dpdk.org (Postfix) with ESMTP id F2FBA489BA for ; Thu, 23 Oct 2025 21:08:31 +0200 (CEST) Received: from mails.dpdk.org (localhost [127.0.0.1]) by mails.dpdk.org (Postfix) with ESMTP id CF6B740144; Thu, 23 Oct 2025 21:08:31 +0200 (CEST) Received: from mail-pg1-f227.google.com (mail-pg1-f227.google.com [209.85.215.227]) by mails.dpdk.org (Postfix) with ESMTP id E549E40144 for ; Thu, 23 Oct 2025 21:08:30 +0200 (CEST) Received: by mail-pg1-f227.google.com with SMTP id 41be03b00d2f7-b6cea7c527bso1162872a12.3 for ; Thu, 23 Oct 2025 12:08:30 -0700 (PDT) DKIM-Signature: v=1; a=rsa-sha256; c=relaxed/relaxed; d=iol.unh.edu; s=unh-iol; t=1761246510; x=1761851310; darn=dpdk.org; h=references:in-reply-to:cc:to:from:subject:message-id:date:from:to :cc:subject:date:message-id:reply-to; bh=oRsZAtSGciyl7EbLN+vQ2u6w3aFBjtQyZ6N63fX41uM=; b=X8v2mpzY4evTI0WfnDVTyTCQkuXULi/gH2jnv5pW/VzWU+UN8SiKoo/lS3R4/l0oxj 1kfuatu220+vRYRqJQJWHnWWtducwO3EsxHFIEIB6w8pkfztiuwvZ4ak9ADQdRx1Xz4H xWiDvSWbNqZU+twNZOc+N7G+LxDvpcli5ZbIE= X-Google-DKIM-Signature: v=1; a=rsa-sha256; c=relaxed/relaxed; d=1e100.net; s=20230601; t=1761246510; x=1761851310; h=references:in-reply-to:cc:to:from:subject:message-id:date :x-gm-message-state:from:to:cc:subject:date:message-id:reply-to; bh=oRsZAtSGciyl7EbLN+vQ2u6w3aFBjtQyZ6N63fX41uM=; b=Uk4LOpZkgm/nTNq8NvTswzWBRXx2Swt3K0K+PXFLUo2/wUGWTCYExAWfRW5GfsgwF+ 4lB0kaO42TfhuSdSwop/0AonbOZ2U2IAy12QDQd/NHh/5WAzcbO6yrnzjNY/c7t0/pTG DRBPYX8CDGfcrQavpJvcOYNmq0LUd55RmeJOyHhTY3OeBQT/qt3SA1sz1z+F7GzNSdyc aYUZHaaO5rzfZ0PDECONr+ZlZcWJ/N2JgTf2dfBxUG72cvgppOTjfU71aLDDO6x97sEo d4AzCOV8aRWhn6g7Wchw5Fv4jVQLtAsyMzklX4AznztMr1rF7Z/svc3HZtVPNqhvGlmF aVig== X-Gm-Message-State: AOJu0YzumcvWLgF1G1m/dsoJjxj1ju99ZYbXBWs3S9zUGGU47X1dkxvT /fHjr1d7Pj9e7pEeBOYt6YsatUuy0StCA/6+2D58MLIYfUeyHIwrXxtUENmYiZTodpwzKU5NMqA kcbBUekRAqe40MBeVgEf0m2fbxLYhynqNAVz/thxTaMTTwGqRUOkReZmfZ01Q X-Gm-Gg: ASbGnct1qhhU5Cv2i0OV9GLwiv/5s/Sz0AVtIMNh3fic+YOCohxzb3M7l1OaUpOKWDt 6hbW3HXYd2qKt6vyaPMZTcGaDO2ilWy2IqbaC3TKyR/iU7+AGNVDjQADk0wQg6xmlraGWrZgwg5 YHKD2TLipPlnm7v81W5W8ChNqA5oZ61JEmpTPN8FNSHn6wAdlBiT3aArmDdX7K7FmZ3o4n7V8SX CivAX3S/sUuQ4aB2inerQDBs9gELQ9MwHPhQE8IHPJMbOjzE2t87yPwaCFtRMGXmRQ4tBVsDV3s Z0AYHyCm2SXBrQpnoYM+hTdAD2dUlIKufgygvy5j/n1b3ujm7mk6nBO9J+9SxN3n7MAgTPTYwy0 UZS5ZRAfR X-Google-Smtp-Source: AGHT+IHe0JOVNQvqJVMbC1M8MQVZka9OBN7/u+JbJNUBNpULek5t/SuzqXxviniw6HZiBuFnO3ATLt6Yxp7H X-Received: by 2002:a17:902:e546:b0:26f:f489:bba6 with SMTP id d9443c01a7336-290cb27f92dmr310221745ad.50.1761246510095; Thu, 23 Oct 2025 12:08:30 -0700 (PDT) Received: from postal.iol.unh.edu (postal.iol.unh.edu. [2606:4100:3880:1234::84]) by smtp-relay.gmail.com with ESMTPS id d9443c01a7336-2946dee70e9sm3116425ad.42.2025.10.23.12.08.29 (version=TLS1_2 cipher=ECDHE-ECDSA-AES128-GCM-SHA256 bits=128/128); Thu, 23 Oct 2025 12:08:30 -0700 (PDT) X-Relaying-Domain: iol.unh.edu Date: Thu, 23 Oct 2025 12:08:30 -0700 (PDT) Message-ID: <68fa7d2e.170a0220.3979cb.008cSMTPIN_ADDED_MISSING@mx.google.com> Received: from [172.21.0.3] (unknown [172.18.0.240]) by postal.iol.unh.edu (Postfix) with ESMTP id 5C8816051830; Thu, 23 Oct 2025 15:08:29 -0400 (EDT) Subject: |WARNING| pw158018-158023 [PATCH] [6/6] net/txgbe: add PF-triggered From: dpdklab@iol.unh.edu To: Test Report Cc: dpdk-test-reports@iol.unh.edu, Stephen Hemminger In-Reply-To: <20251023121356.21944-7-zaiyuwang@trustnetic.com> References: <20251023121356.21944-7-zaiyuwang@trustnetic.com> Content-Type: text/plain X-BeenThere: test-report@dpdk.org X-Mailman-Version: 2.1.29 Precedence: list List-Id: automatic DPDK test reports List-Unsubscribe: , List-Archive: List-Post: List-Help: List-Subscribe: , Errors-To: test-report-bounces@dpdk.org Test-Label: iol-compile-amd64-testing Test-Status: WARNING http://dpdk.org/patch/158023 _Testing issues_ Submitter: Zaiyu Wang Date: Thursday, October 23 2025 12:13:55 DPDK git baseline: Repo:dpdk-next-net Branch: master CommitID:4c4055bdd19f919795f83a01faae9fc267570d7f 158018-158023 --> testing issues Upstream job id: Generic-DPDK-Compile-Meson#437092 Test environment and result as below: +---------------------+--------------------+-------------------+-------------------------+----------------------+-------------------+ | Environment | dpdk_meson_compile | dpdk_msvc_compile | dpdk_llvm_clang_compile | dpdk_mingw64_compile | dpdk_compile_spdk | +=====================+====================+===================+=========================+======================+===================+ | FreeBSD 14.2 | PASS | SKIPPED | SKIPPED | SKIPPED | SKIPPED | +---------------------+--------------------+-------------------+-------------------------+----------------------+-------------------+ | Ubuntu 20.04 | PASS | SKIPPED | SKIPPED | SKIPPED | SKIPPED | +---------------------+--------------------+-------------------+-------------------------+----------------------+-------------------+ | CentOS Stream 9 | PEND | SKIPPED | SKIPPED | SKIPPED | PEND | +---------------------+--------------------+-------------------+-------------------------+----------------------+-------------------+ | CentOS Stream 10 | PASS | SKIPPED | SKIPPED | SKIPPED | SKIPPED | +---------------------+--------------------+-------------------+-------------------------+----------------------+-------------------+ | Debian GNU/Linux 12 | PASS | SKIPPED | SKIPPED | SKIPPED | WARN | +---------------------+--------------------+-------------------+-------------------------+----------------------+-------------------+ | Windows Server 2022 | SKIPPED | PASS | PASS | PASS | SKIPPED | +---------------------+--------------------+-------------------+-------------------------+----------------------+-------------------+ ==== 20 line log output for Debian GNU/Linux 12 (dpdk_compile_spdk): ==== --- Failed to get log output --- ==== End log output ==== FreeBSD 14.2 Kernel: 14.2-RELEASE Compiler: clang 18.1.6 Ubuntu 20.04 Kernel: 4.19 Compiler: gcc gcc (Ubuntu 9.4.0-1ubuntu1~20.04.2) 9.4.0 CentOS Stream 9 Kernel: 5.15 Compiler: gcc gcc (GCC) 11.5.0 20240719 (Red Hat 11.5.0-11) CentOS Stream 10 Kernel: 5.15 Compiler: gcc gcc (GCC) 14.2.1 20250110 (Red Hat 14.2.1-8) Debian GNU/Linux 12 Kernel: 5.15 Compiler: gcc gcc (Debian 12.2.0-14+deb12u1) 12.2.0 Windows Server 2022 Kernel: 10.0.20348.2031 Compiler: clang 15.0.7, gcc 14.1.0 (MinGW), and MSVC VS 19.39.33521 To view detailed results, visit: https://lab.dpdk.org/results/dashboard/patchsets/34358/ UNH-IOL DPDK Community Lab To manage your email subscriptions, visit: https://lab.dpdk.org/results/dashboard/preferences/subscriptions/