From mboxrd@z Thu Jan 1 00:00:00 1970 Return-Path: Received: from mails.dpdk.org (mails.dpdk.org [217.70.189.124]) by inbox.dpdk.org (Postfix) with ESMTP id 74C6E489BA for ; Thu, 23 Oct 2025 21:43:47 +0200 (CEST) Received: from mails.dpdk.org (localhost [127.0.0.1]) by mails.dpdk.org (Postfix) with ESMTP id 6E82B40144; Thu, 23 Oct 2025 21:43:47 +0200 (CEST) Received: from mail-il1-f228.google.com (mail-il1-f228.google.com [209.85.166.228]) by mails.dpdk.org (Postfix) with ESMTP id 1480E40144 for ; Thu, 23 Oct 2025 21:43:46 +0200 (CEST) Received: by mail-il1-f228.google.com with SMTP id e9e14a558f8ab-430b621ec08so12394135ab.0 for ; Thu, 23 Oct 2025 12:43:46 -0700 (PDT) DKIM-Signature: v=1; a=rsa-sha256; c=relaxed/relaxed; d=iol.unh.edu; s=unh-iol; t=1761248625; x=1761853425; darn=dpdk.org; h=references:in-reply-to:cc:to:from:subject:message-id:date:from:to :cc:subject:date:message-id:reply-to; bh=uZdOdXDu90mBiZiKELutjQvylkoFTMVZFC2JtJGBPmI=; b=BoYwLsQzb+LpvUuGPI2YGgLuo6lpD5qi6j6fYcAvwEplF1JlXg0vr2kzXKSN5rz/bh 3rCgbazvpkRKiYf/k5rJU3VvqT7MqubLmZFQX6Z7RuHsSueM8tt4PI/Yp1CwJZXGPF1D Lq9mRtVtMkSjY0BaMeB8+dO5UjfOCbD9m53X0= X-Google-DKIM-Signature: v=1; a=rsa-sha256; c=relaxed/relaxed; d=1e100.net; s=20230601; t=1761248625; x=1761853425; h=references:in-reply-to:cc:to:from:subject:message-id:date :x-gm-message-state:from:to:cc:subject:date:message-id:reply-to; bh=uZdOdXDu90mBiZiKELutjQvylkoFTMVZFC2JtJGBPmI=; b=xNdoxE77Ilu4vcmSlsagMsqjWJA7ZGGWt8H4FdsuXOT0n11EnYMeh1D5elM8WtKfTY GfSzsSLT3TPqwAnq4WFxG9vXGv68rQP6eaqFm2IPh0mJ7fElcbh498hwmSfTzZ+hZvrq RtQr4Wgubehu9f9Y2YBdnGhP92sBd1DiyTef/OcbdS+RZ4gt/A3cztlYE1CvMFr+dN6Z EbzGjEMPWM5ku3VSeTPmkNCv1ZkD+Z4hrQzXIItIG3GriQNODXR0bOoKAQ/w2zd207fz knkT8t8BFqc0ySrzk4eFzAaQpKa11dgUBmByf7t74xmveXJAswmSKwKMGzanRBMCtN9P r3EA== X-Gm-Message-State: AOJu0YwKaQYkrDxXwqcSpzdVXXlg3Metw8juMZLw4HOIDFKegkerHd5/ kzST8w5d9MlCFH2j0FTCJHh+PrcaKL3oUJ3Eu507CcQZbXcApYXEAJ34ePuKmar7c7Ls8tOgy7q A6t1YHJJ02Is9x+gBU6EH+UOtwiNWalqefuDMH/Kj+UHVLj5YuGqVhXG8X5+M X-Gm-Gg: ASbGncuZ9UcsH/gPtSoLV/pakTpq6XUWKKJIKPKcfiFQ1/tL7gGlVvmY3OfHXJ3SMyR 48yFhCdEH0tIzLedPRs3z0sk6WjWRaPnSWPUHNhUfENy4FxAWRGVEsuep9qHKV9tw7hXjCfC8ww IVvQyXl/eMkd0KrzhjOjej57zvjlaoSi3sPkpc3qC7dIcKXSFzSV1/lJjdJGGTzkfK8nnNwPvvp C5Tj+XZ9aWn7uQYAihmTjOsx26vr4A/2fPffwlsAQRWBvlktRIX6AsWIIA7g0tzSlBWytFcdX7s 0/9z8Qovw139Mj1Rq+v6ef+id5iA0Si5lrqbzis7TEQNjAwOhsAho+2NwSWWdrpYx2hRNrwa/Ix t/oLsgbb+ X-Google-Smtp-Source: AGHT+IHvhd/MiF7xh7RUCdPG13dAltkPQk2Tl2qTGkeLqkX/rY067vnwMfA3SP9CQYb93D5GLtPClRxBQhz4 X-Received: by 2002:a05:6e02:2287:b0:42d:b5d0:1930 with SMTP id e9e14a558f8ab-430c528d4eemr369991265ab.23.1761248625364; Thu, 23 Oct 2025 12:43:45 -0700 (PDT) Received: from postal.iol.unh.edu (postal.iol.unh.edu. [2606:4100:3880:1234::84]) by smtp-relay.gmail.com with ESMTPS id e9e14a558f8ab-431dbc7c8ddsm2408815ab.17.2025.10.23.12.43.45 (version=TLS1_2 cipher=ECDHE-ECDSA-AES128-GCM-SHA256 bits=128/128); Thu, 23 Oct 2025 12:43:45 -0700 (PDT) X-Relaying-Domain: iol.unh.edu Date: Thu, 23 Oct 2025 12:43:45 -0700 (PDT) Message-ID: <68fa8571.050a0220.38b4b9.bb65SMTPIN_ADDED_MISSING@mx.google.com> Received: from [172.21.0.2] (unknown [172.18.0.240]) by postal.iol.unh.edu (Postfix) with ESMTP id E99376050A61; Thu, 23 Oct 2025 15:43:44 -0400 (EDT) Subject: |SUCCESS| pw158057 [PATCH] [1/1] eal: correct memory ordering in MCS From: dpdklab@iol.unh.edu To: Test Report Cc: dpdk-test-reports@iol.unh.edu In-Reply-To: <20251023184724.1759497-1-wathsala.vithanage@arm.com> References: <20251023184724.1759497-1-wathsala.vithanage@arm.com> Content-Type: text/plain X-BeenThere: test-report@dpdk.org X-Mailman-Version: 2.1.29 Precedence: list List-Id: automatic DPDK test reports List-Unsubscribe: , List-Archive: List-Post: List-Help: List-Subscribe: , Errors-To: test-report-bounces@dpdk.org Test-Label: iol-compile-amd64-testing Test-Status: SUCCESS http://dpdk.org/patch/158057 _Testing PASS_ Submitter: Wathsala Vithanage Date: Thursday, October 23 2025 18:47:24 DPDK git baseline: Repo:dpdk Branch: master CommitID:8dc7bf943fb6fad7b30b3a494f2216c2c4cf64d7 158057 --> testing pass Upstream job id: Windows-Compile-DPDK-Native#31850 Test environment and result as below: +---------------------+--------------------+-------------------------+-------------------+----------------------+ | Environment | dpdk_meson_compile | dpdk_llvm_clang_compile | dpdk_msvc_compile | dpdk_mingw64_compile | +=====================+====================+=========================+===================+======================+ | Ubuntu 20.04 | PASS | SKIPPED | SKIPPED | SKIPPED | +---------------------+--------------------+-------------------------+-------------------+----------------------+ | FreeBSD 14.2 | PASS | SKIPPED | SKIPPED | SKIPPED | +---------------------+--------------------+-------------------------+-------------------+----------------------+ | Windows Server 2022 | SKIPPED | PASS | PASS | PASS | +---------------------+--------------------+-------------------------+-------------------+----------------------+ Ubuntu 20.04 Kernel: 4.19 Compiler: gcc gcc (Ubuntu 9.4.0-1ubuntu1~20.04.2) 9.4.0 FreeBSD 14.2 Kernel: 14.2-RELEASE Compiler: clang 18.1.6 Windows Server 2022 Kernel: 10.0.20348.2031 Compiler: clang 15.0.7, gcc 14.1.0 (MinGW), and MSVC VS 19.39.33521 To view detailed results, visit: https://lab.dpdk.org/results/dashboard/patchsets/34365/ UNH-IOL DPDK Community Lab To manage your email subscriptions, visit: https://lab.dpdk.org/results/dashboard/preferences/subscriptions/