From mboxrd@z Thu Jan 1 00:00:00 1970 Return-Path: Received: from mails.dpdk.org (mails.dpdk.org [217.70.189.124]) by inbox.dpdk.org (Postfix) with ESMTP id 3B671489BA for ; Thu, 23 Oct 2025 21:48:32 +0200 (CEST) Received: from mails.dpdk.org (localhost [127.0.0.1]) by mails.dpdk.org (Postfix) with ESMTP id 369C740144; Thu, 23 Oct 2025 21:48:32 +0200 (CEST) Received: from mail-io1-f98.google.com (mail-io1-f98.google.com [209.85.166.98]) by mails.dpdk.org (Postfix) with ESMTP id 9780A40144 for ; Thu, 23 Oct 2025 21:48:30 +0200 (CEST) Received: by mail-io1-f98.google.com with SMTP id ca18e2360f4ac-940d2b701a3so110862239f.0 for ; Thu, 23 Oct 2025 12:48:30 -0700 (PDT) DKIM-Signature: v=1; a=rsa-sha256; c=relaxed/relaxed; d=iol.unh.edu; s=unh-iol; t=1761248910; x=1761853710; darn=dpdk.org; h=references:in-reply-to:cc:to:from:subject:message-id:date:from:to :cc:subject:date:message-id:reply-to; bh=mwXKwVfJBSNJWpZF2/RYGrETdn8F126KPyhEYzw8Icw=; b=Sy9I5MKxZDBbJHp9zaX1jckDGeVko8CeHtXnY9IwwB485LRmTiFZYB1jvNapO/Hmeq +rUlQ26LDVXfbb9gu911UjUnj3c5A6+7zFyDDq/UsCF/QARvAR1YDrlAjWoNQpzDVz+t 9tGDL5nMRSKqceGSXFERNZSZMxLQ7Kt2MrDtI= X-Google-DKIM-Signature: v=1; a=rsa-sha256; c=relaxed/relaxed; d=1e100.net; s=20230601; t=1761248910; x=1761853710; h=references:in-reply-to:cc:to:from:subject:message-id:date :x-gm-message-state:from:to:cc:subject:date:message-id:reply-to; bh=mwXKwVfJBSNJWpZF2/RYGrETdn8F126KPyhEYzw8Icw=; b=ED3A1jO4HTuuUK6JM+dzRyFtYxcAbzw7eF+h5/IRVPMnsqxqsxTydaMs6Ov6Zyxvis nPGRNvMn//E1pOvYHAVQPK0WhLb2j7XU5QAwIIp4mUkqdA6nUiiNPhksQnB6yjXDABfq oHWgmPABzPCcYmNTXmXb8rr/FKhotq/IIrIcZ5JG5PbUQo20PWZDacBmoRmICqnf1I5l zNpBmtzH3r6ZainRVXI6bjq0dX9pNGQKMZrGl2I/G191KolhLKQG5DNe/PTDNWQKo0eD U+YS59iAuKQ1aDQfloohdYKnA5KUyjQqRnMTXTk6f88vBhGniu0i2yxq6Rn7iHIIFLh1 0+6A== X-Gm-Message-State: AOJu0YyfOUPrsmdcIRP8/liMKAsWzpEgr+Md7Fz+hpVsPxISlNVwFxAQ gfHeZCPFRC1f5QORcXKWuXWy6eygfEOyM1EuLbI6iCtNfLmxFjeE+uOaVG2+EBSOOpUakmJTLva Q5jTvI4c6ak0hkM4LEcIBplROGryhEMwP45ROk72oXRbNk18evE4Arv+EqAqi X-Gm-Gg: ASbGncu+mIjTbEi4bPNRMA2x7aHtDoiRROqeYvmRtqqSDQOi3oRuxjrK4Dc0vnTUY9u PD3SSsqvVUmJ7JgEwTyJEKcwhHyy8UuEDj3NIyyMvlxXculmIG7FyvkrSRKwGvgT+bcdEib//4s gu4+JONH1d5A7+LK63m0YzC77wNgvuNfd5x7NnsWc+DOmxga3il2dJlw134QS57duE41bypW1uL Lz+9tqqBNVEKrerSy/K+x7lEmLZN+uKYsLC/YnTQAgnxJhIjVW2zouCzPoeADcIekhfuNRSEpDe hlbiNdnbhgKiNKDAHLwz2Pnww6rMtECotCpD3OXp8vLGLIEXA6JNJFRS7UOuMRqjmxf/y5bt/gI TiXiGGCje X-Google-Smtp-Source: AGHT+IHiad11tQMFH/f1zVRVzOfnIBfpQiUL1V+OOmw917a1TAWNYYrP9g4FnvaZjS/HQhpCQT2MwNFBT/wd X-Received: by 2002:a05:6602:1588:b0:940:d4e8:4717 with SMTP id ca18e2360f4ac-940d4e84e51mr2627879639f.13.1761248909923; Thu, 23 Oct 2025 12:48:29 -0700 (PDT) Received: from postal.iol.unh.edu (postal.iol.unh.edu. [2606:4100:3880:1234::84]) by smtp-relay.gmail.com with ESMTPS id 8926c6da1cb9f-5abb7113b87sm221859173.22.2025.10.23.12.48.29 (version=TLS1_2 cipher=ECDHE-ECDSA-AES128-GCM-SHA256 bits=128/128); Thu, 23 Oct 2025 12:48:29 -0700 (PDT) X-Relaying-Domain: iol.unh.edu Date: Thu, 23 Oct 2025 12:48:29 -0700 (PDT) Message-ID: <68fa868d.050a0220.f7867.abefSMTPIN_ADDED_MISSING@mx.google.com> Received: from [172.21.0.2] (unknown [172.18.0.240]) by postal.iol.unh.edu (Postfix) with ESMTP id 991FB604D420; Thu, 23 Oct 2025 15:48:29 -0400 (EDT) Subject: |SUCCESS| pw158003-158008 [PATCH] [v5,6/6] net/cnxk: report link mod From: dpdklab@iol.unh.edu To: Test Report Cc: dpdk-test-reports@iol.unh.edu In-Reply-To: <20251023075450.4145667-6-skori@marvell.com> References: <20251023075450.4145667-6-skori@marvell.com> Content-Type: text/plain X-BeenThere: test-report@dpdk.org X-Mailman-Version: 2.1.29 Precedence: list List-Id: automatic DPDK test reports List-Unsubscribe: , List-Archive: List-Post: List-Help: List-Subscribe: , Errors-To: test-report-bounces@dpdk.org Test-Label: iol-compile-arm64-testing Test-Status: SUCCESS http://dpdk.org/patch/158008 _Testing PASS_ Submitter: Sunil Kumar Kori Date: Thursday, October 23 2025 07:53:30 DPDK git baseline: Repo:dpdk Branch: master CommitID:2863cbd9ee6dabee2b183382d298f4054ba3e8a2 158003-158008 --> testing pass Upstream job id: Generic-DPDK-Compile-Meson#436993 Test environment and result as below: +------------------------------+--------------------+ | Environment | dpdk_meson_compile | +==============================+====================+ | Red Hat Enterprise Linux 9.5 | PASS | +------------------------------+--------------------+ | Ubuntu 20.04 | PASS | +------------------------------+--------------------+ | Debian GNU/Linux 12 | PASS | +------------------------------+--------------------+ | Fedora Linux 42 | PASS | +------------------------------+--------------------+ | Ubuntu 22.04 | PASS | +------------------------------+--------------------+ | Ubuntu 24.04 | PASS | +------------------------------+--------------------+ | CentOS Stream 9 | PASS | +------------------------------+--------------------+ | CentOS Stream 10 | PASS | +------------------------------+--------------------+ Red Hat Enterprise Linux 9.5 Kernel: 5.4 Compiler: gcc gcc (GCC) 11.5.0 20240719 (Red Hat 11.5.0-2) Ubuntu 20.04 Kernel: 5.15 Compiler: aarch64-linux-gnu-gcc gcc (Ubuntu 9.4.0-1ubuntu1~20.04.2) 9.4.0 Debian GNU/Linux 12 Kernel: 5.4 Compiler: gcc gcc (Debian 12.2.0-14+deb12u1) 12.2.0 Fedora Linux 42 Kernel: 5.4 Compiler: gcc gcc (GCC) 15.2.1 20250808 (Red Hat 15.2.1-1) Ubuntu 22.04 Kernel: 5.4 Compiler: gcc gcc (Ubuntu 11.4.0-1ubuntu1~22.04) 11.4.0 Ubuntu 24.04 Kernel: 5.4 Compiler: gcc gcc (Ubuntu 13.3.0-6ubuntu2~24.04) 13.3.0 CentOS Stream 9 Kernel: 5.4 Compiler: gcc gcc (GCC) 11.5.0 20240719 (Red Hat 11.5.0-11) CentOS Stream 10 Kernel: 5.4 Compiler: gcc gcc (GCC) 14.2.1 20250110 (Red Hat 14.2.1-8) To view detailed results, visit: https://lab.dpdk.org/results/dashboard/patchsets/34353/ UNH-IOL DPDK Community Lab To manage your email subscriptions, visit: https://lab.dpdk.org/results/dashboard/preferences/subscriptions/