From mboxrd@z Thu Jan 1 00:00:00 1970 Return-Path: Received: from mails.dpdk.org (mails.dpdk.org [217.70.189.124]) by inbox.dpdk.org (Postfix) with ESMTP id 818EE489BB for ; Thu, 23 Oct 2025 22:32:08 +0200 (CEST) Received: from mails.dpdk.org (localhost [127.0.0.1]) by mails.dpdk.org (Postfix) with ESMTP id 6557E40144; Thu, 23 Oct 2025 22:32:08 +0200 (CEST) Received: from mail-vs1-f98.google.com (mail-vs1-f98.google.com [209.85.217.98]) by mails.dpdk.org (Postfix) with ESMTP id 6217940144 for ; Thu, 23 Oct 2025 22:32:07 +0200 (CEST) Received: by mail-vs1-f98.google.com with SMTP id ada2fe7eead31-5db2486c870so614417137.2 for ; Thu, 23 Oct 2025 13:32:07 -0700 (PDT) DKIM-Signature: v=1; a=rsa-sha256; c=relaxed/relaxed; d=iol.unh.edu; s=unh-iol; t=1761251527; x=1761856327; darn=dpdk.org; h=references:in-reply-to:cc:to:from:subject:message-id:date:from:to :cc:subject:date:message-id:reply-to; bh=OBK/WNLazkvqTu4l3endtsU38XsdzXPitwbKeoomUZE=; b=KhkLM27ldS6dVK30KllLvswyceDPiHKokps71iIZv9QGV1Bd1b+hf5OIdriCgYZdVJ aEyduMnGuMOUQmAhbzimTbCCcR3pm2xnZRllV7+GQyTpNr2Z2mFDK9116B8HsLzCfYXV HL/czD+nGptBvKbOrqXaOVLELR1icYC9rnZ6I= X-Google-DKIM-Signature: v=1; a=rsa-sha256; c=relaxed/relaxed; d=1e100.net; s=20230601; t=1761251527; x=1761856327; h=references:in-reply-to:cc:to:from:subject:message-id:date :x-gm-message-state:from:to:cc:subject:date:message-id:reply-to; bh=OBK/WNLazkvqTu4l3endtsU38XsdzXPitwbKeoomUZE=; b=KpsGsRAicaj/Fv01fOSPecx74stiZ7td0L/JB0FzKSFyyuA2bSVlWyB5NEM1hezKrU +t5ZYt2RtfWpJGKDvoB1ezhC1vMd/fH6fxbEF3+5nHKpuDt3EK7NA6he3HmGybwxmokO KHFvcC6Eq9c6OZ/TXQshEtQ7/0F5g/uwRQPV/Zj4w6STqVmzjP62yTkTqNx5fgIBbTbG XbzG/BKWeIaaDyTAPJT4Mfv3U1oaB/qaVg813u0WArQZ23ifi0rU55p8ncHO8SSossRl L0ETFVkw4YdFpRvATitjP5IzK9zFur0hez0yE/uwJhYJwDaF1LH3KAMj3y2dv8LSaZPB Hz1w== X-Gm-Message-State: AOJu0YwbV4sKPBY3Brs85LEYhMb72Iw3Ez5DsSOGEzlZHNyRnHDUKFob XVG999h8Qy6NXtI9/DpF3e/slx/+2sQbmJPgIK19Z7XVgTC17ktpTS1qY2/GEiiozTRd6aDT0p9 qZHZ2PXSuJkGQIBxuTyAW3oYGNw/7UvzWzO98olpHa0kKdZZ2dvyqfdRnkA32 X-Gm-Gg: ASbGncuqaUITDLKuqS5oXIwseNr9S0fhZTSwEBfKEwb3xm4jhC+AHtc0WA24GHUnpxh HjDUVIRf6778HJbX50sk2t2hrM8G5XM9C9Gzdo43CNFX4QHLQRYfzC+MhG/Wbn+W7Gg8IHDibWH Inwg51PMbJD15zOuIBFVil6eVlK8CFXktvoAOBL0HFNMAFLKs+y4GOMpgHaaz5tFhGx6V6yse43 zRluQjh7hBZfTzQmnNLmR77jNxOgjw6jT2nvSa4XGzli6MvdaLd5QUDPJR6GIooaLzYjEmW30UM vU7rHCfBNjWl3dSNhPx/Z8K9U33DQZWaobgsZP93ezEZtGV6LnJMhStsLtRKdEMDk2QF3MB6+7Z g4iMBfMJ/ X-Google-Smtp-Source: AGHT+IFCPGgz7HVmDZ2IB6uD2O5cK3SXlnYGS9Fothtm3h0NH5cR4ArA8afntvI+j34/FtrEuaHpJGvDdjQI X-Received: by 2002:a05:6102:5126:b0:5d5:dbbb:5b86 with SMTP id ada2fe7eead31-5db2e550528mr1324428137.25.1761251526778; Thu, 23 Oct 2025 13:32:06 -0700 (PDT) Received: from postal.iol.unh.edu (postal.iol.unh.edu. [2606:4100:3880:1234::84]) by smtp-relay.gmail.com with ESMTPS id ada2fe7eead31-5db2c9561f6sm301239137.3.2025.10.23.13.32.06 (version=TLS1_2 cipher=ECDHE-ECDSA-AES128-GCM-SHA256 bits=128/128); Thu, 23 Oct 2025 13:32:06 -0700 (PDT) X-Relaying-Domain: iol.unh.edu Date: Thu, 23 Oct 2025 13:32:06 -0700 (PDT) Message-ID: <68fa90c6.050a0220.69b41.f2f9SMTPIN_ADDED_MISSING@mx.google.com> Received: from [172.21.0.2] (unknown [172.18.0.240]) by postal.iol.unh.edu (Postfix) with ESMTP id 82635604D420; Thu, 23 Oct 2025 16:32:06 -0400 (EDT) Subject: |SUCCESS| pw158003-158008 [PATCH] [v5,6/6] net/cnxk: report link mod From: dpdklab@iol.unh.edu To: Test Report Cc: dpdk-test-reports@iol.unh.edu In-Reply-To: <20251023075450.4145667-6-skori@marvell.com> References: <20251023075450.4145667-6-skori@marvell.com> Content-Type: text/plain X-BeenThere: test-report@dpdk.org X-Mailman-Version: 2.1.29 Precedence: list List-Id: automatic DPDK test reports List-Unsubscribe: , List-Archive: List-Post: List-Help: List-Subscribe: , Errors-To: test-report-bounces@dpdk.org Test-Label: iol-unit-arm64-testing Test-Status: SUCCESS http://dpdk.org/patch/158008 _Testing PASS_ Submitter: Sunil Kumar Kori Date: Thursday, October 23 2025 07:53:30 DPDK git baseline: Repo:dpdk Branch: master CommitID:2863cbd9ee6dabee2b183382d298f4054ba3e8a2 158003-158008 --> testing pass Upstream job id: Generic-Unit-Test-DPDK#384396 Test environment and result as below: +------------------------------+------------------------------+---------------------------+----------------+--------------+ | Environment | cryptodev_sw_snow3g_autotest | cryptodev_sw_zuc_autotest | dpdk_unit_test | lpm_autotest | +==============================+==============================+===========================+================+==============+ | Debian 12 (arm) | PASS | PASS | SKIPPED | SKIPPED | +------------------------------+------------------------------+---------------------------+----------------+--------------+ | CentOS Stream 10 | SKIPPED | SKIPPED | PASS | SKIPPED | +------------------------------+------------------------------+---------------------------+----------------+--------------+ | Fedora Linux 41 | SKIPPED | SKIPPED | PASS | SKIPPED | +------------------------------+------------------------------+---------------------------+----------------+--------------+ | Debian GNU/Linux 12 | SKIPPED | SKIPPED | PASS | SKIPPED | +------------------------------+------------------------------+---------------------------+----------------+--------------+ | CentOS Stream 9 | SKIPPED | SKIPPED | PASS | SKIPPED | +------------------------------+------------------------------+---------------------------+----------------+--------------+ | Red Hat Enterprise Linux 9.5 | SKIPPED | SKIPPED | PASS | SKIPPED | +------------------------------+------------------------------+---------------------------+----------------+--------------+ | Ubuntu 20.04 | SKIPPED | SKIPPED | PASS | PASS | +------------------------------+------------------------------+---------------------------+----------------+--------------+ | Fedora Linux 40 | SKIPPED | SKIPPED | PASS | SKIPPED | +------------------------------+------------------------------+---------------------------+----------------+--------------+ | Fedora Linux 42 | SKIPPED | SKIPPED | PASS | SKIPPED | +------------------------------+------------------------------+---------------------------+----------------+--------------+ | Ubuntu 24.04 | SKIPPED | SKIPPED | PASS | SKIPPED | +------------------------------+------------------------------+---------------------------+----------------+--------------+ | Ubuntu 22.04 | SKIPPED | SKIPPED | PASS | SKIPPED | +------------------------------+------------------------------+---------------------------+----------------+--------------+ Debian 12 (arm) Kernel: Depends on container host Compiler: gcc (Debian 12.2.0-14) 12.2.0 CentOS Stream 10 Kernel: 5.4 Compiler: gcc gcc (GCC) 14.2.1 20250110 (Red Hat 14.2.1-8) Fedora Linux 41 Kernel: 5.4 Compiler: gcc gcc (GCC) 14.3.1 20250523 (Red Hat 14.3.1-1) Debian GNU/Linux 12 Kernel: 5.4 Compiler: gcc gcc (Debian 12.2.0-14+deb12u1) 12.2.0 CentOS Stream 9 Kernel: 5.4 Compiler: gcc gcc (GCC) 11.5.0 20240719 (Red Hat 11.5.0-11) Red Hat Enterprise Linux 9.5 Kernel: 5.4 Compiler: gcc gcc (GCC) 11.5.0 20240719 (Red Hat 11.5.0-2) Ubuntu 20.04 Kernel: 5.4 Compiler: gcc gcc (Ubuntu 9.4.0-1ubuntu1~20.04.2) 9.4.0 Fedora Linux 40 Kernel: 5.4 Compiler: gcc gcc (GCC) 14.2.1 20240912 (Red Hat 14.2.1-3) Fedora Linux 42 Kernel: 5.4 Compiler: clang gcc (GCC) 15.2.1 20250808 (Red Hat 15.2.1-1) Ubuntu 24.04 Kernel: 5.4 Compiler: gcc gcc (Ubuntu 13.3.0-6ubuntu2~24.04) 13.3.0 Ubuntu 22.04 Kernel: 5.4 Compiler: gcc gcc (Ubuntu 11.4.0-1ubuntu1~22.04) 11.4.0 To view detailed results, visit: https://lab.dpdk.org/results/dashboard/patchsets/34353/ UNH-IOL DPDK Community Lab To manage your email subscriptions, visit: https://lab.dpdk.org/results/dashboard/preferences/subscriptions/