From mboxrd@z Thu Jan 1 00:00:00 1970 Return-Path: Received: from mails.dpdk.org (mails.dpdk.org [217.70.189.124]) by inbox.dpdk.org (Postfix) with ESMTP id E5DEB489BB for ; Thu, 23 Oct 2025 22:45:57 +0200 (CEST) Received: from mails.dpdk.org (localhost [127.0.0.1]) by mails.dpdk.org (Postfix) with ESMTP id DB8F140144; Thu, 23 Oct 2025 22:45:57 +0200 (CEST) Received: from mail-ot1-f97.google.com (mail-ot1-f97.google.com [209.85.210.97]) by mails.dpdk.org (Postfix) with ESMTP id 2F2FC40144 for ; Thu, 23 Oct 2025 22:45:56 +0200 (CEST) Received: by mail-ot1-f97.google.com with SMTP id 46e09a7af769-7c51c7ad0b6so386792a34.2 for ; Thu, 23 Oct 2025 13:45:56 -0700 (PDT) DKIM-Signature: v=1; a=rsa-sha256; c=relaxed/relaxed; d=iol.unh.edu; s=unh-iol; t=1761252355; x=1761857155; darn=dpdk.org; h=references:in-reply-to:cc:to:from:subject:message-id:date:from:to :cc:subject:date:message-id:reply-to; bh=qv0HfkzUUjmLI0KcYYBKOaLxDjbUwiWS+ur8JXmeZK0=; b=E2/M2ANz6F83i55+iZLosbDIR57zI5RdvCkt0IJHrRkioqx37yOh1fYaNtJKHXwcTK S/SAvOvf6VJ7hBqzaU5NDjcZXkTPGMqmy2kU6UgG40psRrAKFSqhJehRRToDJKosq2Ao xoKwgkc9GcasehBBY93SbBGXtvDzNBmWXu0BE= X-Google-DKIM-Signature: v=1; a=rsa-sha256; c=relaxed/relaxed; d=1e100.net; s=20230601; t=1761252355; x=1761857155; h=references:in-reply-to:cc:to:from:subject:message-id:date :x-gm-message-state:from:to:cc:subject:date:message-id:reply-to; bh=qv0HfkzUUjmLI0KcYYBKOaLxDjbUwiWS+ur8JXmeZK0=; b=haMZjo9ODCtpSuUiEyWWPjDsHVk+v7RacVjVt7KErHLG7UDVDPmqwjPrU5w+Up9D4a jzZLKuwTEoYrrUijojk2hvQSX9JLHj+cgLER6zb1btN/J0GCVmSnbnSxdtou+C9NxSwt hnQJputQobwulXs+reUyypgpqRCxlz0eqit1N8RbuFlb3cjOlzosi6ohH3EkDs1l+gHX z8NmqLsDnLbGO6QsebrZ/d8+GwRO9CkVRKWPnkeYkDFc17bHO9z1OXAtFdF5sp7QZAyz orFGhue9o6XtHWzyikMVnGQLFHSDgCSvoaGjvGno8xWsRnP3gGX5/VfjwsoNrd1MuuZn GieQ== X-Gm-Message-State: AOJu0YxKbG3uaUCCSEOo/ooZ2dZoWP3Egg+ddkGKffexXMlVohCaPfBv LlHxgbDcujyb3C3KRX/qT1tyYsRX/qWuoB7orpQrD4DOFJit3yJ+P2bCQWVEIa3EqsQo0t/+uBn sMDf15C3bwz/N0Ptf5LcteifJ4oarZz44a5o9dMNW0fNf X-Gm-Gg: ASbGncsShCJ80jJN37vXl/FEYFppl0hC/QgKWTsafEVlniWlgWzkYiMQkxyI5Bzae3s yGtBlupUkMBGCAStlTX1ASiWrmC/LscYPggAryGPUdO6YESiKEWq79iVAwDp5PmLeox/fZ1rt3d l38UgE6I+Km49AtZVy2AURmsFDn2FyFVutoBw3oljfQ2Z2TCtBIuVkZkS/OR2xqVUslA/HENXCk 0s0LHmvgpHGmaVLZSlaCS8SdCyos0/KsRNzfyvn1kf61BoC//v9pbu1ftZ3WsEbn7cIYnskV04r fs1uOGGxtzqgMALlo+yKmEo2NPpnizKtoh3Qjdgthzfb7jTKYJXtBF8zdbeqdjpncqLls+DnX3T PBu/dt1dfZX61CRjfeggvusipXydqrGY= X-Google-Smtp-Source: AGHT+IFAlLXMJmEnIN74iHyPgCiOwl1lfLGwrgAITl88+YrTWPbUGnW0mDb8E9+oe6P0QxXwCopauNmAzKr9 X-Received: by 2002:a05:6808:2211:b0:43f:70a1:c6a3 with SMTP id 5614622812f47-443a2f0be2cmr11549882b6e.26.1761252355388; Thu, 23 Oct 2025 13:45:55 -0700 (PDT) Received: from postal.iol.unh.edu (postal.iol.unh.edu. [132.177.123.84]) by smtp-relay.gmail.com with ESMTPS id 46e09a7af769-7c51b03d37bsm270918a34.5.2025.10.23.13.45.55 (version=TLS1_2 cipher=ECDHE-ECDSA-AES128-GCM-SHA256 bits=128/128); Thu, 23 Oct 2025 13:45:55 -0700 (PDT) X-Relaying-Domain: iol.unh.edu Date: Thu, 23 Oct 2025 13:45:55 -0700 (PDT) Message-ID: <68fa9403.050a0220.14c1c3.d697SMTPIN_ADDED_MISSING@mx.google.com> Received: from [172.21.0.2] (unknown [172.18.0.240]) by postal.iol.unh.edu (Postfix) with ESMTP id B640F6051830; Thu, 23 Oct 2025 16:45:54 -0400 (EDT) Subject: |SUCCESS| pw158058-158060 [PATCH] [RFC,3/3] common/cnxk: re-enable v From: dpdklab@iol.unh.edu To: Test Report Cc: dpdk-test-reports@iol.unh.edu In-Reply-To: <20251023194237.197681-4-stephen@networkplumber.org> References: <20251023194237.197681-4-stephen@networkplumber.org> Content-Type: text/plain X-BeenThere: test-report@dpdk.org X-Mailman-Version: 2.1.29 Precedence: list List-Id: automatic DPDK test reports List-Unsubscribe: , List-Archive: List-Post: List-Help: List-Subscribe: , Errors-To: test-report-bounces@dpdk.org Test-Label: iol-compile-amd64-testing Test-Status: SUCCESS http://dpdk.org/patch/158060 _Testing PASS_ Submitter: Stephen Hemminger Date: Thursday, October 23 2025 19:41:33 DPDK git baseline: Repo:dpdk-next-net-mrvl Branch: master CommitID:2863cbd9ee6dabee2b183382d298f4054ba3e8a2 158058-158060 --> testing pass Upstream job id: Windows-Compile-DPDK-Native#31852 Test environment and result as below: +---------------------+-------------------------+--------------------+-------------------+----------------------+ | Environment | dpdk_llvm_clang_compile | dpdk_meson_compile | dpdk_msvc_compile | dpdk_mingw64_compile | +=====================+=========================+====================+===================+======================+ | Windows Server 2022 | PASS | SKIPPED | PASS | PASS | +---------------------+-------------------------+--------------------+-------------------+----------------------+ | Ubuntu 20.04 | SKIPPED | PASS | SKIPPED | SKIPPED | +---------------------+-------------------------+--------------------+-------------------+----------------------+ | FreeBSD 14.2 | SKIPPED | PASS | SKIPPED | SKIPPED | +---------------------+-------------------------+--------------------+-------------------+----------------------+ Windows Server 2022 Kernel: 10.0.20348.2031 Compiler: clang 15.0.7, gcc 14.1.0 (MinGW), and MSVC VS 19.39.33521 Ubuntu 20.04 Kernel: 4.19 Compiler: gcc gcc (Ubuntu 9.4.0-1ubuntu1~20.04.2) 9.4.0 FreeBSD 14.2 Kernel: 14.2-RELEASE Compiler: clang 18.1.6 To view detailed results, visit: https://lab.dpdk.org/results/dashboard/patchsets/34366/ UNH-IOL DPDK Community Lab To manage your email subscriptions, visit: https://lab.dpdk.org/results/dashboard/preferences/subscriptions/