From mboxrd@z Thu Jan 1 00:00:00 1970 Return-Path: Received: from mails.dpdk.org (mails.dpdk.org [217.70.189.124]) by inbox.dpdk.org (Postfix) with ESMTP id CD60C489BB for ; Thu, 23 Oct 2025 22:55:47 +0200 (CEST) Received: from mails.dpdk.org (localhost [127.0.0.1]) by mails.dpdk.org (Postfix) with ESMTP id B7D2C40144; Thu, 23 Oct 2025 22:55:47 +0200 (CEST) Received: from mail-pl1-f225.google.com (mail-pl1-f225.google.com [209.85.214.225]) by mails.dpdk.org (Postfix) with ESMTP id DFBF840144 for ; Thu, 23 Oct 2025 22:55:46 +0200 (CEST) Received: by mail-pl1-f225.google.com with SMTP id d9443c01a7336-2698384978dso8601185ad.0 for ; Thu, 23 Oct 2025 13:55:46 -0700 (PDT) DKIM-Signature: v=1; a=rsa-sha256; c=relaxed/relaxed; d=iol.unh.edu; s=unh-iol; t=1761252946; x=1761857746; darn=dpdk.org; h=references:in-reply-to:cc:to:from:subject:message-id:date:from:to :cc:subject:date:message-id:reply-to; bh=FwuDSbqlfj9JIcJpsRo/lhumq6ctreFfmKvwdTkWf0M=; b=fhomZwgAjrXJDK71wGJgj8VYUSqlSZuvFI1L6nV/wxFD+FLDFQHzd5YNRC07KSYXn8 wo+e1QGk5+YeWzKupTQSRRcBTCwt+qD/twAU9hqpcHuJWQ4+C73pfDHSL2TJOhX72F34 IIR5HfY8MNrPjn0ybhLZ+rWbGL9c2UcgvTzqg= X-Google-DKIM-Signature: v=1; a=rsa-sha256; c=relaxed/relaxed; d=1e100.net; s=20230601; t=1761252946; x=1761857746; h=references:in-reply-to:cc:to:from:subject:message-id:date :x-gm-message-state:from:to:cc:subject:date:message-id:reply-to; bh=FwuDSbqlfj9JIcJpsRo/lhumq6ctreFfmKvwdTkWf0M=; b=hBj/eMShKCLUdgbTQ9Pgh5lTQg0bBY9Q1tBU5XBdgaJHJs8KNJBnyq3wJg3GiecPr3 1AnvX74l4szADEuDJXA3hQ2lGzh6p7Vg2v2StjT9IXLSCiq3W5ZzhbeJZToJnFwDRgds ARbJTkuxr/ZGzzLqLMAh1JLceDCds1l2gTG9wok1SWZ0SYXoQ3yDdR14GVB8eONwHJN1 AXrPVw6C52ITJxSepwKFVz3S9ymNcMzR6qEpGy3D0E0RZ9ZC/359XUSt6JOWuhmIjjwM lBvV865GfEVEokdaxCt9irLJuuvzce6o9sVAg5IoDTgdNMMc8okaTBRGlUyAyvHCdOML HgDw== X-Gm-Message-State: AOJu0YzYuO7pI86XAKHpFVYwSJsIjVEy8NKykLE2qYJ5Vk28OUPFfG+v yG463HPtwGnBRpxCDoYDKyhZyuVzN11C4ofjY9EUNT8Y7ASOnPYYddRAJoOmslDXDYoL6nxBigu 7Oj7fA/n7YQdZCxhUFrwBS0ShzFIHXpZVtXiez1+utfe3EyqQJIw+tlwk3LfS X-Gm-Gg: ASbGnctgAON+qJtT7/Y0p+qs2l3d7qFoBvF3Jst/F2rRqdfHRQ/yYb7fpK56FKkRa4P 4vBckcCv+UFFAMSzEO26nBKAfiA8azfjNAtDX+IxuNxupyKGaeUCz/9kBdnueyh3aE44hcjLNnZ su47fleYUipuXQc46POjjOXH19/R2Q2NBajSGaOHG9kXswq17TMsnTSYm0EjpsLZZtF1hNDVKeS gfbFhJlZSUE2HknCaAjL80bMXc4zvoKuVdLJ7UIe4vEPJz6EeLfAhzdvnQLs0saz3lCKzu3MMuj j80/nXzkr7eLmDX0f3AtwrAO7S9XBjQFDO39XDWMqZIJSXQs62UNG7TWlZ381UXHYq1FO6Xrz+8 sw00ibUrG X-Google-Smtp-Source: AGHT+IF/wMzQLDlXADANgRYJqgqiAhXx6YUq7cXej0Om4Tse8QV5tvHM81bMXMhScYKF7abrjqItDbDWplng X-Received: by 2002:a17:902:e74a:b0:267:776b:a315 with SMTP id d9443c01a7336-290caf844ddmr324360525ad.32.1761252945970; Thu, 23 Oct 2025 13:55:45 -0700 (PDT) Received: from postal.iol.unh.edu (postal.iol.unh.edu. [2606:4100:3880:1234::84]) by smtp-relay.gmail.com with ESMTPS id d9443c01a7336-2946de173ddsm3222135ad.20.2025.10.23.13.55.45 (version=TLS1_2 cipher=ECDHE-ECDSA-AES128-GCM-SHA256 bits=128/128); Thu, 23 Oct 2025 13:55:45 -0700 (PDT) X-Relaying-Domain: iol.unh.edu Date: Thu, 23 Oct 2025 13:55:45 -0700 (PDT) Message-ID: <68fa9651.170a0220.2fb0a8.f922SMTPIN_ADDED_MISSING@mx.google.com> Received: from [172.21.0.2] (unknown [172.18.0.240]) by postal.iol.unh.edu (Postfix) with ESMTP id 282C26051830; Thu, 23 Oct 2025 16:55:45 -0400 (EDT) Subject: |SUCCESS| pw158057 [PATCH] [1/1] eal: correct memory ordering in MCS From: dpdklab@iol.unh.edu To: Test Report Cc: dpdk-test-reports@iol.unh.edu In-Reply-To: <20251023184724.1759497-1-wathsala.vithanage@arm.com> References: <20251023184724.1759497-1-wathsala.vithanage@arm.com> Content-Type: text/plain X-BeenThere: test-report@dpdk.org X-Mailman-Version: 2.1.29 Precedence: list List-Id: automatic DPDK test reports List-Unsubscribe: , List-Archive: List-Post: List-Help: List-Subscribe: , Errors-To: test-report-bounces@dpdk.org Test-Label: iol-unit-amd64-testing Test-Status: SUCCESS http://dpdk.org/patch/158057 _Testing PASS_ Submitter: Wathsala Vithanage Date: Thursday, October 23 2025 18:47:24 DPDK git baseline: Repo:dpdk Branch: master CommitID:8dc7bf943fb6fad7b30b3a494f2216c2c4cf64d7 158057 --> testing pass Upstream job id: Generic-Unit-Test-DPDK#384703 Test environment and result as below: +-------------------------------+----------------+ | Environment | dpdk_unit_test | +===============================+================+ | Fedora Linux 40 | PASS | +-------------------------------+----------------+ | CentOS Stream 10 | PASS | +-------------------------------+----------------+ | Fedora Linux 41 | PASS | +-------------------------------+----------------+ | CentOS Stream 9 | PASS | +-------------------------------+----------------+ | Red Hat Enterprise Linux 9.5 | PASS | +-------------------------------+----------------+ | Fedora Linux 42 | PASS | +-------------------------------+----------------+ | Debian GNU/Linux 12 | PASS | +-------------------------------+----------------+ | Ubuntu 20.04 | PASS | +-------------------------------+----------------+ | Ubuntu 24.04 | PASS | +-------------------------------+----------------+ | Red Hat Enterprise Linux 8.10 | PASS | +-------------------------------+----------------+ | Ubuntu 22.04 | PASS | +-------------------------------+----------------+ | Windows Server 2022 | PASS | +-------------------------------+----------------+ Fedora Linux 40 Kernel: 5.15 Compiler: clang gcc (GCC) 14.2.1 20240912 (Red Hat 14.2.1-3) CentOS Stream 10 Kernel: 5.15 Compiler: gcc gcc (GCC) 14.2.1 20250110 (Red Hat 14.2.1-8) Fedora Linux 41 Kernel: 5.15 Compiler: clang gcc (GCC) 14.3.1 20250523 (Red Hat 14.3.1-1) CentOS Stream 9 Kernel: 5.15 Compiler: gcc gcc (GCC) 11.5.0 20240719 (Red Hat 11.5.0-11) Red Hat Enterprise Linux 9.5 Kernel: 5.15 Compiler: gcc gcc (GCC) 11.5.0 20240719 (Red Hat 11.5.0-2) Fedora Linux 42 Kernel: 5.15 Compiler: gcc gcc (GCC) 15.2.1 20250808 (Red Hat 15.2.1-1) Debian GNU/Linux 12 Kernel: 5.15 Compiler: gcc gcc (Debian 12.2.0-14+deb12u1) 12.2.0 Ubuntu 20.04 Kernel: 5.15 Compiler: gcc gcc (Ubuntu 9.4.0-1ubuntu1~20.04.2) 9.4.0 Ubuntu 24.04 Kernel: 5.15 Compiler: gcc gcc (Ubuntu 13.3.0-6ubuntu2~24.04) 13.3.0 Red Hat Enterprise Linux 8.10 Kernel: 5.15 Compiler: gcc gcc (GCC) 8.5.0 20210514 (Red Hat 8.5.0-22) Ubuntu 22.04 Kernel: 5.15 Compiler: gcc gcc (Ubuntu 11.4.0-1ubuntu1~22.04) 11.4.0 Windows Server 2022 Kernel: 10.0.20348.2031 Compiler: clang 15.0.7, gcc 14.1.0 (MinGW), and MSVC VS 19.39.33521 To view detailed results, visit: https://lab.dpdk.org/results/dashboard/patchsets/34365/ UNH-IOL DPDK Community Lab To manage your email subscriptions, visit: https://lab.dpdk.org/results/dashboard/preferences/subscriptions/