From mboxrd@z Thu Jan 1 00:00:00 1970 Return-Path: Received: from mails.dpdk.org (mails.dpdk.org [217.70.189.124]) by inbox.dpdk.org (Postfix) with ESMTP id 13BF0489BB for ; Thu, 23 Oct 2025 22:57:43 +0200 (CEST) Received: from mails.dpdk.org (localhost [127.0.0.1]) by mails.dpdk.org (Postfix) with ESMTP id 0F1F140144; Thu, 23 Oct 2025 22:57:43 +0200 (CEST) Received: from mail-pl1-f225.google.com (mail-pl1-f225.google.com [209.85.214.225]) by mails.dpdk.org (Postfix) with ESMTP id 23DCD40144 for ; Thu, 23 Oct 2025 22:57:42 +0200 (CEST) Received: by mail-pl1-f225.google.com with SMTP id d9443c01a7336-2697899a202so19094465ad.0 for ; Thu, 23 Oct 2025 13:57:42 -0700 (PDT) DKIM-Signature: v=1; a=rsa-sha256; c=relaxed/relaxed; d=iol.unh.edu; s=unh-iol; t=1761253061; x=1761857861; darn=dpdk.org; h=references:in-reply-to:cc:to:from:subject:message-id:date:from:to :cc:subject:date:message-id:reply-to; bh=A6Xa1jzKZLYQ8rckZSh+j9VEkL2Mnl/CErBBORCX5Zo=; b=IrBxlyVg1NvaY9kiAavC1+Tj52N1MkfkUUFdUOj1Jv0VBJ4hmPKBV5tS+GjhWkl1U+ g3RDCb0CzWuebtD7LsMwngA1B4kTmwav/iV36hsyWMlOEVEUx7ATwBfJqZYHPyDXAXah rr5IV7mwzGXrH9T6UQBjk19Eh87fU4cEAQI1M= X-Google-DKIM-Signature: v=1; a=rsa-sha256; c=relaxed/relaxed; d=1e100.net; s=20230601; t=1761253061; x=1761857861; h=references:in-reply-to:cc:to:from:subject:message-id:date :x-gm-message-state:from:to:cc:subject:date:message-id:reply-to; bh=A6Xa1jzKZLYQ8rckZSh+j9VEkL2Mnl/CErBBORCX5Zo=; b=ktsO/tP3CiuLNTiseEdTNZlk968IRozJLYf2jbXvOh0JQX4R5RCqWXPSMZiJMXUidA VDGxi8ukeeHkNQ6HP2+hidvqD6ccFXy+88NWaD5Wt71NBL5OfZsHqry3V4t5QU7e5PeM XM3eL91vTsALm8i2cmas+a4FAL+M0/ztfE/gPGFxbCpZ0vvzLOKmMWdezagakMCPXWEP rXcmnCTcHfa0oDyq3K8F3oafMSFftCujGwvv9OX6Qs7SH67ciSB/pHt4xH6imyf9hf5C ArEyuR4/ZmK5NSzzK1OvGz6bWVUJZyKTKN1Z72Un7qaug+R1JPC7tS/kjqKSzXDd90jn jKjQ== X-Gm-Message-State: AOJu0YwYApmusBeEt56WLICXmjFvdcnxMGMRExSsnHdFXdLqfjs5rq8E IxyINZ8U5KViimM0l/SkGuK1F6p9X06vht+FLDJEffHqzy7C7xeYw/ff5xh5Kb/S4c6ZZgygnAe pOdX4w8tBXMl35gRDIEWRmRTozfNMs0V8mP3FJToZhBTOCX0oZ+oNUGFKJA2K X-Gm-Gg: ASbGnctXKwYnLLy7DD5QjtcqMGlMmQ/cMEc9z3CxeN5fUsk+7d39xS4akc9JbzO4tKw KhGkxCBbr+frJxvZTUDVy3v+oSWt1rM4WbyBkUMLnzA3LD+rCyJbdXqGZGYORXNWWHUViISvHfp ThRJp8Y45zl5Lg29x4tn5TuVzkpYZ/8xyV/oMxQqg/kZS7hdqN1of0orCyRhIcqRiwkoOe4DdRT h4EKf9PmIlsh0OiWRwOLrK3bHAW0dVjNL+F897GLfruElnER0/pUtc465oVoMJlgZgwpKC5TV3G FNwdHv0LOLmy7K/Ak0EHIeQmVlV+tL9savrXJHyLsbY2zZaUPJ4+rEi5TmGF7+lUfOG2htRjPme kKLaSrrxJ X-Google-Smtp-Source: AGHT+IF/Rd8FalRwXKg2HHlHgAY8FJLkgCiLkbn3a4rJvI7iTb6fdqfB1KWN8IdrvK8tK561zBrwHzSjljS8 X-Received: by 2002:a17:903:3bcb:b0:265:e815:fcdf with SMTP id d9443c01a7336-29489e10d30mr3047925ad.17.1761253061266; Thu, 23 Oct 2025 13:57:41 -0700 (PDT) Received: from postal.iol.unh.edu (postal.iol.unh.edu. [2606:4100:3880:1234::84]) by smtp-relay.gmail.com with ESMTPS id d9443c01a7336-2946dee70desm3275185ad.40.2025.10.23.13.57.41 (version=TLS1_2 cipher=ECDHE-ECDSA-AES128-GCM-SHA256 bits=128/128); Thu, 23 Oct 2025 13:57:41 -0700 (PDT) X-Relaying-Domain: iol.unh.edu Date: Thu, 23 Oct 2025 13:57:41 -0700 (PDT) Message-ID: <68fa96c5.170a0220.18e758.fdb2SMTPIN_ADDED_MISSING@mx.google.com> Received: from [172.21.0.2] (unknown [172.18.0.240]) by postal.iol.unh.edu (Postfix) with ESMTP id AE4CB6051830; Thu, 23 Oct 2025 16:57:40 -0400 (EDT) Subject: |WARNING| pw158024-158026 [PATCH] [v9,3/3] dts: add Rx Tx offload te From: dpdklab@iol.unh.edu To: Test Report Cc: dpdk-test-reports@iol.unh.edu In-Reply-To: <20251023123223.56924-4-abailey@iol.unh.edu> References: <20251023123223.56924-4-abailey@iol.unh.edu> Content-Type: text/plain X-BeenThere: test-report@dpdk.org X-Mailman-Version: 2.1.29 Precedence: list List-Id: automatic DPDK test reports List-Unsubscribe: , List-Archive: List-Post: List-Help: List-Subscribe: , Errors-To: test-report-bounces@dpdk.org Test-Label: iol-compile-amd64-testing Test-Status: WARNING http://dpdk.org/patch/158026 _Testing issues_ Submitter: Andrew Bailey Date: Thursday, October 23 2025 12:32:23 DPDK git baseline: Repo:dpdk-next-dts Branch: master CommitID:c1abcee5a9656fb4890b733e6051aa604c60f146 158024-158026 --> testing issues Upstream job id: Generic-DPDK-Compile-Meson#437108 Test environment and result as below: +-------------------------------+--------------------+-------------------+-------------------------+----------------------+-------------------+------------------+ | Environment | dpdk_meson_compile | dpdk_msvc_compile | dpdk_llvm_clang_compile | dpdk_mingw64_compile | dpdk_compile_spdk | dpdk_compile_ovs | +===============================+====================+===================+=========================+======================+===================+==================+ | Ubuntu 20.04 | PEND | SKIPPED | SKIPPED | SKIPPED | SKIPPED | SKIPPED | +-------------------------------+--------------------+-------------------+-------------------------+----------------------+-------------------+------------------+ | FreeBSD 14.2 | PASS | SKIPPED | SKIPPED | SKIPPED | SKIPPED | SKIPPED | +-------------------------------+--------------------+-------------------+-------------------------+----------------------+-------------------+------------------+ | CentOS Stream 9 | PASS | SKIPPED | SKIPPED | SKIPPED | PEND | SKIPPED | +-------------------------------+--------------------+-------------------+-------------------------+----------------------+-------------------+------------------+ | CentOS Stream 10 | PASS | SKIPPED | SKIPPED | SKIPPED | SKIPPED | SKIPPED | +-------------------------------+--------------------+-------------------+-------------------------+----------------------+-------------------+------------------+ | Fedora Linux 42 | PASS | SKIPPED | SKIPPED | SKIPPED | PEND | PEND | +-------------------------------+--------------------+-------------------+-------------------------+----------------------+-------------------+------------------+ | Debian GNU/Linux 12 | PASS | SKIPPED | SKIPPED | SKIPPED | WARN | SKIPPED | +-------------------------------+--------------------+-------------------+-------------------------+----------------------+-------------------+------------------+ | openSUSE Leap 15.6 | PASS | SKIPPED | SKIPPED | SKIPPED | SKIPPED | SKIPPED | +-------------------------------+--------------------+-------------------+-------------------------+----------------------+-------------------+------------------+ | Red Hat Enterprise Linux 8.10 | PASS | SKIPPED | SKIPPED | SKIPPED | SKIPPED | SKIPPED | +-------------------------------+--------------------+-------------------+-------------------------+----------------------+-------------------+------------------+ | Red Hat Enterprise Linux 9.5 | PASS | SKIPPED | SKIPPED | SKIPPED | SKIPPED | SKIPPED | +-------------------------------+--------------------+-------------------+-------------------------+----------------------+-------------------+------------------+ | Ubuntu 22.04 | PEND | SKIPPED | SKIPPED | SKIPPED | PEND | SKIPPED | +-------------------------------+--------------------+-------------------+-------------------------+----------------------+-------------------+------------------+ | Ubuntu 24.04 | PEND | SKIPPED | SKIPPED | SKIPPED | PEND | PEND | +-------------------------------+--------------------+-------------------+-------------------------+----------------------+-------------------+------------------+ | Alpine Linux 3.22.0 | PASS | SKIPPED | SKIPPED | SKIPPED | SKIPPED | SKIPPED | +-------------------------------+--------------------+-------------------+-------------------------+----------------------+-------------------+------------------+ | Windows Server 2022 | SKIPPED | PASS | PASS | PASS | SKIPPED | SKIPPED | +-------------------------------+--------------------+-------------------+-------------------------+----------------------+-------------------+------------------+ ==== 20 line log output for Debian GNU/Linux 12 (dpdk_compile_spdk): ==== --- Failed to get log output --- ==== End log output ==== Ubuntu 20.04 Kernel: 4.19 Compiler: gcc gcc (Ubuntu 9.4.0-1ubuntu1~20.04.2) 9.4.0 FreeBSD 14.2 Kernel: 14.2-RELEASE Compiler: clang 18.1.6 CentOS Stream 9 Kernel: 5.15 Compiler: gcc gcc (GCC) 11.5.0 20240719 (Red Hat 11.5.0-11) CentOS Stream 10 Kernel: 5.15 Compiler: gcc gcc (GCC) 14.2.1 20250110 (Red Hat 14.2.1-8) Fedora Linux 42 Kernel: 5.15 Compiler: clang gcc (GCC) 15.2.1 20250808 (Red Hat 15.2.1-1) Debian GNU/Linux 12 Kernel: 5.15 Compiler: gcc gcc (Debian 12.2.0-14+deb12u1) 12.2.0 openSUSE Leap 15.6 Kernel: 5.15 Compiler: gcc gcc (SUSE Linux) 7.5.0 Red Hat Enterprise Linux 8.10 Kernel: 5.15 Compiler: gcc gcc (GCC) 8.5.0 20210514 (Red Hat 8.5.0-22) Red Hat Enterprise Linux 9.5 Kernel: 5.15 Compiler: gcc gcc (GCC) 11.5.0 20240719 (Red Hat 11.5.0-2) Ubuntu 22.04 Kernel: 5.15 Compiler: gcc gcc (Ubuntu 11.4.0-1ubuntu1~22.04) 11.4.0 Ubuntu 24.04 Kernel: 5.15 Compiler: gcc gcc (Ubuntu 13.3.0-6ubuntu2~24.04) 13.3.0 Alpine Linux 3.22.0 Kernel: 5.15 Compiler: gcc gcc (Alpine 14.2.0) 14.2.0 Windows Server 2022 Kernel: 10.0.20348.2031 Compiler: clang 15.0.7, gcc 14.1.0 (MinGW), and MSVC VS 19.39.33521 To view detailed results, visit: https://lab.dpdk.org/results/dashboard/patchsets/34359/ UNH-IOL DPDK Community Lab To manage your email subscriptions, visit: https://lab.dpdk.org/results/dashboard/preferences/subscriptions/