From mboxrd@z Thu Jan 1 00:00:00 1970 Return-Path: Received: from mails.dpdk.org (mails.dpdk.org [217.70.189.124]) by inbox.dpdk.org (Postfix) with ESMTP id 91A83489BB for ; Thu, 23 Oct 2025 23:01:28 +0200 (CEST) Received: from mails.dpdk.org (localhost [127.0.0.1]) by mails.dpdk.org (Postfix) with ESMTP id 8DE8940144; Thu, 23 Oct 2025 23:01:28 +0200 (CEST) Received: from mail-pg1-f226.google.com (mail-pg1-f226.google.com [209.85.215.226]) by mails.dpdk.org (Postfix) with ESMTP id 356E140144 for ; Thu, 23 Oct 2025 23:01:27 +0200 (CEST) Received: by mail-pg1-f226.google.com with SMTP id 41be03b00d2f7-b6cea7c527bso1255287a12.3 for ; Thu, 23 Oct 2025 14:01:27 -0700 (PDT) DKIM-Signature: v=1; a=rsa-sha256; c=relaxed/relaxed; d=iol.unh.edu; s=unh-iol; t=1761253286; x=1761858086; darn=dpdk.org; h=references:in-reply-to:cc:to:from:subject:message-id:date:from:to :cc:subject:date:message-id:reply-to; bh=JLMEvdYNYL17751eTi5jZZY4QNUhPhupWBG8DTKtsMQ=; b=Zql0cqNV2GHm+ZWVQ5hHH0GltaRExfFjBc6gl9HxGtXKdOWRnf3Xm6iklyWAPlkhO2 42y1uO8gG4OOgJXW1tXMwfbG+LUdlkeFR98quOn8AV8fpnZ7QIF6jW5Z4Hr/4+OLyc82 PFvU+S+N75CXPIlQqawq6gw+lEEdyHCYmB01c= X-Google-DKIM-Signature: v=1; a=rsa-sha256; c=relaxed/relaxed; d=1e100.net; s=20230601; t=1761253286; x=1761858086; h=references:in-reply-to:cc:to:from:subject:message-id:date :x-gm-message-state:from:to:cc:subject:date:message-id:reply-to; bh=JLMEvdYNYL17751eTi5jZZY4QNUhPhupWBG8DTKtsMQ=; b=MVfnFC9Ilzt/zwMQFvLquoXLqVdxdgOh89RpnaXBFa8jjYdkFGkwUApl3C0ySFOH0t jh7JuD9NUXz5HM0jEQUSBySjNqjKSZFji5S2EJ4lwj857kFD+H2P1F+WeQ6wi/E1xdx2 UvlzHGM21qDE87dD0LFmQLtHFraywtoS4gs8rHiQV2MviwR4SiAjEPa0U9kAEHIpQRau uxRL49BzfnNd0U0s6mDcDpX2KKAg9kGLSkEssiA0/OltdbRimucd8moRC1Dlny5mmmYp DksvFMI0oBAXIumQDz+sejnH0CHvL6K6PNHTc6McPurIwyNlbtx7drFC8Tbj+JKmIH1b otQA== X-Gm-Message-State: AOJu0YwiDkm3SJoMYPZUTcZy47bXfyaVzPI+zNxUlRjJrgXJPYQauxQA rC573GqOvotqrflnueQFFNdY7g8Ev8JWt7fMXsCKubjYzbnE1Mm9m3pnwEyhGSbiTMbnHnSXr+r 5r3/6EEQzkpcAyTl3P3eE4HXR0M+ChgVAJKmDFNRmJOzIGDl62jwE5k1epLKX X-Gm-Gg: ASbGncv5b4crhYhTuLZkbpNZyrcO5XgYoUa84JmkpjBrQrMFVV+lKodd1tndlOzy+Mg 8LHeLCgDcANAbEXtrNbYeEUi2GR9Eubza+PA39ayZFM85us6gg7z7AQlyZ1Up+vG8o7En8w5lA8 SRAIDx7q2zVCM5d/lo3yesoD8z5EWVlnrM4ODP1m+YGP0odlmGx5dwFk/OyMpCzmh4frL/E383D L6ug9lwx7CRN0Iczz6LOCH1X6I0XCQvhItW3PQssTBsrbO/K5Vcq4riUcZsk7dYrHOl7Syi3xOB HdAt+s5+LiIU4LVlnL8oQw6A+RKbPAf7mPp2iLwFG/+vr5JQJBKF9PPGuc+DLtCEkkLwaSDHR3K UwQM8WxGD X-Google-Smtp-Source: AGHT+IHvVgtPxBowadWIu1z/UZdQUHEH5HOMqn8iAFpuKOcWojotuGPHQq/z0BjwcAfLSlQ1kz7J9Gl0yb1c X-Received: by 2002:a17:903:1a0e:b0:269:d978:7ec0 with SMTP id d9443c01a7336-290ca121a4emr327522095ad.28.1761253286370; Thu, 23 Oct 2025 14:01:26 -0700 (PDT) Received: from postal.iol.unh.edu (postal.iol.unh.edu. [2606:4100:3880:1234::84]) by smtp-relay.gmail.com with ESMTPS id d9443c01a7336-2946df1b8a0sm3271715ad.49.2025.10.23.14.01.26 (version=TLS1_2 cipher=ECDHE-ECDSA-AES128-GCM-SHA256 bits=128/128); Thu, 23 Oct 2025 14:01:26 -0700 (PDT) X-Relaying-Domain: iol.unh.edu Date: Thu, 23 Oct 2025 14:01:26 -0700 (PDT) Message-ID: <68fa97a6.170a0220.27b064.0368SMTPIN_ADDED_MISSING@mx.google.com> Received: from [172.21.0.5] (unknown [172.18.0.240]) by postal.iol.unh.edu (Postfix) with ESMTP id 7FF7E6051830; Thu, 23 Oct 2025 17:01:25 -0400 (EDT) Subject: |WARNING| pw158024-158026 [PATCH] [v9,3/3] dts: add Rx Tx offload te From: dpdklab@iol.unh.edu To: Test Report Cc: dpdk-test-reports@iol.unh.edu In-Reply-To: <20251023123223.56924-4-abailey@iol.unh.edu> References: <20251023123223.56924-4-abailey@iol.unh.edu> Content-Type: text/plain X-BeenThere: test-report@dpdk.org X-Mailman-Version: 2.1.29 Precedence: list List-Id: automatic DPDK test reports List-Unsubscribe: , List-Archive: List-Post: List-Help: List-Subscribe: , Errors-To: test-report-bounces@dpdk.org Test-Label: iol-compile-amd64-testing Test-Status: WARNING http://dpdk.org/patch/158026 _Testing issues_ Submitter: Andrew Bailey Date: Thursday, October 23 2025 12:32:23 DPDK git baseline: Repo:dpdk-next-dts Branch: master CommitID:c1abcee5a9656fb4890b733e6051aa604c60f146 158024-158026 --> testing issues Upstream job id: Generic-DPDK-Compile-Meson#437106 Test environment and result as below: +-------------------------------+--------------------+-------------------+-------------------------+----------------------+-------------------+------------------+ | Environment | dpdk_meson_compile | dpdk_msvc_compile | dpdk_llvm_clang_compile | dpdk_mingw64_compile | dpdk_compile_spdk | dpdk_compile_ovs | +===============================+====================+===================+=========================+======================+===================+==================+ | Ubuntu 20.04 | PASS | SKIPPED | SKIPPED | SKIPPED | SKIPPED | SKIPPED | +-------------------------------+--------------------+-------------------+-------------------------+----------------------+-------------------+------------------+ | FreeBSD 14.2 | PASS | SKIPPED | SKIPPED | SKIPPED | SKIPPED | SKIPPED | +-------------------------------+--------------------+-------------------+-------------------------+----------------------+-------------------+------------------+ | CentOS Stream 9 | PASS | SKIPPED | SKIPPED | SKIPPED | WARN | SKIPPED | +-------------------------------+--------------------+-------------------+-------------------------+----------------------+-------------------+------------------+ | CentOS Stream 10 | PASS | SKIPPED | SKIPPED | SKIPPED | SKIPPED | SKIPPED | +-------------------------------+--------------------+-------------------+-------------------------+----------------------+-------------------+------------------+ | Fedora Linux 42 | PASS | SKIPPED | SKIPPED | SKIPPED | WARN | PASS | +-------------------------------+--------------------+-------------------+-------------------------+----------------------+-------------------+------------------+ | Debian GNU/Linux 12 | PASS | SKIPPED | SKIPPED | SKIPPED | WARN | SKIPPED | +-------------------------------+--------------------+-------------------+-------------------------+----------------------+-------------------+------------------+ | openSUSE Leap 15.6 | PASS | SKIPPED | SKIPPED | SKIPPED | SKIPPED | SKIPPED | +-------------------------------+--------------------+-------------------+-------------------------+----------------------+-------------------+------------------+ | Red Hat Enterprise Linux 8.10 | PASS | SKIPPED | SKIPPED | SKIPPED | SKIPPED | SKIPPED | +-------------------------------+--------------------+-------------------+-------------------------+----------------------+-------------------+------------------+ | Red Hat Enterprise Linux 9.5 | PASS | SKIPPED | SKIPPED | SKIPPED | SKIPPED | SKIPPED | +-------------------------------+--------------------+-------------------+-------------------------+----------------------+-------------------+------------------+ | Ubuntu 22.04 | PASS | SKIPPED | SKIPPED | SKIPPED | WARN | SKIPPED | +-------------------------------+--------------------+-------------------+-------------------------+----------------------+-------------------+------------------+ | Ubuntu 24.04 | PASS | SKIPPED | SKIPPED | SKIPPED | WARN | PASS | +-------------------------------+--------------------+-------------------+-------------------------+----------------------+-------------------+------------------+ | Alpine Linux 3.22.0 | PASS | SKIPPED | SKIPPED | SKIPPED | SKIPPED | SKIPPED | +-------------------------------+--------------------+-------------------+-------------------------+----------------------+-------------------+------------------+ | Windows Server 2022 | SKIPPED | PASS | PASS | PASS | SKIPPED | SKIPPED | +-------------------------------+--------------------+-------------------+-------------------------+----------------------+-------------------+------------------+ ==== 20 line log output for Ubuntu 24.04 (dpdk_compile_spdk): ==== --- Failed to get log output --- ==== End log output ==== Ubuntu 20.04 Kernel: 4.19 Compiler: gcc gcc (Ubuntu 9.4.0-1ubuntu1~20.04.2) 9.4.0 FreeBSD 14.2 Kernel: 14.2-RELEASE Compiler: clang 18.1.6 CentOS Stream 9 Kernel: 5.15 Compiler: gcc gcc (GCC) 11.5.0 20240719 (Red Hat 11.5.0-11) CentOS Stream 10 Kernel: 5.15 Compiler: gcc gcc (GCC) 14.2.1 20250110 (Red Hat 14.2.1-8) Fedora Linux 42 Kernel: 5.15 Compiler: clang gcc (GCC) 15.2.1 20250808 (Red Hat 15.2.1-1) Debian GNU/Linux 12 Kernel: 5.15 Compiler: gcc gcc (Debian 12.2.0-14+deb12u1) 12.2.0 openSUSE Leap 15.6 Kernel: 5.15 Compiler: gcc gcc (SUSE Linux) 7.5.0 Red Hat Enterprise Linux 8.10 Kernel: 5.15 Compiler: gcc gcc (GCC) 8.5.0 20210514 (Red Hat 8.5.0-22) Red Hat Enterprise Linux 9.5 Kernel: 5.15 Compiler: gcc gcc (GCC) 11.5.0 20240719 (Red Hat 11.5.0-2) Ubuntu 22.04 Kernel: 5.15 Compiler: gcc gcc (Ubuntu 11.4.0-1ubuntu1~22.04) 11.4.0 Ubuntu 24.04 Kernel: 5.15 Compiler: gcc gcc (Ubuntu 13.3.0-6ubuntu2~24.04) 13.3.0 Alpine Linux 3.22.0 Kernel: 5.15 Compiler: gcc gcc (Alpine 14.2.0) 14.2.0 Windows Server 2022 Kernel: 10.0.20348.2031 Compiler: clang 15.0.7, gcc 14.1.0 (MinGW), and MSVC VS 19.39.33521 To view detailed results, visit: https://lab.dpdk.org/results/dashboard/patchsets/34359/ UNH-IOL DPDK Community Lab To manage your email subscriptions, visit: https://lab.dpdk.org/results/dashboard/preferences/subscriptions/