From mboxrd@z Thu Jan 1 00:00:00 1970 Return-Path: Received: from mails.dpdk.org (mails.dpdk.org [217.70.189.124]) by inbox.dpdk.org (Postfix) with ESMTP id 54B48489BD for ; Thu, 23 Oct 2025 23:39:54 +0200 (CEST) Received: from mails.dpdk.org (localhost [127.0.0.1]) by mails.dpdk.org (Postfix) with ESMTP id 38D1A40144; Thu, 23 Oct 2025 23:39:54 +0200 (CEST) Received: from mail-pl1-f228.google.com (mail-pl1-f228.google.com [209.85.214.228]) by mails.dpdk.org (Postfix) with ESMTP id 7293240144 for ; Thu, 23 Oct 2025 23:39:52 +0200 (CEST) Received: by mail-pl1-f228.google.com with SMTP id d9443c01a7336-292fd52d527so14627525ad.2 for ; Thu, 23 Oct 2025 14:39:52 -0700 (PDT) DKIM-Signature: v=1; a=rsa-sha256; c=relaxed/relaxed; d=iol.unh.edu; s=unh-iol; t=1761255591; x=1761860391; darn=dpdk.org; h=references:in-reply-to:cc:to:from:subject:message-id:date:from:to :cc:subject:date:message-id:reply-to; bh=DjlIA/hQ68cTyYybsAer7CsB9W0F1WfgrTknjq1hHPE=; b=i00fDomaLPl/Gd8KdVL0K/2lLszqlc40b2X9ugKTZy8vkeFkoYLs2sfH0yRCeSCgL7 O93k+ttLKXRF7dzHpHAYh+W4YPCizaeoD4Y179LXlZkt3dYWU9NOLj1zdFQYofnyIHzD PkbrEU1ruT/PoL47u/wlQKdspc6fAvxzbXyQU= X-Google-DKIM-Signature: v=1; a=rsa-sha256; c=relaxed/relaxed; d=1e100.net; s=20230601; t=1761255591; x=1761860391; h=references:in-reply-to:cc:to:from:subject:message-id:date :x-gm-message-state:from:to:cc:subject:date:message-id:reply-to; bh=DjlIA/hQ68cTyYybsAer7CsB9W0F1WfgrTknjq1hHPE=; b=XuiEWOZ4f/g7JOZ9t09S4CkE4jiVjTmQ5yNE+F+yQ6Ym0Tx8kPilf7miHY1pDVcXd4 E81Tc7yVPerZYTfbW7plo1gtxNIzu8sRVMuiRo1ErySA7FAurMuQOS6Kp5yu/bA+Czed IthDYc/3GDC15X7XltpCWYXwmtsgxTFec2lgvenofOvfx5QcR4f7gETDHuryEWQ73XfB PuLnGS64S5htIMrwJ2bIrUaExz0oLIJ2EbJ2rnqZtckjNO454WzZrrk33OnTej+dIhXe VotY7sIrXMmDqy1zVyA8m6Yzp56Zp+q2dJLMTJsJpu9VITPE9Va/k2P5QpVfBA04d54C YY4g== X-Gm-Message-State: AOJu0YzoOBbsBBID0rcBdIFxkl97D+4E/oMNqAD2g4Xgaqf1Wfbf2yrk csKIoX+cHL+gM6moqSk06AJ8psw3brsP+OnvQrBBeZjmJqTYre1qlLHz6P884QgxIMWBDDhtpAG 0V64tYBxfTEIhIZoC7x5QILI0uGY1sWDO13L4V9o8fLaI X-Gm-Gg: ASbGncsSsnZHHLFTqU+qWyEEK+472Cvt5/idvt+gXDlwRbLJJHFfs+xLOlM+JMjg9GJ oMKPwRgvR39Ohk2tzylv/MDUjcmzrtvUEPzNykCCP0VDWRCjJTt6X/rbqLU3S665ryi71n8oSjQ uxXUF90BLogxKvhHQCfInrIp3fxTQnwvkrq8NGSkYLw6PtnwZr0N/fB8BLOwr4tBpW+838sUKLX +yWkf1qODt5kZWNsN2ktfUgH5MrijLyF70pYGRVxqPZCXc+BK05IqGnjD2/E5CUcXAgCrCIbi0G 6zOHxDYPkRq+HO3G9wMLLldVFoDDvvT2mtXzwrUcZoYTcxFiYFlP3R4gflTpqBeBbQlkCLXaRnj 2pzQqUp4c1uu5YgVQ17JdnHlZemsydl8= X-Google-Smtp-Source: AGHT+IE/sPDQipTtgYvyYcuUEUV/uzozEKxc7w4yUOBxyzQ4N/QO8IaHl7nfDMKIYYe1fdoOmW6THTOvgj8x X-Received: by 2002:a17:903:3d0d:b0:268:1034:ac8b with SMTP id d9443c01a7336-290d14e83cemr339288785ad.26.1761255591403; Thu, 23 Oct 2025 14:39:51 -0700 (PDT) Received: from postal.iol.unh.edu (postal.iol.unh.edu. [132.177.123.84]) by smtp-relay.gmail.com with ESMTPS id d9443c01a7336-2946dd97ed8sm3465915ad.12.2025.10.23.14.39.51 (version=TLS1_2 cipher=ECDHE-ECDSA-AES128-GCM-SHA256 bits=128/128); Thu, 23 Oct 2025 14:39:51 -0700 (PDT) X-Relaying-Domain: iol.unh.edu Date: Thu, 23 Oct 2025 14:39:51 -0700 (PDT) Message-ID: <68faa0a7.170a0220.23e95c.1229SMTPIN_ADDED_MISSING@mx.google.com> Received: from [172.21.0.2] (unknown [172.18.0.240]) by postal.iol.unh.edu (Postfix) with ESMTP id D76B860003E8; Thu, 23 Oct 2025 17:39:50 -0400 (EDT) Subject: |SUCCESS| pw158058-158060 [PATCH] [RFC,3/3] common/cnxk: re-enable v From: dpdklab@iol.unh.edu To: Test Report Cc: dpdk-test-reports@iol.unh.edu In-Reply-To: <20251023194237.197681-4-stephen@networkplumber.org> References: <20251023194237.197681-4-stephen@networkplumber.org> Content-Type: text/plain X-BeenThere: test-report@dpdk.org X-Mailman-Version: 2.1.29 Precedence: list List-Id: automatic DPDK test reports List-Unsubscribe: , List-Archive: List-Post: List-Help: List-Subscribe: , Errors-To: test-report-bounces@dpdk.org Test-Label: iol-unit-amd64-testing Test-Status: SUCCESS http://dpdk.org/patch/158060 _Testing PASS_ Submitter: Stephen Hemminger Date: Thursday, October 23 2025 19:41:33 DPDK git baseline: Repo:dpdk-next-net-mrvl Branch: master CommitID:2863cbd9ee6dabee2b183382d298f4054ba3e8a2 158058-158060 --> testing pass Upstream job id: Generic-Unit-Test-DPDK#384727 Test environment and result as below: +-------------------------------+----------------+ | Environment | dpdk_unit_test | +===============================+================+ | CentOS Stream 9 | PASS | +-------------------------------+----------------+ | Debian GNU/Linux 12 | PASS | +-------------------------------+----------------+ | CentOS Stream 10 | PASS | +-------------------------------+----------------+ | Windows Server 2022 | PASS | +-------------------------------+----------------+ | Red Hat Enterprise Linux 8.10 | PASS | +-------------------------------+----------------+ | Ubuntu 20.04 | PASS | +-------------------------------+----------------+ | Fedora Linux 41 | PASS | +-------------------------------+----------------+ | Fedora Linux 40 | PASS | +-------------------------------+----------------+ | Fedora Linux 42 | PASS | +-------------------------------+----------------+ | Red Hat Enterprise Linux 9.5 | PASS | +-------------------------------+----------------+ | Ubuntu 24.04 | PASS | +-------------------------------+----------------+ | Ubuntu 22.04 | PASS | +-------------------------------+----------------+ CentOS Stream 9 Kernel: 5.15 Compiler: gcc gcc (GCC) 11.5.0 20240719 (Red Hat 11.5.0-11) Debian GNU/Linux 12 Kernel: 5.15 Compiler: gcc gcc (Debian 12.2.0-14+deb12u1) 12.2.0 CentOS Stream 10 Kernel: 5.15 Compiler: gcc gcc (GCC) 14.2.1 20250110 (Red Hat 14.2.1-8) Windows Server 2022 Kernel: 10.0.20348.2031 Compiler: clang 15.0.7, gcc 14.1.0 (MinGW), and MSVC VS 19.39.33521 Red Hat Enterprise Linux 8.10 Kernel: 5.15 Compiler: gcc gcc (GCC) 8.5.0 20210514 (Red Hat 8.5.0-22) Ubuntu 20.04 Kernel: 5.15 Compiler: gcc gcc (Ubuntu 9.4.0-1ubuntu1~20.04.2) 9.4.0 Fedora Linux 41 Kernel: 5.15 Compiler: gcc gcc (GCC) 14.3.1 20250523 (Red Hat 14.3.1-1) Fedora Linux 40 Kernel: 5.15 Compiler: gcc gcc (GCC) 14.2.1 20240912 (Red Hat 14.2.1-3) Fedora Linux 42 Kernel: 5.15 Compiler: gcc gcc (GCC) 15.2.1 20250808 (Red Hat 15.2.1-1) Red Hat Enterprise Linux 9.5 Kernel: 5.15 Compiler: gcc gcc (GCC) 11.5.0 20240719 (Red Hat 11.5.0-2) Ubuntu 24.04 Kernel: 5.15 Compiler: gcc gcc (Ubuntu 13.3.0-6ubuntu2~24.04) 13.3.0 Ubuntu 22.04 Kernel: 5.15 Compiler: gcc gcc (Ubuntu 11.4.0-1ubuntu1~22.04) 11.4.0 To view detailed results, visit: https://lab.dpdk.org/results/dashboard/patchsets/34366/ UNH-IOL DPDK Community Lab To manage your email subscriptions, visit: https://lab.dpdk.org/results/dashboard/preferences/subscriptions/