From mboxrd@z Thu Jan 1 00:00:00 1970 Return-Path: Received: from mails.dpdk.org (mails.dpdk.org [217.70.189.124]) by inbox.dpdk.org (Postfix) with ESMTP id B5B1E489BD for ; Thu, 23 Oct 2025 23:44:11 +0200 (CEST) Received: from mails.dpdk.org (localhost [127.0.0.1]) by mails.dpdk.org (Postfix) with ESMTP id 91C1340144; Thu, 23 Oct 2025 23:44:11 +0200 (CEST) Received: from mail-pg1-f226.google.com (mail-pg1-f226.google.com [209.85.215.226]) by mails.dpdk.org (Postfix) with ESMTP id EDCC140144 for ; Thu, 23 Oct 2025 23:44:10 +0200 (CEST) Received: by mail-pg1-f226.google.com with SMTP id 41be03b00d2f7-b6271ea3a6fso927636a12.0 for ; Thu, 23 Oct 2025 14:44:10 -0700 (PDT) DKIM-Signature: v=1; a=rsa-sha256; c=relaxed/relaxed; d=iol.unh.edu; s=unh-iol; t=1761255850; x=1761860650; darn=dpdk.org; h=references:in-reply-to:cc:to:from:subject:message-id:date:from:to :cc:subject:date:message-id:reply-to; bh=ZJU1ImzyvUr0cz68SPeJ7utr1dYPjqvie8ozdJ1/65Q=; b=IB5yg0Ew6WjogL4t4JfceBDw9zLkHiXBgEGZOMcD4hPH1CEqqAndIOSfb0BglXur6t krokQaR0indwBVIudy0PtFZ/Gx6CHD5nFDCtdMBb7XjnciI7bcuejG1EJyAIc70ADkEK Dpz/6vVls0JGFBZD59YowABDZN8tZye9S6+Fc= X-Google-DKIM-Signature: v=1; a=rsa-sha256; c=relaxed/relaxed; d=1e100.net; s=20230601; t=1761255850; x=1761860650; h=references:in-reply-to:cc:to:from:subject:message-id:date :x-gm-message-state:from:to:cc:subject:date:message-id:reply-to; bh=ZJU1ImzyvUr0cz68SPeJ7utr1dYPjqvie8ozdJ1/65Q=; b=ADFKS96Ar0b7G6mpgqhNwd7RBNuw2FANxeuAVNKV6Hbubrz3hhXs5VoCPO6wyvEw7Z SKNot7/jIarHKxte1PhtyHBP3PX+3WoCKg0NugeiFnCllzB/iOV1HH9vFb0FDqMzVZXJ UdhUuy//DGM9Spy+/D1fkyT9SYy6YJ15ZvSvs2Z2D0+wQ+KDj7ZUHiJLnLi2REq7aFP2 HVHF1OAACJWTIAx/rYjK2WUJylHhwf9xPJf0+I3oShpyQPY982qHy2lXXbQi8cCYBOBw OV5m3YYfWvinINAR8COIpzJSs7WfiqHEIuDkAMoeOqY1t+qlr5+pdUxL3BZZjWPrYGOz s6Zw== X-Gm-Message-State: AOJu0YySTUu5VTPshuRK2EiuVDMP13xyTg7DdK9vXAT+6GFt1O+27rsg Jtpin8C5sn0bj4gw5bxJMtK3l1348Pbv9QAk76Raf6C2b04z6Za6ixaOzN3Ve2uwUNTddN/k43U x9xOLtxT+sd/Y0d8XrwJVJgwYMXJOYzCJ+TgOuDVoB+/a X-Gm-Gg: ASbGncvlS7PuFj+mYtdLnd1HVC7r2/HUTzS3+0wAmD7oW5ZGGV2sUiK9ChHf/zUb/MM U8Uz+Fq6Zg8Um0VSsgtoD00i2ArMOS8kU6dzoN7yhgcvQpofN4p9NWAkNEAIir5T0RnYO/7DPy6 ICaMkpRIxtUhoaJj08WzKoSqYiaO9dAWofNRgH6c24ufHavH/Aux8w7th8SGPwFO0x9SuVkPSfC mixlsk1lz12z6pkgNzO6KqkVF+tzOpSAsZMuLuPfa2kgOJWUkdlOKSsQmPtrVrHLh0Yxbv4SSll VPqVnqZvmGK1YChPPrAVzKhpuFwJOqSmAi7BxGqi3OUaoCE6I+AXudH42oO/kS0UJEPBZTvwBCp Z023eg0RCCfldCGyh4qUrdTjLcikEvSo= X-Google-Smtp-Source: AGHT+IHF4X/oYM2G4cgC1ZoGV89LDKItgxYOLj3gzG+virtQD93levPU+xLpli3xIify6oYtmp+YdK51cZNa X-Received: by 2002:a17:902:ce0e:b0:264:befb:829c with SMTP id d9443c01a7336-290c9c8a738mr298947765ad.9.1761255849949; Thu, 23 Oct 2025 14:44:09 -0700 (PDT) Received: from postal.iol.unh.edu (postal.iol.unh.edu. [132.177.123.84]) by smtp-relay.gmail.com with ESMTPS id d9443c01a7336-2946dee70desm3381885ad.40.2025.10.23.14.44.09 (version=TLS1_2 cipher=ECDHE-ECDSA-AES128-GCM-SHA256 bits=128/128); Thu, 23 Oct 2025 14:44:09 -0700 (PDT) X-Relaying-Domain: iol.unh.edu Date: Thu, 23 Oct 2025 14:44:09 -0700 (PDT) Message-ID: <68faa1a9.170a0220.18e758.0586SMTPIN_ADDED_MISSING@mx.google.com> Received: from [172.21.0.2] (unknown [172.18.0.240]) by postal.iol.unh.edu (Postfix) with ESMTP id 616446051830; Thu, 23 Oct 2025 17:44:09 -0400 (EDT) Subject: |WARNING| pw158027 [PATCH] [v6] mbuf: optimize segment prefree From: dpdklab@iol.unh.edu To: Test Report Cc: dpdk-test-reports@iol.unh.edu In-Reply-To: <20251023124858.318148-1-mb@smartsharesystems.com> References: <20251023124858.318148-1-mb@smartsharesystems.com> Content-Type: text/plain X-BeenThere: test-report@dpdk.org X-Mailman-Version: 2.1.29 Precedence: list List-Id: automatic DPDK test reports List-Unsubscribe: , List-Archive: List-Post: List-Help: List-Subscribe: , Errors-To: test-report-bounces@dpdk.org Test-Label: iol-compile-amd64-testing Test-Status: WARNING http://dpdk.org/patch/158027 _Testing issues_ Submitter: Morten Brorup Date: Thursday, October 23 2025 12:48:58 DPDK git baseline: Repo:dpdk Branch: master CommitID:2863cbd9ee6dabee2b183382d298f4054ba3e8a2 158027 --> testing issues Upstream job id: Generic-DPDK-Compile-Meson#437140 Test environment and result as below: +-------------------------------+--------------------+-------------------+-------------------------+----------------------+-------------------+------------------+ | Environment | dpdk_meson_compile | dpdk_msvc_compile | dpdk_llvm_clang_compile | dpdk_mingw64_compile | dpdk_compile_spdk | dpdk_compile_ovs | +===============================+====================+===================+=========================+======================+===================+==================+ | FreeBSD 14.2 | PASS | SKIPPED | SKIPPED | SKIPPED | SKIPPED | SKIPPED | +-------------------------------+--------------------+-------------------+-------------------------+----------------------+-------------------+------------------+ | Ubuntu 20.04 | PASS | SKIPPED | SKIPPED | SKIPPED | SKIPPED | SKIPPED | +-------------------------------+--------------------+-------------------+-------------------------+----------------------+-------------------+------------------+ | CentOS Stream 9 | PASS | SKIPPED | SKIPPED | SKIPPED | WARN | SKIPPED | +-------------------------------+--------------------+-------------------+-------------------------+----------------------+-------------------+------------------+ | CentOS Stream 10 | PASS | SKIPPED | SKIPPED | SKIPPED | SKIPPED | SKIPPED | +-------------------------------+--------------------+-------------------+-------------------------+----------------------+-------------------+------------------+ | Debian GNU/Linux 12 | PASS | SKIPPED | SKIPPED | SKIPPED | WARN | SKIPPED | +-------------------------------+--------------------+-------------------+-------------------------+----------------------+-------------------+------------------+ | Fedora Linux 42 | PASS | SKIPPED | SKIPPED | SKIPPED | WARN | PASS | +-------------------------------+--------------------+-------------------+-------------------------+----------------------+-------------------+------------------+ | openSUSE Leap 15.6 | PASS | SKIPPED | SKIPPED | SKIPPED | SKIPPED | SKIPPED | +-------------------------------+--------------------+-------------------+-------------------------+----------------------+-------------------+------------------+ | Red Hat Enterprise Linux 8.10 | PASS | SKIPPED | SKIPPED | SKIPPED | SKIPPED | SKIPPED | +-------------------------------+--------------------+-------------------+-------------------------+----------------------+-------------------+------------------+ | Red Hat Enterprise Linux 9.5 | PASS | SKIPPED | SKIPPED | SKIPPED | SKIPPED | SKIPPED | +-------------------------------+--------------------+-------------------+-------------------------+----------------------+-------------------+------------------+ | Ubuntu 22.04 | PASS | SKIPPED | SKIPPED | SKIPPED | WARN | SKIPPED | +-------------------------------+--------------------+-------------------+-------------------------+----------------------+-------------------+------------------+ | Ubuntu 24.04 | PASS | SKIPPED | SKIPPED | SKIPPED | WARN | PASS | +-------------------------------+--------------------+-------------------+-------------------------+----------------------+-------------------+------------------+ | Alpine Linux 3.22.0 | PASS | SKIPPED | SKIPPED | SKIPPED | SKIPPED | SKIPPED | +-------------------------------+--------------------+-------------------+-------------------------+----------------------+-------------------+------------------+ | Windows Server 2022 | SKIPPED | PASS | PASS | PASS | SKIPPED | SKIPPED | +-------------------------------+--------------------+-------------------+-------------------------+----------------------+-------------------+------------------+ ==== 20 line log output for Ubuntu 24.04 (dpdk_compile_spdk): ==== --- Failed to get log output --- ==== End log output ==== FreeBSD 14.2 Kernel: 14.2-RELEASE Compiler: clang 18.1.6 Ubuntu 20.04 Kernel: 4.19 Compiler: gcc gcc (Ubuntu 9.4.0-1ubuntu1~20.04.2) 9.4.0 CentOS Stream 9 Kernel: 5.15 Compiler: gcc gcc (GCC) 11.5.0 20240719 (Red Hat 11.5.0-11) CentOS Stream 10 Kernel: 5.15 Compiler: gcc gcc (GCC) 14.2.1 20250110 (Red Hat 14.2.1-8) Debian GNU/Linux 12 Kernel: 5.15 Compiler: gcc gcc (Debian 12.2.0-14+deb12u1) 12.2.0 Fedora Linux 42 Kernel: 5.15 Compiler: clang gcc (GCC) 15.2.1 20250808 (Red Hat 15.2.1-1) openSUSE Leap 15.6 Kernel: 5.15 Compiler: gcc gcc (SUSE Linux) 7.5.0 Red Hat Enterprise Linux 8.10 Kernel: 5.15 Compiler: gcc gcc (GCC) 8.5.0 20210514 (Red Hat 8.5.0-22) Red Hat Enterprise Linux 9.5 Kernel: 5.15 Compiler: gcc gcc (GCC) 11.5.0 20240719 (Red Hat 11.5.0-2) Ubuntu 22.04 Kernel: 5.15 Compiler: gcc gcc (Ubuntu 11.4.0-1ubuntu1~22.04) 11.4.0 Ubuntu 24.04 Kernel: 5.15 Compiler: gcc gcc (Ubuntu 13.3.0-6ubuntu2~24.04) 13.3.0 Alpine Linux 3.22.0 Kernel: 5.15 Compiler: gcc gcc (Alpine 14.2.0) 14.2.0 Windows Server 2022 Kernel: 10.0.20348.2031 Compiler: clang 15.0.7, gcc 14.1.0 (MinGW), and MSVC VS 19.39.33521 To view detailed results, visit: https://lab.dpdk.org/results/dashboard/patchsets/34360/ UNH-IOL DPDK Community Lab To manage your email subscriptions, visit: https://lab.dpdk.org/results/dashboard/preferences/subscriptions/