From mboxrd@z Thu Jan 1 00:00:00 1970 Return-Path: Received: from mails.dpdk.org (mails.dpdk.org [217.70.189.124]) by inbox.dpdk.org (Postfix) with ESMTP id CC50E489BC for ; Fri, 24 Oct 2025 02:30:29 +0200 (CEST) Received: from mails.dpdk.org (localhost [127.0.0.1]) by mails.dpdk.org (Postfix) with ESMTP id A66EC40144; Fri, 24 Oct 2025 02:30:29 +0200 (CEST) Received: from mail-pg1-f226.google.com (mail-pg1-f226.google.com [209.85.215.226]) by mails.dpdk.org (Postfix) with ESMTP id 8A2B240144 for ; Fri, 24 Oct 2025 02:30:28 +0200 (CEST) Received: by mail-pg1-f226.google.com with SMTP id 41be03b00d2f7-b6cf07258e8so1022733a12.1 for ; Thu, 23 Oct 2025 17:30:28 -0700 (PDT) DKIM-Signature: v=1; a=rsa-sha256; c=relaxed/relaxed; d=iol.unh.edu; s=unh-iol; t=1761265828; x=1761870628; darn=dpdk.org; h=cc:to:from:subject:message-id:date:from:to:cc:subject:date :message-id:reply-to; bh=F7ybPc3ff6opue/koe0ucLX4wp57LrjpopCCiGqfY/U=; b=MoQQhXj+g41mvDWSpoPrvBl1uNBVXgioeDbHOoYCJvpB2589Cs0yZ3gPbrUeLnHB9v gVU3A5d+OjcbDnW6Af/wmTt97qM32d01TPMzlXgdiuc0RbObsquJ3ybld8DHpOmYu/bA vuXIdvMnZrnN/fdLp1qDutpVCB/bCzMHIakJk= X-Google-DKIM-Signature: v=1; a=rsa-sha256; c=relaxed/relaxed; d=1e100.net; s=20230601; t=1761265828; x=1761870628; h=cc:to:from:subject:message-id:date:x-gm-message-state:from:to:cc :subject:date:message-id:reply-to; bh=F7ybPc3ff6opue/koe0ucLX4wp57LrjpopCCiGqfY/U=; b=fiLzZY/ABCdS35irnKYSiXmZLEfPgRcgfE2dZwWlZ2rcq/pn6qaLSlcYMTHeOtroBD pFq4qt45Pe6IxpPjZwPXZKFOv1Few53LiRbT4cjBxa6dw/5NNzBPNWYmjWQROcIHBbvT R0UumIbhAQ7xOBBx/hnLTTDg4PJ/6bw03Yn+uFwIAPtsaMOhnsJohowAZrvuwuPvoOBq OFDVlP+TO/roVcvSrzgIYJebVt4tvv97T9fgEanodlzQ8RPFzc/UwnPQ4f2LKUjGWoA+ /eeYPLAG5Q7RKsG0T/50xQgrfVDpOKtsPgstrLd1Ut3Uv36g2m75i2cXhZQFkYS6csLu agDA== X-Gm-Message-State: AOJu0Yx9L25CI/SfhWlLnSLnSRKc324C4VboUoDW+FPOv9rrUb74bO7U U4UKJapcHv2w+gYwq+//XcQcS8n6C+N9rkHBU9Fc1jQvLMiW18Y4waGGqNikSqweSPf5FO6h9ne d6BlCPdTMCwXOX4MnljCvmQwLVyphANmIJ7NIQKBc5gbesiXw8cJMCPRidhRc X-Gm-Gg: ASbGncu1CLJcGsQPjb3kNntc0sOMkKYPgH4mEYm4Fq/8X64xxHzYRwjtG7nCF6tOACz matm3pnmiX2Px11qiHKrmTLVDPrJlwD3H6bfEsBhu3kSjCau/8Uk1voBmmPUM5r7KccpyyncKCo pg+SgpPsjBdotDEmUSzZcmMUfxg/p9YmNaJrIRjgPmPZSK4ENtWMkAMvtA3AiuKRukgXT3k29LY h0cYUkyWXMZJrY9pTFd8/fjfp1+FVzv1HgE5aCKseS9TmpaJu53SzFZhgUYD2kjCAOGM9S6nwFV Cv5j8iW61CtkKJTAhoEybKC1QsFykVSvGryiohvawEsVUuYw9KfUrToBRP4Pj+3rDoW9/N4nA7d YMYAcx+hr X-Google-Smtp-Source: AGHT+IGL4zYIulGp4iaokr9Mk6Vf5bL1yzLhXfqQ6fYi4JTaFaVze9pn8VxR4acFiOTlEUeXAYi+QyJyel71 X-Received: by 2002:a17:903:2311:b0:277:9193:f2ca with SMTP id d9443c01a7336-290c9cf35dbmr290206125ad.9.1761265827689; Thu, 23 Oct 2025 17:30:27 -0700 (PDT) Received: from postal.iol.unh.edu (postal.iol.unh.edu. [2606:4100:3880:1234::84]) by smtp-relay.gmail.com with ESMTPS id d9443c01a7336-2946dfe313fsm3852595ad.61.2025.10.23.17.30.27 (version=TLS1_2 cipher=ECDHE-ECDSA-AES128-GCM-SHA256 bits=128/128); Thu, 23 Oct 2025 17:30:27 -0700 (PDT) X-Relaying-Domain: iol.unh.edu Date: Thu, 23 Oct 2025 17:30:27 -0700 (PDT) Message-ID: <68fac8a3.170a0220.156271.346aSMTPIN_ADDED_MISSING@mx.google.com> Received: from [172.21.0.2] (unknown [172.18.0.240]) by postal.iol.unh.edu (Postfix) with ESMTP id C88BD6051830; Thu, 23 Oct 2025 20:30:26 -0400 (EDT) Subject: |SUCCESS| [GIT MASTER] 6edcec237e31fcdb848cca6c151ee7a5bf057c28 From: dpdklab@iol.unh.edu To: Test Report Cc: dpdk-test-reports@iol.unh.edu Content-Type: text/plain X-BeenThere: test-report@dpdk.org X-Mailman-Version: 2.1.29 Precedence: list List-Id: automatic DPDK test reports List-Unsubscribe: , List-Archive: List-Post: List-Help: List-Subscribe: , Errors-To: test-report-bounces@dpdk.org _Testing PASS_ Branch: dpdk 6edcec237e31fcdb848cca6c151ee7a5bf057c28 --> testing pass Upstream job id: Windows-Compile-DPDK-Native#31854 Test environment and result as below: +---------------------+--------------------+-------------------------+-------------------+----------------------+ | Environment | dpdk_meson_compile | dpdk_llvm_clang_compile | dpdk_msvc_compile | dpdk_mingw64_compile | +=====================+====================+=========================+===================+======================+ | Ubuntu 20.04 | PASS | SKIPPED | SKIPPED | SKIPPED | +---------------------+--------------------+-------------------------+-------------------+----------------------+ | FreeBSD 14.2 | PASS | SKIPPED | SKIPPED | SKIPPED | +---------------------+--------------------+-------------------------+-------------------+----------------------+ | Windows Server 2022 | SKIPPED | PASS | PASS | PASS | +---------------------+--------------------+-------------------------+-------------------+----------------------+ Ubuntu 20.04 Kernel: 4.19 Compiler: gcc gcc (Ubuntu 9.4.0-1ubuntu1~20.04.2) 9.4.0 FreeBSD 14.2 Kernel: 14.2-RELEASE Compiler: clang 18.1.6 Windows Server 2022 Kernel: 10.0.20348.2031 Compiler: clang 15.0.7, gcc 14.1.0 (MinGW), and MSVC VS 19.39.33521 To view detailed results, visit: https://lab.dpdk.org/results/dashboard/tarballs/35323/ UNH-IOL DPDK Community Lab To manage your email subscriptions, visit: https://lab.dpdk.org/results/dashboard/preferences/subscriptions/