From mboxrd@z Thu Jan 1 00:00:00 1970 Return-Path: Received: from mails.dpdk.org (mails.dpdk.org [217.70.189.124]) by inbox.dpdk.org (Postfix) with ESMTP id 761CD489BC for ; Fri, 24 Oct 2025 03:13:26 +0200 (CEST) Received: from mails.dpdk.org (localhost [127.0.0.1]) by mails.dpdk.org (Postfix) with ESMTP id 506ED40144; Fri, 24 Oct 2025 03:13:26 +0200 (CEST) Received: from mail-oo1-f99.google.com (mail-oo1-f99.google.com [209.85.161.99]) by mails.dpdk.org (Postfix) with ESMTP id D855A40144 for ; Fri, 24 Oct 2025 03:13:24 +0200 (CEST) Received: by mail-oo1-f99.google.com with SMTP id 006d021491bc7-65418f835a9so723495eaf.0 for ; Thu, 23 Oct 2025 18:13:24 -0700 (PDT) DKIM-Signature: v=1; a=rsa-sha256; c=relaxed/relaxed; d=iol.unh.edu; s=unh-iol; t=1761268404; x=1761873204; darn=dpdk.org; h=cc:to:from:subject:message-id:date:from:to:cc:subject:date :message-id:reply-to; bh=pS8CRJnpKnKsjAcBhMYiT+pDVIMLMylHyQix/Llns9k=; b=RJVvTGoXCOrxlVRd0tTUqUBxrbNB8TR4lc8he7ly11xYyum1v/9fa7I6QhphjNMso1 N/O+jQvSnfKWE8nhTue5a8BlL/HsTuzmxT+tIuHVoOVxqPpgfSwJ08KOCcQl5dwmuUHP hmJ59Y2+TYVTA8tHI8e8ZmIocSI0kfqeEBwfI= X-Google-DKIM-Signature: v=1; a=rsa-sha256; c=relaxed/relaxed; d=1e100.net; s=20230601; t=1761268404; x=1761873204; h=cc:to:from:subject:message-id:date:x-gm-message-state:from:to:cc :subject:date:message-id:reply-to; bh=pS8CRJnpKnKsjAcBhMYiT+pDVIMLMylHyQix/Llns9k=; b=I+wVusbDWeKLYgQBdcL2Q6V7bh2C34gyMNmKaeYTFDjhrOxb+56cEyL8O/JEep2jlR DKxSoRxjb09MDdl9GhAInGfxoL2yy87Yix70d9XeC7B78LlW30nMPqQFgu7TzHIoPK5D 5PT4GDvcwUtJN9jNmVC08j/9sOCqDBEz6PxP7j28YMJtyF4knT8emDFpz1Me8XjOKXj4 EWc7+K25r/SYwuPMu5441TRpsPNZ7wADhBU3FX1JSbp4FCZF2lIrjjWXFi9Js+roho7k eWkpqgYaDU5dR4ZfNzVYlQQfxVp6XPud0oe7nON9WmKHOx554DX324heg3iRWHpM66v0 BpCw== X-Gm-Message-State: AOJu0YxcJ7FuoiuPHbm71tVI/S7v7ZcumEcN4aYuB4UvD9o9GzWFktvL hjEVGv5Kkd7eN4uZVd2dUCM5xn29iQmtPcGQchpb5MBp8uO4OUFgA4Tonh2c/0/KS2RP6mPil0h tNxE85agng1mppJz9z+xVl+2yKaW6TXFoOSXjaKgRgHTMiCfoA8ZUTSvXHTJl X-Gm-Gg: ASbGnct7c3qOAUyKN6vT32YzaTneCK6CUhMO7J06+MZ7pwR09sVMbdLcY7/aFfIyybK HyiKtufjGWH2Gk12VwEICJCMXHPF7OPcB1BWvS/YEqVOJQY7BPpKT+GFiQuBaW2ng3M+78iGCDj MfBhNrhSXksDJzMQCQzeIFjan4HEdrUKV3NwEyY2D+SH0RXBMcm1zO4L7fueAHYHXex3iUwN4NV V6XwVef0abuINbYNTRTiy1VEi2ORCsC8T9YrLfcv6YP8KeIq4IgGSGuBs6WzorNmoELOY9iKuj7 zSN8iflf/KTaQ57VEkCQwO+T/WLYHBChUUECfOUEYMxH/sKoyO0AvM13yc2Ze2P6S/BLLiATkbg XvDWDIWzu X-Google-Smtp-Source: AGHT+IGXzBcVttel9fCIkt4cQo88EgKVbdNq89OohPoDUIPjazgVWyoHlN0hS7NJ+vo3CCs+sXrgYn86Wo8+ X-Received: by 2002:a05:6820:180d:b0:650:1357:49fa with SMTP id 006d021491bc7-651c7e21847mr10751094eaf.3.1761268403934; Thu, 23 Oct 2025 18:13:23 -0700 (PDT) Received: from postal.iol.unh.edu (postal.iol.unh.edu. [2606:4100:3880:1234::84]) by smtp-relay.gmail.com with ESMTPS id 46e09a7af769-7c51b048797sm322596a34.7.2025.10.23.18.13.23 (version=TLS1_2 cipher=ECDHE-ECDSA-AES128-GCM-SHA256 bits=128/128); Thu, 23 Oct 2025 18:13:23 -0700 (PDT) X-Relaying-Domain: iol.unh.edu Date: Thu, 23 Oct 2025 18:13:23 -0700 (PDT) Message-ID: <68fad2b3.050a0220.62cd5.f850SMTPIN_ADDED_MISSING@mx.google.com> Received: from [172.21.0.2] (unknown [172.18.0.240]) by postal.iol.unh.edu (Postfix) with ESMTP id 1B7F36051830; Thu, 23 Oct 2025 21:13:23 -0400 (EDT) Subject: |SUCCESS| [GIT MASTER] 6edcec237e31fcdb848cca6c151ee7a5bf057c28 From: dpdklab@iol.unh.edu To: Test Report Cc: dpdk-test-reports@iol.unh.edu Content-Type: text/plain X-BeenThere: test-report@dpdk.org X-Mailman-Version: 2.1.29 Precedence: list List-Id: automatic DPDK test reports List-Unsubscribe: , List-Archive: List-Post: List-Help: List-Subscribe: , Errors-To: test-report-bounces@dpdk.org _Testing PASS_ Branch: dpdk 6edcec237e31fcdb848cca6c151ee7a5bf057c28 --> testing pass Upstream job id: Generic-Unit-Test-DPDK#384767 Test environment and result as below: +-------------------------------+----------------+ | Environment | dpdk_unit_test | +===============================+================+ | CentOS Stream 9 | PASS | +-------------------------------+----------------+ | Fedora Linux 41 | PASS | +-------------------------------+----------------+ | CentOS Stream 10 | PASS | +-------------------------------+----------------+ | Arch Linux 20250613.0.365270 | PASS | +-------------------------------+----------------+ | Debian GNU/Linux 12 | PASS | +-------------------------------+----------------+ | Fedora Linux 42 | PASS | +-------------------------------+----------------+ | Fedora Linux 40 | PASS | +-------------------------------+----------------+ | Ubuntu 22.04 | PASS | +-------------------------------+----------------+ | Ubuntu 20.04 | PASS | +-------------------------------+----------------+ | Red Hat Enterprise Linux 8.10 | PASS | +-------------------------------+----------------+ | Red Hat Enterprise Linux 9.5 | PASS | +-------------------------------+----------------+ | Ubuntu 24.04 | PASS | +-------------------------------+----------------+ | Windows Server 2022 | PASS | +-------------------------------+----------------+ CentOS Stream 9 Kernel: 5.15 Compiler: gcc gcc (GCC) 11.5.0 20240719 (Red Hat 11.5.0-11) Fedora Linux 41 Kernel: 5.15 Compiler: clang gcc (GCC) 14.3.1 20250523 (Red Hat 14.3.1-1) CentOS Stream 10 Kernel: 5.15 Compiler: gcc gcc (GCC) 14.2.1 20250110 (Red Hat 14.2.1-8) Arch Linux 20250613.0.365270 Kernel: 5.15 Compiler: gcc gcc (GCC) 15.1.1 20250425 Debian GNU/Linux 12 Kernel: 5.15 Compiler: gcc gcc (Debian 12.2.0-14+deb12u1) 12.2.0 Fedora Linux 42 Kernel: 5.15 Compiler: gcc gcc (GCC) 15.2.1 20250808 (Red Hat 15.2.1-1) Fedora Linux 40 Kernel: 5.15 Compiler: clang gcc (GCC) 14.2.1 20240912 (Red Hat 14.2.1-3) Ubuntu 22.04 Kernel: 5.15 Compiler: gcc gcc (Ubuntu 11.4.0-1ubuntu1~22.04) 11.4.0 Ubuntu 20.04 Kernel: 5.15 Compiler: gcc gcc (Ubuntu 9.4.0-1ubuntu1~20.04.2) 9.4.0 Red Hat Enterprise Linux 8.10 Kernel: 5.15 Compiler: gcc gcc (GCC) 8.5.0 20210514 (Red Hat 8.5.0-22) Red Hat Enterprise Linux 9.5 Kernel: 5.15 Compiler: gcc gcc (GCC) 11.5.0 20240719 (Red Hat 11.5.0-2) Ubuntu 24.04 Kernel: 5.15 Compiler: gcc gcc (Ubuntu 13.3.0-6ubuntu2~24.04) 13.3.0 Windows Server 2022 Kernel: 10.0.20348.2031 Compiler: clang 15.0.7, gcc 14.1.0 (MinGW), and MSVC VS 19.39.33521 To view detailed results, visit: https://lab.dpdk.org/results/dashboard/tarballs/35323/ UNH-IOL DPDK Community Lab To manage your email subscriptions, visit: https://lab.dpdk.org/results/dashboard/preferences/subscriptions/