From mboxrd@z Thu Jan 1 00:00:00 1970 Return-Path: Received: from mails.dpdk.org (mails.dpdk.org [217.70.189.124]) by inbox.dpdk.org (Postfix) with ESMTP id 938A5489BC for ; Fri, 24 Oct 2025 03:38:38 +0200 (CEST) Received: from mails.dpdk.org (localhost [127.0.0.1]) by mails.dpdk.org (Postfix) with ESMTP id 65B7B40144; Fri, 24 Oct 2025 03:38:38 +0200 (CEST) Received: from mail-pj1-f99.google.com (mail-pj1-f99.google.com [209.85.216.99]) by mails.dpdk.org (Postfix) with ESMTP id 7B69A40144 for ; Fri, 24 Oct 2025 03:38:37 +0200 (CEST) Received: by mail-pj1-f99.google.com with SMTP id 98e67ed59e1d1-33255011eafso1625938a91.1 for ; Thu, 23 Oct 2025 18:38:37 -0700 (PDT) DKIM-Signature: v=1; a=rsa-sha256; c=relaxed/relaxed; d=iol.unh.edu; s=unh-iol; t=1761269916; x=1761874716; darn=dpdk.org; h=references:in-reply-to:cc:to:from:subject:message-id:date:from:to :cc:subject:date:message-id:reply-to; bh=hTizA7CwQTRnI0S24Y9VYluIgL0qzWzJXgbh/HRwj1c=; b=cbyQFqrakkJsJxHOMwwa30fpmXDGldmqhNy0e5N5TbUV7CAuXYDr6Cth6pANHAVev9 nlv9/FzHiW+aRPrU2XFKVXcdDJJcIN4P4k/rhGUGYX+secg2U+ZTATAH47O+J0Dao7yt 9OBZNV0dZBYJ5S/iP/KZIKIGmJB8YVdthDojc= X-Google-DKIM-Signature: v=1; a=rsa-sha256; c=relaxed/relaxed; d=1e100.net; s=20230601; t=1761269916; x=1761874716; h=references:in-reply-to:cc:to:from:subject:message-id:date :x-gm-message-state:from:to:cc:subject:date:message-id:reply-to; bh=hTizA7CwQTRnI0S24Y9VYluIgL0qzWzJXgbh/HRwj1c=; b=M4HvxR9T9NoouQcX19eORAuROtR9goChAif/GzuRQrX+/lim/DIpEVaoFI9t55c3bC sAvoY3XU5FpJEAVrEp0Cf55e+cdam04p5HGaytPJ98+p9D0vwnDSObHTf+4K/8YgvEJj UPMy8L4YfS+Gr1a/DivcW6R6C3BY4yJuTPXzo49JqaNlxWYMFOf48+YXVqsIf+Sa5UZ6 DKyB0L+XauD5BetmLqmP0dYSwjGJvtKPuaHoAbXRB2NGxIA6z6IhY8vnAgzuuM16txT1 saWkFN8c8LQqaiGXQkqNEasiSB3JBbHdoH94wZxVCePvDjkre/eDdPU9kWJkg972+ZEC N0tw== X-Gm-Message-State: AOJu0YwPj6yNdAAKv7ppkYJWCRLCoMXSLHfkX1R/Oz57RsOq9t4wfTrl SnHuUV4XhHj9TnbL72jOPJucd9F5LOlCoI7EggJpT1JMDP0Ux/JLgrS9Hl5JCQfk9XzuFYKwCle XLobSKfvkOW6zWIWYAPjGkkNy3CRzVEFBrk8QlTLSTl4D X-Gm-Gg: ASbGncu6394EbceNnJ1WLItDqd1yVBYjwg6ZUpQsOZ4zxPLfjHjesklv8PJ8p8xNj1R pO41isRzz2ohms7mhIfkOiUxRT5uqNYPfHmiYXTNs7vXIqTS3SkeOFZjqEM7FE3l2nN82hhcVUo ZqROggo729KtQ9LgKvjHA6a6ufJM7GMl31Ue/ty8DGWZ9FfMeENR48AuxyZZeXMEoTcHdubC0/a fBJMIAznZxANWCc7kRTEYZpH2vMvnr8apO68h4zQ/YtbAlZu8mV03AxNQx2yLOoLSQWZh2dgCz5 +dfvmsgSKNGPJR8cR5i4K5U704fVf6x1ANzYpECOevV0gw1hUrH6mIPm2HH459jxQ6hTg7OpueU KvQd6CyO/FyU+E6TO7socc2u/9hXDMr0= X-Google-Smtp-Source: AGHT+IGHJQyREpSaQONq1d8qlM15kGvFPd48dBbE/17P1qwxhVVCLklCOCjCkFvntmk490tEVD6nuL/hw9RX X-Received: by 2002:a17:90b:4d0b:b0:33d:a0fd:257b with SMTP id 98e67ed59e1d1-33da0fd264amr21268210a91.36.1761269916333; Thu, 23 Oct 2025 18:38:36 -0700 (PDT) Received: from postal.iol.unh.edu (postal.iol.unh.edu. [132.177.123.84]) by smtp-relay.gmail.com with ESMTPS id 98e67ed59e1d1-33e224730e8sm589075a91.5.2025.10.23.18.38.36 (version=TLS1_2 cipher=ECDHE-ECDSA-AES128-GCM-SHA256 bits=128/128); Thu, 23 Oct 2025 18:38:36 -0700 (PDT) X-Relaying-Domain: iol.unh.edu Date: Thu, 23 Oct 2025 18:38:36 -0700 (PDT) Message-ID: <68fad89c.170a0220.3af747.c8e8SMTPIN_ADDED_MISSING@mx.google.com> Received: from [172.21.0.2] (unknown [172.18.0.240]) by postal.iol.unh.edu (Postfix) with ESMTP id 04E6860003E8; Thu, 23 Oct 2025 21:38:35 -0400 (EDT) Subject: |SUCCESS| pw158009 [PATCH] [v5] mbuf: optimize segment prefree From: dpdklab@iol.unh.edu To: Test Report Cc: dpdk-test-reports@iol.unh.edu In-Reply-To: <20251023080136.165513-1-mb@smartsharesystems.com> References: <20251023080136.165513-1-mb@smartsharesystems.com> Content-Type: text/plain X-BeenThere: test-report@dpdk.org X-Mailman-Version: 2.1.29 Precedence: list List-Id: automatic DPDK test reports List-Unsubscribe: , List-Archive: List-Post: List-Help: List-Subscribe: , Errors-To: test-report-bounces@dpdk.org Test-Label: iol-unit-arm64-testing Test-Status: SUCCESS http://dpdk.org/patch/158009 _Testing PASS_ Submitter: Morten Brorup Date: Thursday, October 23 2025 08:01:36 DPDK git baseline: Repo:dpdk Branch: master CommitID:2863cbd9ee6dabee2b183382d298f4054ba3e8a2 158009 --> testing pass Upstream job id: Generic-Unit-Test-DPDK#384431 Test environment and result as below: +------------------------------+---------------------------+------------------------------+--------------+----------------+ | Environment | cryptodev_sw_zuc_autotest | cryptodev_sw_snow3g_autotest | lpm_autotest | dpdk_unit_test | +==============================+===========================+==============================+==============+================+ | Debian 12 (arm) | PASS | PASS | SKIPPED | SKIPPED | +------------------------------+---------------------------+------------------------------+--------------+----------------+ | Ubuntu 20.04 | SKIPPED | SKIPPED | PASS | PASS | +------------------------------+---------------------------+------------------------------+--------------+----------------+ | CentOS Stream 9 | SKIPPED | SKIPPED | SKIPPED | PASS | +------------------------------+---------------------------+------------------------------+--------------+----------------+ | CentOS Stream 10 | SKIPPED | SKIPPED | SKIPPED | PASS | +------------------------------+---------------------------+------------------------------+--------------+----------------+ | Debian GNU/Linux 12 | SKIPPED | SKIPPED | SKIPPED | PASS | +------------------------------+---------------------------+------------------------------+--------------+----------------+ | Fedora Linux 40 | SKIPPED | SKIPPED | SKIPPED | PASS | +------------------------------+---------------------------+------------------------------+--------------+----------------+ | Fedora Linux 41 | SKIPPED | SKIPPED | SKIPPED | PASS | +------------------------------+---------------------------+------------------------------+--------------+----------------+ | Fedora Linux 42 | SKIPPED | SKIPPED | SKIPPED | PASS | +------------------------------+---------------------------+------------------------------+--------------+----------------+ | Ubuntu 24.04 | SKIPPED | SKIPPED | SKIPPED | PASS | +------------------------------+---------------------------+------------------------------+--------------+----------------+ | Red Hat Enterprise Linux 9.5 | SKIPPED | SKIPPED | SKIPPED | PASS | +------------------------------+---------------------------+------------------------------+--------------+----------------+ | Ubuntu 22.04 | SKIPPED | SKIPPED | SKIPPED | PASS | +------------------------------+---------------------------+------------------------------+--------------+----------------+ Debian 12 (arm) Kernel: Depends on container host Compiler: gcc (Debian 12.2.0-14) 12.2.0 Ubuntu 20.04 Kernel: 5.4 Compiler: gcc gcc (Ubuntu 9.4.0-1ubuntu1~20.04.2) 9.4.0 CentOS Stream 9 Kernel: 5.4 Compiler: gcc gcc (GCC) 11.5.0 20240719 (Red Hat 11.5.0-11) CentOS Stream 10 Kernel: 5.4 Compiler: gcc gcc (GCC) 14.2.1 20250110 (Red Hat 14.2.1-8) Debian GNU/Linux 12 Kernel: 5.4 Compiler: gcc gcc (Debian 12.2.0-14+deb12u1) 12.2.0 Fedora Linux 40 Kernel: 5.4 Compiler: gcc gcc (GCC) 14.2.1 20240912 (Red Hat 14.2.1-3) Fedora Linux 41 Kernel: 5.4 Compiler: clang gcc (GCC) 14.3.1 20250523 (Red Hat 14.3.1-1) Fedora Linux 42 Kernel: 5.4 Compiler: gcc gcc (GCC) 15.2.1 20250808 (Red Hat 15.2.1-1) Ubuntu 24.04 Kernel: 5.4 Compiler: gcc gcc (Ubuntu 13.3.0-6ubuntu2~24.04) 13.3.0 Red Hat Enterprise Linux 9.5 Kernel: 5.4 Compiler: gcc gcc (GCC) 11.5.0 20240719 (Red Hat 11.5.0-2) Ubuntu 22.04 Kernel: 5.4 Compiler: gcc gcc (Ubuntu 11.4.0-1ubuntu1~22.04) 11.4.0 To view detailed results, visit: https://lab.dpdk.org/results/dashboard/patchsets/34354/ UNH-IOL DPDK Community Lab To manage your email subscriptions, visit: https://lab.dpdk.org/results/dashboard/preferences/subscriptions/