From mboxrd@z Thu Jan 1 00:00:00 1970 Return-Path: Received: from mails.dpdk.org (mails.dpdk.org [217.70.189.124]) by inbox.dpdk.org (Postfix) with ESMTP id 970DD489BD for ; Fri, 24 Oct 2025 04:52:39 +0200 (CEST) Received: from mails.dpdk.org (localhost [127.0.0.1]) by mails.dpdk.org (Postfix) with ESMTP id 6B58640144; Fri, 24 Oct 2025 04:52:39 +0200 (CEST) Received: from mail-io1-f100.google.com (mail-io1-f100.google.com [209.85.166.100]) by mails.dpdk.org (Postfix) with ESMTP id 8389240144 for ; Fri, 24 Oct 2025 04:52:37 +0200 (CEST) Received: by mail-io1-f100.google.com with SMTP id ca18e2360f4ac-938de0df471so134494739f.2 for ; Thu, 23 Oct 2025 19:52:37 -0700 (PDT) DKIM-Signature: v=1; a=rsa-sha256; c=relaxed/relaxed; d=iol.unh.edu; s=unh-iol; t=1761274357; x=1761879157; darn=dpdk.org; h=references:in-reply-to:cc:to:from:subject:message-id:date:from:to :cc:subject:date:message-id:reply-to; bh=yecwrRe8p+v8DCp022TianZ735jEpuKH5xIofkuM/i4=; b=Pqe79ygsk2CLCZ9DZXPPZ+9A1j5Tnx2eZCjSVPZV2+fJTrkcB6kXcOjST0SRlQhgXV LHzPUgFILFKa5nWU+EVDYGwSXmCqKiJJgzFcxCSpNT9bHi0GYk6NUQ7N1uSLaVjjODbD PAU5q10rd2zp6yODcjF7pUxrL3QuUx5de79cg= X-Google-DKIM-Signature: v=1; a=rsa-sha256; c=relaxed/relaxed; d=1e100.net; s=20230601; t=1761274357; x=1761879157; h=references:in-reply-to:cc:to:from:subject:message-id:date :x-gm-message-state:from:to:cc:subject:date:message-id:reply-to; bh=yecwrRe8p+v8DCp022TianZ735jEpuKH5xIofkuM/i4=; b=oIzdt9zbJQNZeBsEdBgwn15dKy6IYY0iprXemOVVxIn+HC9usqDuix/2PpSjLCp7Ie zYyO2B1Bc8XY4bZxd8hvj0HPRLfuE/gWCyWn94JRIYNbzTD5I8ZDFPMRj4cFKkBY+VTe YH2ozGQR4Z9Ymm5S6KFwmzwcDqt5rXOQobmqwL3QYX4xtfclldjoaTla0oafb+LsSGau Zg5KyZrsahuYtB2I5eCw6IXVRiDM5hCXvbuXdCS77335Z81roFxzmJoF5ZbhMcR/uKQ+ ZToQ2uGwY/ofx24PYk6NeE4+S1Uq/xBwkJVKGpCABUSzP6b/qN9DSCrWzZBTVdO9v6aF c5og== X-Gm-Message-State: AOJu0Yyrtol8vAYBIFedeHx7VNW/0axn4ZN/OLSgM/Ee/SICGw1vsAwE 0RE3biKDTQiGncfiH6o5vgLqy/cD6umhCdH/gROnW3kbD/QAKyJ+i4AWJuW0UcgxgMO2VFrKtYg 7UZC1+pNN/bxd3k1HHpSLsTstLq1Td/FdMnIuJTdptb8C X-Gm-Gg: ASbGncv8rnmuIdH0MtvWhq9zdIBHCobTseT6cAQLZ78dgkVaUVz86/5cZnZGGDP+QjE sbkr/8m07kv0f5GFuQh40l0tUgYClewV9TXqdcHe+Ct+XxNL+CzR0AFrruC7qufjkrlwR5u27/B XtPBDGm4dOYLMWlHRbgudwVM59Re2WgYW4bLZKZ9fr1yQjADm64yylUM31lMkzxWFDGkarO9v67 Ba10b1C4ue5D7KEpEVEK1zIgv6X5B4T6mpRRe6mtbAB2jYj/KwFFSU/0n/Sfz40AQtaqBeS4dkH WXQJWIZo1UlKzKI/OQv0ygCJZ9r1BUBqo8GlIi6XyHbvWNv4FqOVXxqCYDBkHVWyuIbQg2h6Iv+ HnntRSwM7xSRVKK8GIslqQCEV8ZWalOc= X-Google-Smtp-Source: AGHT+IGwMyX4DPWsTdne2MryWzO9ZAvp7euh38Svmma3TgiZ8VPu76rUiPE/goK8JKXL+Kr93sEnMvg1NTIa X-Received: by 2002:a05:6e02:3805:b0:430:c90d:10ae with SMTP id e9e14a558f8ab-431da76238amr84244135ab.32.1761274356267; Thu, 23 Oct 2025 19:52:36 -0700 (PDT) Received: from postal.iol.unh.edu (postal.iol.unh.edu. [132.177.123.84]) by smtp-relay.gmail.com with ESMTPS id e9e14a558f8ab-431dbc03752sm3411835ab.10.2025.10.23.19.52.36 (version=TLS1_2 cipher=ECDHE-ECDSA-AES128-GCM-SHA256 bits=128/128); Thu, 23 Oct 2025 19:52:36 -0700 (PDT) X-Relaying-Domain: iol.unh.edu Date: Thu, 23 Oct 2025 19:52:36 -0700 (PDT) Message-ID: <68fae9f4.050a0220.34d300.0c4fSMTPIN_ADDED_MISSING@mx.google.com> Received: from [172.21.0.3] (unknown [172.18.0.240]) by postal.iol.unh.edu (Postfix) with ESMTP id A3BD16051830; Thu, 23 Oct 2025 22:52:35 -0400 (EDT) Subject: |SUCCESS| pw158011 [PATCH] [v3] net/vmxnet3: disable RSS for single From: dpdklab@iol.unh.edu To: Test Report Cc: dpdk-test-reports@iol.unh.edu, Stephen Hemminger In-Reply-To: <20251023083019.18792-1-amiyaranjan.mohakud@gmail.com> References: <20251023083019.18792-1-amiyaranjan.mohakud@gmail.com> Content-Type: text/plain X-BeenThere: test-report@dpdk.org X-Mailman-Version: 2.1.29 Precedence: list List-Id: automatic DPDK test reports List-Unsubscribe: , List-Archive: List-Post: List-Help: List-Subscribe: , Errors-To: test-report-bounces@dpdk.org Test-Label: iol-compile-arm64-testing Test-Status: SUCCESS http://dpdk.org/patch/158011 _Testing PASS_ Submitter: Amiya Ranjan Mohakud Date: Thursday, October 23 2025 08:30:19 DPDK git baseline: Repo:dpdk-next-net Branch: master CommitID:4c4055bdd19f919795f83a01faae9fc267570d7f 158011 --> testing pass Upstream job id: Generic-DPDK-Compile-Meson#437029 Test environment and result as below: +------------------------------+--------------------+ | Environment | dpdk_meson_compile | +==============================+====================+ | Ubuntu 20.04 | PASS | +------------------------------+--------------------+ | Red Hat Enterprise Linux 9.5 | PASS | +------------------------------+--------------------+ | Debian GNU/Linux 12 | PASS | +------------------------------+--------------------+ | Fedora Linux 42 | PASS | +------------------------------+--------------------+ | Ubuntu 22.04 | PASS | +------------------------------+--------------------+ | Ubuntu 24.04 | PASS | +------------------------------+--------------------+ | CentOS Stream 9 | PASS | +------------------------------+--------------------+ | CentOS Stream 10 | PASS | +------------------------------+--------------------+ Ubuntu 20.04 Kernel: 5.4 Compiler: gcc gcc (Ubuntu 9.4.0-1ubuntu1~20.04.2) 9.4.0 Red Hat Enterprise Linux 9.5 Kernel: 5.4 Compiler: gcc gcc (GCC) 11.5.0 20240719 (Red Hat 11.5.0-2) Debian GNU/Linux 12 Kernel: 5.4 Compiler: gcc gcc (Debian 12.2.0-14+deb12u1) 12.2.0 Fedora Linux 42 Kernel: 5.4 Compiler: gcc gcc (GCC) 15.2.1 20250808 (Red Hat 15.2.1-1) Ubuntu 22.04 Kernel: 5.4 Compiler: gcc gcc (Ubuntu 11.4.0-1ubuntu1~22.04) 11.4.0 Ubuntu 24.04 Kernel: 5.4 Compiler: gcc gcc (Ubuntu 13.3.0-6ubuntu2~24.04) 13.3.0 CentOS Stream 9 Kernel: 5.4 Compiler: gcc gcc (GCC) 11.5.0 20240719 (Red Hat 11.5.0-11) CentOS Stream 10 Kernel: 5.4 Compiler: gcc gcc (GCC) 14.2.1 20250110 (Red Hat 14.2.1-8) To view detailed results, visit: https://lab.dpdk.org/results/dashboard/patchsets/34355/ UNH-IOL DPDK Community Lab To manage your email subscriptions, visit: https://lab.dpdk.org/results/dashboard/preferences/subscriptions/