From mboxrd@z Thu Jan 1 00:00:00 1970 Return-Path: Received: from mails.dpdk.org (mails.dpdk.org [217.70.189.124]) by inbox.dpdk.org (Postfix) with ESMTP id DDEEC489BD for ; Fri, 24 Oct 2025 04:55:03 +0200 (CEST) Received: from mails.dpdk.org (localhost [127.0.0.1]) by mails.dpdk.org (Postfix) with ESMTP id B87A940144; Fri, 24 Oct 2025 04:55:03 +0200 (CEST) Received: from mail-pf1-f225.google.com (mail-pf1-f225.google.com [209.85.210.225]) by mails.dpdk.org (Postfix) with ESMTP id 0463140144 for ; Fri, 24 Oct 2025 04:55:01 +0200 (CEST) Received: by mail-pf1-f225.google.com with SMTP id d2e1a72fcca58-781206cce18so1609499b3a.0 for ; Thu, 23 Oct 2025 19:55:01 -0700 (PDT) DKIM-Signature: v=1; a=rsa-sha256; c=relaxed/relaxed; d=iol.unh.edu; s=unh-iol; t=1761274501; x=1761879301; darn=dpdk.org; h=references:in-reply-to:cc:to:from:subject:message-id:date:from:to :cc:subject:date:message-id:reply-to; bh=j7kgc2eAGfUVYMGfrD/tvOgf5dKcD7QKrEKDoVBSewk=; b=hyrdHJb8s2xGZNiFCjOV06YWgfFe+Aw+W1gR5r27bire6W25XTn2DmCFwr7HccJ7Nz 3hDiXlOKwDcyj6OW5UX5wUiJdtcg6hNfS27ShdIiSibJAu7lBXL+E8OkB/8OduEMpgW9 jzufDDoXcQT2ddW2HrHlkKO6fa1RXFOHixe9g= X-Google-DKIM-Signature: v=1; a=rsa-sha256; c=relaxed/relaxed; d=1e100.net; s=20230601; t=1761274501; x=1761879301; h=references:in-reply-to:cc:to:from:subject:message-id:date :x-gm-message-state:from:to:cc:subject:date:message-id:reply-to; bh=j7kgc2eAGfUVYMGfrD/tvOgf5dKcD7QKrEKDoVBSewk=; b=r2yWsHqmZR70wtFc96aB3WzrGTH4s6XBtVreRcHDVJCcbObXU4MI4NHWtgZZYOX1Pp k2R4zG7/Ma2847PSxQHPyGtfOsUDU+564UYxkxFecJi92lkUBZVvT1i/l6zhttzKfRQq Usto9N1TCP99aEPV1PtbvR1r7IPxlnCt2HcLKVmh6HoLQsEjqVdVD7SEGq9fSD6cOcCV 8xYqq2HZTQfBEaG8VD52qHqjmxBQUmTNX3rwc3oxC8HVVP3fqsgKA7esjhZCgl7hOezq 5Ui/Rdf8ntgk1hbgH71Y7QlVMN1TU84h/s70VRtj4jqisaU2RuFyVnzEpJsc6vneZ4Gj f8tA== X-Gm-Message-State: AOJu0Yx7VjlcHuJXzqzK9my2tljeMLItxULGD4664aUOk9bgfUCr8gq+ nh+pnW30Lwb3Uh61S36XtwDNYw2ugAs7W0GOXQBPP94xaU8IaDDTMYBeWMPFi53mtwdGRN4Gdv9 IrUPhww9DBC+CXh6nCAd0TNZ0XTcHvfFWxUYFsc+C7QKQjcNDrSufEIaJOhsh X-Gm-Gg: ASbGnct+cm7ciGSZ+FbPVJXZxX7V/2UIVojzgjXC2L2rW+wAyzHAlSt3AGw2bnhw73R LavFPpsItWfZ5peYq2M92Xqb5/kjNacDuw/MCN/KJzMoPfStldCOYFdJfbSK+AbA1rODuIgBfv2 VhxAiCtA19y+rlu53t7B0r36zCe+Bg7TBad7QHTMppqS82A22pMw8gWXXmvEniK0E8LUbzMNFDz RWIFODkSAHefjqblhQ9jfmUctrL447f4mcwTJBrd7ZoTwmoGbmfPuWjk75BknTO1IlhtOaxq3WE jw0BO4s6k/1klr7aby5hDudZDxJebR0qROkiHMQWXprfwwV7uVTc5QFWi25GNSV0I5qmh5qmQsZ N5U0RSfF+ X-Google-Smtp-Source: AGHT+IE8z058/4kVPpZOCuZmCZ6LKfVqiO3WpJReUfLsc43eglEcJDihpjPmAYmOKcJoAlZiiBnp3pfhn+g2 X-Received: by 2002:a62:e811:0:b0:77f:2fd2:e3bd with SMTP id d2e1a72fcca58-7a284c60e44mr819630b3a.7.1761274500977; Thu, 23 Oct 2025 19:55:00 -0700 (PDT) Received: from postal.iol.unh.edu (postal.iol.unh.edu. [2606:4100:3880:1234::84]) by smtp-relay.gmail.com with ESMTPS id d2e1a72fcca58-7a274b31415sm288058b3a.7.2025.10.23.19.55.00 (version=TLS1_2 cipher=ECDHE-ECDSA-AES128-GCM-SHA256 bits=128/128); Thu, 23 Oct 2025 19:55:00 -0700 (PDT) X-Relaying-Domain: iol.unh.edu Date: Thu, 23 Oct 2025 19:55:00 -0700 (PDT) Message-ID: <68faea84.a70a0220.ba557.e2f8SMTPIN_ADDED_MISSING@mx.google.com> Received: from [172.21.0.3] (unknown [172.18.0.240]) by postal.iol.unh.edu (Postfix) with ESMTP id 906056051830; Thu, 23 Oct 2025 22:54:59 -0400 (EDT) Subject: |SUCCESS| pw158009 [PATCH] [v5] mbuf: optimize segment prefree From: dpdklab@iol.unh.edu To: Test Report Cc: dpdk-test-reports@iol.unh.edu In-Reply-To: <20251023080136.165513-1-mb@smartsharesystems.com> References: <20251023080136.165513-1-mb@smartsharesystems.com> Content-Type: text/plain X-BeenThere: test-report@dpdk.org X-Mailman-Version: 2.1.29 Precedence: list List-Id: automatic DPDK test reports List-Unsubscribe: , List-Archive: List-Post: List-Help: List-Subscribe: , Errors-To: test-report-bounces@dpdk.org Test-Label: iol-compile-arm64-testing Test-Status: SUCCESS http://dpdk.org/patch/158009 _Testing PASS_ Submitter: Morten Brorup Date: Thursday, October 23 2025 08:01:36 DPDK git baseline: Repo:dpdk Branch: master CommitID:2863cbd9ee6dabee2b183382d298f4054ba3e8a2 158009 --> testing pass Upstream job id: Generic-DPDK-Compile-Meson#437018 Test environment and result as below: +------------------------------+--------------------+ | Environment | dpdk_meson_compile | +==============================+====================+ | Red Hat Enterprise Linux 9.5 | PASS | +------------------------------+--------------------+ | Ubuntu 20.04 | PASS | +------------------------------+--------------------+ | Fedora Linux 42 | PASS | +------------------------------+--------------------+ | Debian GNU/Linux 12 | PASS | +------------------------------+--------------------+ | Ubuntu 22.04 | PASS | +------------------------------+--------------------+ | Ubuntu 24.04 | PASS | +------------------------------+--------------------+ | CentOS Stream 9 | PASS | +------------------------------+--------------------+ | CentOS Stream 10 | PASS | +------------------------------+--------------------+ Red Hat Enterprise Linux 9.5 Kernel: 5.4 Compiler: gcc gcc (GCC) 11.5.0 20240719 (Red Hat 11.5.0-2) Ubuntu 20.04 Kernel: 5.15 Compiler: aarch64-linux-gnu-gcc gcc (Ubuntu 9.4.0-1ubuntu1~20.04.2) 9.4.0 Fedora Linux 42 Kernel: 5.4 Compiler: gcc gcc (GCC) 15.2.1 20250808 (Red Hat 15.2.1-1) Debian GNU/Linux 12 Kernel: 5.4 Compiler: gcc gcc (Debian 12.2.0-14+deb12u1) 12.2.0 Ubuntu 22.04 Kernel: 5.4 Compiler: gcc gcc (Ubuntu 11.4.0-1ubuntu1~22.04) 11.4.0 Ubuntu 24.04 Kernel: 5.4 Compiler: gcc gcc (Ubuntu 13.3.0-6ubuntu2~24.04) 13.3.0 CentOS Stream 9 Kernel: 5.4 Compiler: gcc gcc (GCC) 11.5.0 20240719 (Red Hat 11.5.0-11) CentOS Stream 10 Kernel: 5.4 Compiler: gcc gcc (GCC) 14.2.1 20250110 (Red Hat 14.2.1-8) To view detailed results, visit: https://lab.dpdk.org/results/dashboard/patchsets/34354/ UNH-IOL DPDK Community Lab To manage your email subscriptions, visit: https://lab.dpdk.org/results/dashboard/preferences/subscriptions/