From mboxrd@z Thu Jan 1 00:00:00 1970 Return-Path: Received: from mails.dpdk.org (mails.dpdk.org [217.70.189.124]) by inbox.dpdk.org (Postfix) with ESMTP id D4111489BD for ; Fri, 24 Oct 2025 04:55:13 +0200 (CEST) Received: from mails.dpdk.org (localhost [127.0.0.1]) by mails.dpdk.org (Postfix) with ESMTP id CC36040144; Fri, 24 Oct 2025 04:55:13 +0200 (CEST) Received: from mail-pg1-f226.google.com (mail-pg1-f226.google.com [209.85.215.226]) by mails.dpdk.org (Postfix) with ESMTP id 80D1F40144 for ; Fri, 24 Oct 2025 04:55:12 +0200 (CEST) Received: by mail-pg1-f226.google.com with SMTP id 41be03b00d2f7-b550a522a49so1203775a12.2 for ; Thu, 23 Oct 2025 19:55:12 -0700 (PDT) DKIM-Signature: v=1; a=rsa-sha256; c=relaxed/relaxed; d=iol.unh.edu; s=unh-iol; t=1761274511; x=1761879311; darn=dpdk.org; h=references:in-reply-to:cc:to:from:subject:message-id:date:from:to :cc:subject:date:message-id:reply-to; bh=QHUxiENXh2z/9zIgFM9xM6qTcNzOrSiR1lba4N/zQzM=; b=Sy8GwCUSKz1qYWpT6lk9ew7efXB1bwr+Q4uSt2vbIgitPFZTX8Uv06qm2bGsZezzp1 cobTnHLROLvFba4MgFDlpXnoHX8nwZC3SI9gGrUEuFeFPsy317f9o4wcGPHlfL6Z+QYh NPZE9EsMocUVE5g3DND+Ru5qzSyw7AEmH/xwc= X-Google-DKIM-Signature: v=1; a=rsa-sha256; c=relaxed/relaxed; d=1e100.net; s=20230601; t=1761274511; x=1761879311; h=references:in-reply-to:cc:to:from:subject:message-id:date :x-gm-message-state:from:to:cc:subject:date:message-id:reply-to; bh=QHUxiENXh2z/9zIgFM9xM6qTcNzOrSiR1lba4N/zQzM=; b=vCLi6xdpSbXPwniWYpYkf7zQj47OvvPrReexv5jIkoTnFxbSNoBrrNAWukpQM+panX PUBb+lrSTfrxsIdMArHJ8lk4GGC4rjFlV5BhxskU69RbRZVrL1k0WTyFWp4lcTJdAjRn onkRHqbFqmFBlZS+XTX0x91s6ydj+gTlMJJDSrE8KiCLuXy++D+T47hyL47zP3oOyiFG CxLQXCgt/HO2VgaKsTIuRr41VLc83byYECPBPFNYpttEhZuhooQL2F1XiZCCH3HtH1xx eUHAlDActyST9R8vwJbwMmH8ImfwTI+IreuMtlnP0e4XcPVVQ4wKHt7sodPs3JpICVxC lZsA== X-Gm-Message-State: AOJu0Yy7a4F0zxjbkiVJd1N+JGN4kfaCCJ14uA7OiYkdRAk0K7PI8Ct7 VG6P5IQJeW2qyiwfGYL1WBLcOiZ665E5EfsK/kh13JsvC+MZ7W6I57n4E+B7qAZis0C/vDiRLkO GR2LijnfCzMAxOBJrbPlreYgrl2Wz8+x9IyxuTlVOC43S X-Gm-Gg: ASbGncvtzLvvE6VrovCPynohztzlBRqyM/HGHtPUj9jhbEyow1cCaP6erAiBVTrXZhj Ht7Q0ip/C7SzZCL8efXDgFHg7G1RQdWpEGfcs23mTBQAyFokZSzMu0DEkJTokII6Bv2iag+JNqZ 1XlNXDLj1WuN70myHuSaHt51yzP38/yYs6qDf6IhgNQTicmXFHiv25mIARNzd66uGUsq+sJEqSy hVNKe1XW1Dwz83YRwEBacRJ8HMtj7vtH+LFPQueR/PBY+s7PJ6gQzu0PHAghNiqOWx62UsjNXZl 4LLeU1SQqnvP9oJFTGnn3W7UMAjgeVcK7SLF8lQTa/tdrvM5Aqp0yge3ID4vOURTqGkNrqAVGzC MrmaMzs0onFyPJLPRSTsfu+v4K63ieiw= X-Google-Smtp-Source: AGHT+IHt0UeGdN5jEHJE4CALrQLolmAWlXxLco5LhnbxQ8Tbn1GxLkBmZGTehjMmGumgaqslkWVWITdAYR3O X-Received: by 2002:a05:6a20:7f8d:b0:2c7:55a3:6168 with SMTP id adf61e73a8af0-334a8617472mr34148417637.30.1761274511619; Thu, 23 Oct 2025 19:55:11 -0700 (PDT) Received: from postal.iol.unh.edu (postal.iol.unh.edu. [132.177.123.84]) by smtp-relay.gmail.com with ESMTPS id 41be03b00d2f7-b6cf4dfd52csm268317a12.11.2025.10.23.19.55.11 (version=TLS1_2 cipher=ECDHE-ECDSA-AES128-GCM-SHA256 bits=128/128); Thu, 23 Oct 2025 19:55:11 -0700 (PDT) X-Relaying-Domain: iol.unh.edu Date: Thu, 23 Oct 2025 19:55:11 -0700 (PDT) Message-ID: <68faea8f.050a0220.2cf513.cf6fSMTPIN_ADDED_MISSING@mx.google.com> Received: from [172.21.0.2] (unknown [172.18.0.240]) by postal.iol.unh.edu (Postfix) with ESMTP id C431A6051830; Thu, 23 Oct 2025 22:55:10 -0400 (EDT) Subject: |SUCCESS| pw158009 [PATCH] [v5] mbuf: optimize segment prefree From: dpdklab@iol.unh.edu To: Test Report Cc: dpdk-test-reports@iol.unh.edu In-Reply-To: <20251023080136.165513-1-mb@smartsharesystems.com> References: <20251023080136.165513-1-mb@smartsharesystems.com> Content-Type: text/plain X-BeenThere: test-report@dpdk.org X-Mailman-Version: 2.1.29 Precedence: list List-Id: automatic DPDK test reports List-Unsubscribe: , List-Archive: List-Post: List-Help: List-Subscribe: , Errors-To: test-report-bounces@dpdk.org Test-Label: iol-compile-arm64-testing Test-Status: SUCCESS http://dpdk.org/patch/158009 _Testing PASS_ Submitter: Morten Brorup Date: Thursday, October 23 2025 08:01:36 DPDK git baseline: Repo:dpdk Branch: master CommitID:2863cbd9ee6dabee2b183382d298f4054ba3e8a2 158009 --> testing pass Upstream job id: Generic-DPDK-Compile-Meson#437017 Test environment and result as below: +------------------------------+--------------------+ | Environment | dpdk_meson_compile | +==============================+====================+ | Red Hat Enterprise Linux 9.5 | PASS | +------------------------------+--------------------+ | Ubuntu 20.04 | PASS | +------------------------------+--------------------+ | Fedora Linux 42 | PASS | +------------------------------+--------------------+ | Debian GNU/Linux 12 | PASS | +------------------------------+--------------------+ | Ubuntu 22.04 | PASS | +------------------------------+--------------------+ | Ubuntu 24.04 | PASS | +------------------------------+--------------------+ | CentOS Stream 9 | PASS | +------------------------------+--------------------+ | CentOS Stream 10 | PASS | +------------------------------+--------------------+ Red Hat Enterprise Linux 9.5 Kernel: 5.4 Compiler: gcc gcc (GCC) 11.5.0 20240719 (Red Hat 11.5.0-2) Ubuntu 20.04 Kernel: 5.15 Compiler: aarch64-linux-gnu-gcc gcc (Ubuntu 9.4.0-1ubuntu1~20.04.2) 9.4.0 Fedora Linux 42 Kernel: 5.4 Compiler: gcc gcc (GCC) 15.2.1 20250808 (Red Hat 15.2.1-1) Debian GNU/Linux 12 Kernel: 5.4 Compiler: gcc gcc (Debian 12.2.0-14+deb12u1) 12.2.0 Ubuntu 22.04 Kernel: 5.4 Compiler: gcc gcc (Ubuntu 11.4.0-1ubuntu1~22.04) 11.4.0 Ubuntu 24.04 Kernel: 5.4 Compiler: gcc gcc (Ubuntu 13.3.0-6ubuntu2~24.04) 13.3.0 CentOS Stream 9 Kernel: 5.4 Compiler: gcc gcc (GCC) 11.5.0 20240719 (Red Hat 11.5.0-11) CentOS Stream 10 Kernel: 5.4 Compiler: gcc gcc (GCC) 14.2.1 20250110 (Red Hat 14.2.1-8) To view detailed results, visit: https://lab.dpdk.org/results/dashboard/patchsets/34354/ UNH-IOL DPDK Community Lab To manage your email subscriptions, visit: https://lab.dpdk.org/results/dashboard/preferences/subscriptions/