From mboxrd@z Thu Jan 1 00:00:00 1970 Return-Path: Received: from mails.dpdk.org (mails.dpdk.org [217.70.189.124]) by inbox.dpdk.org (Postfix) with ESMTP id E97AB489BD for ; Fri, 24 Oct 2025 04:55:50 +0200 (CEST) Received: from mails.dpdk.org (localhost [127.0.0.1]) by mails.dpdk.org (Postfix) with ESMTP id E487540144; Fri, 24 Oct 2025 04:55:50 +0200 (CEST) Received: from mail-pg1-f226.google.com (mail-pg1-f226.google.com [209.85.215.226]) by mails.dpdk.org (Postfix) with ESMTP id ED98340144 for ; Fri, 24 Oct 2025 04:55:48 +0200 (CEST) Received: by mail-pg1-f226.google.com with SMTP id 41be03b00d2f7-b553412a19bso1000249a12.1 for ; Thu, 23 Oct 2025 19:55:48 -0700 (PDT) DKIM-Signature: v=1; a=rsa-sha256; c=relaxed/relaxed; d=iol.unh.edu; s=unh-iol; t=1761274548; x=1761879348; darn=dpdk.org; h=references:in-reply-to:cc:to:from:subject:message-id:date:from:to :cc:subject:date:message-id:reply-to; bh=87o4mrneSuO26Vf91tWNpqbebWNRWi+m41a6kg06Y2U=; b=OX/xP5msEowY7zM1588FYNgqRc0ZxUyMon6+DRml4gRso7p2TKpiTaeGDO4A5fCZVQ qBEABJt9ocv+9gXpNPgRCBt9IAFL/VuWxW6eOFj32pPRP9jzTV9Gs4K3jgyE8D420l03 fdXDsGiABkyD87RQwjqE6OGiuheAjA03oZHf4= X-Google-DKIM-Signature: v=1; a=rsa-sha256; c=relaxed/relaxed; d=1e100.net; s=20230601; t=1761274548; x=1761879348; h=references:in-reply-to:cc:to:from:subject:message-id:date :x-gm-message-state:from:to:cc:subject:date:message-id:reply-to; bh=87o4mrneSuO26Vf91tWNpqbebWNRWi+m41a6kg06Y2U=; b=I1JYIHS5AlS3yUsVeFoyNO3dOeb5/aK4TnsVNBrLzNODlg9BYdPL6nmuRpy421C+nQ SXyDKfXT3GJuF7Lr3vQAbjt1eeIseh3sBUz+FmgoEhYjRO03haughMqkVau/kuGGh8JC 2IU1x6+3ihIKzqXv4Ik45LPAzmf8Fq+qexWLiFzBDTUDX5nIGi0o7uwXRMey9M/PSS2p lTPeuHWdN1o0NDyaT/piAg8zpfXoucwqKkC5vwgr61hDihqlhnp9FH89107+KRX2Zppf l7jFe/pgXr7nd0HbSfVt7BLGyK0VqvBA7OvNfCQ+GHa0duu5QOaNSbmVrlzq0//AdhVR ce1w== X-Gm-Message-State: AOJu0Yy2KtsOa1R0sftuzLL1RNSMj1tWlZg2KKrTG0p7F9eYoT6HuczJ XLX597aILnyB3lcjSNf620cISc1t06iL6kx5UvjZGtQrHAKfXrG1J+DdfFUW/Gv1tb6koqT+rt0 5sq+nKLxZk2TyMviMoEv+Ds3VI8+jCMOmv2+Gkk7tD6+u X-Gm-Gg: ASbGnct4CDxQ3quONCGqcczclT6JUnNh8OYRsJiLHTkH1eq+4UIXeQHKcegyyOjDWbK PmprO1URI5YffJLTajvb+ULYmHgvulXm+YLMTgo4yaCM6Q+iS6X3wWBKoSSAvTsk/2gLFTaNxMe E9/HqDiHGN6m229ktiPkKnKXqFtbiKnYPRPcIBUWs/llH5e0P2pjFRD+uJkoTlr0m7v60Lfx9Nn N+JDZokH3VADtAvBdYC1NvjJsSs3L7ruAn8T/+YAVbeEpNzzyNW1GXGh9+ApuoEQIDW60cI/x9v DlMKUXUnrxwxoVrf/7xX4e/lZdNPQtI/sxw0E2EorTn9Ha+IBPbuaoQ4makAOygSsmGrU94VOf3 bctPj7plD4GPToaM5sckkT4WJbzJ1Tao= X-Google-Smtp-Source: AGHT+IEq6+DIiZJDfxrDiQWwc3YGJoLjGHSbGpoymb/LZMiF1f2V0Z3Dq0KgqIT4tqqDOpjvzmy3zON9F9ex X-Received: by 2002:a17:903:41c9:b0:290:aa7c:dfd3 with SMTP id d9443c01a7336-2948ba3c614mr9194985ad.45.1761274548098; Thu, 23 Oct 2025 19:55:48 -0700 (PDT) Received: from postal.iol.unh.edu (postal.iol.unh.edu. [132.177.123.84]) by smtp-relay.gmail.com with ESMTPS id d9443c01a7336-2946df82ba5sm4029085ad.52.2025.10.23.19.55.47 (version=TLS1_2 cipher=ECDHE-ECDSA-AES128-GCM-SHA256 bits=128/128); Thu, 23 Oct 2025 19:55:48 -0700 (PDT) X-Relaying-Domain: iol.unh.edu Date: Thu, 23 Oct 2025 19:55:48 -0700 (PDT) Message-ID: <68faeab4.170a0220.31746d.3943SMTPIN_ADDED_MISSING@mx.google.com> Received: from [172.21.0.3] (unknown [172.18.0.240]) by postal.iol.unh.edu (Postfix) with ESMTP id 4B91B6051830; Thu, 23 Oct 2025 22:55:47 -0400 (EDT) Subject: |SUCCESS| pw158011 [PATCH] [v3] net/vmxnet3: disable RSS for single From: dpdklab@iol.unh.edu To: Test Report Cc: dpdk-test-reports@iol.unh.edu, Stephen Hemminger In-Reply-To: <20251023083019.18792-1-amiyaranjan.mohakud@gmail.com> References: <20251023083019.18792-1-amiyaranjan.mohakud@gmail.com> Content-Type: text/plain X-BeenThere: test-report@dpdk.org X-Mailman-Version: 2.1.29 Precedence: list List-Id: automatic DPDK test reports List-Unsubscribe: , List-Archive: List-Post: List-Help: List-Subscribe: , Errors-To: test-report-bounces@dpdk.org Test-Label: iol-unit-arm64-testing Test-Status: SUCCESS http://dpdk.org/patch/158011 _Testing PASS_ Submitter: Amiya Ranjan Mohakud Date: Thursday, October 23 2025 08:30:19 DPDK git baseline: Repo:dpdk-next-net Branch: master CommitID:4c4055bdd19f919795f83a01faae9fc267570d7f 158011 --> testing pass Upstream job id: Generic-Unit-Test-DPDK#384458 Test environment and result as below: +------------------------------+----------------+--------------+---------------------------+------------------------------+ | Environment | dpdk_unit_test | lpm_autotest | cryptodev_sw_zuc_autotest | cryptodev_sw_snow3g_autotest | +==============================+================+==============+===========================+==============================+ | CentOS Stream 9 | PASS | SKIPPED | SKIPPED | SKIPPED | +------------------------------+----------------+--------------+---------------------------+------------------------------+ | CentOS Stream 10 | PASS | SKIPPED | SKIPPED | SKIPPED | +------------------------------+----------------+--------------+---------------------------+------------------------------+ | Debian GNU/Linux 12 | PASS | SKIPPED | SKIPPED | SKIPPED | +------------------------------+----------------+--------------+---------------------------+------------------------------+ | Fedora Linux 40 | PASS | SKIPPED | SKIPPED | SKIPPED | +------------------------------+----------------+--------------+---------------------------+------------------------------+ | Fedora Linux 41 | PASS | SKIPPED | SKIPPED | SKIPPED | +------------------------------+----------------+--------------+---------------------------+------------------------------+ | Fedora Linux 42 | PASS | SKIPPED | SKIPPED | SKIPPED | +------------------------------+----------------+--------------+---------------------------+------------------------------+ | Red Hat Enterprise Linux 9.5 | PASS | SKIPPED | SKIPPED | SKIPPED | +------------------------------+----------------+--------------+---------------------------+------------------------------+ | Ubuntu 22.04 | PASS | SKIPPED | SKIPPED | SKIPPED | +------------------------------+----------------+--------------+---------------------------+------------------------------+ | Ubuntu 20.04 | PASS | PASS | SKIPPED | SKIPPED | +------------------------------+----------------+--------------+---------------------------+------------------------------+ | Ubuntu 24.04 | PASS | SKIPPED | SKIPPED | SKIPPED | +------------------------------+----------------+--------------+---------------------------+------------------------------+ | Debian 12 (arm) | SKIPPED | SKIPPED | PASS | PASS | +------------------------------+----------------+--------------+---------------------------+------------------------------+ CentOS Stream 9 Kernel: 5.4 Compiler: gcc gcc (GCC) 11.5.0 20240719 (Red Hat 11.5.0-11) CentOS Stream 10 Kernel: 5.4 Compiler: gcc gcc (GCC) 14.2.1 20250110 (Red Hat 14.2.1-8) Debian GNU/Linux 12 Kernel: 5.4 Compiler: gcc gcc (Debian 12.2.0-14+deb12u1) 12.2.0 Fedora Linux 40 Kernel: 5.4 Compiler: gcc gcc (GCC) 14.2.1 20240912 (Red Hat 14.2.1-3) Fedora Linux 41 Kernel: 5.4 Compiler: gcc gcc (GCC) 14.3.1 20250523 (Red Hat 14.3.1-1) Fedora Linux 42 Kernel: 5.4 Compiler: gcc gcc (GCC) 15.2.1 20250808 (Red Hat 15.2.1-1) Red Hat Enterprise Linux 9.5 Kernel: 5.4 Compiler: gcc gcc (GCC) 11.5.0 20240719 (Red Hat 11.5.0-2) Ubuntu 22.04 Kernel: 5.4 Compiler: gcc gcc (Ubuntu 11.4.0-1ubuntu1~22.04) 11.4.0 Ubuntu 20.04 Kernel: 5.4 Compiler: gcc gcc (Ubuntu 9.4.0-1ubuntu1~20.04.2) 9.4.0 Ubuntu 24.04 Kernel: 5.4 Compiler: gcc gcc (Ubuntu 13.3.0-6ubuntu2~24.04) 13.3.0 Debian 12 (arm) Kernel: Depends on container host Compiler: gcc (Debian 12.2.0-14) 12.2.0 To view detailed results, visit: https://lab.dpdk.org/results/dashboard/patchsets/34355/ UNH-IOL DPDK Community Lab To manage your email subscriptions, visit: https://lab.dpdk.org/results/dashboard/preferences/subscriptions/