From mboxrd@z Thu Jan 1 00:00:00 1970 Return-Path: Received: from mails.dpdk.org (mails.dpdk.org [217.70.189.124]) by inbox.dpdk.org (Postfix) with ESMTP id 237A4489BD for ; Fri, 24 Oct 2025 04:57:09 +0200 (CEST) Received: from mails.dpdk.org (localhost [127.0.0.1]) by mails.dpdk.org (Postfix) with ESMTP id 1D00240144; Fri, 24 Oct 2025 04:57:09 +0200 (CEST) Received: from mail-pj1-f98.google.com (mail-pj1-f98.google.com [209.85.216.98]) by mails.dpdk.org (Postfix) with ESMTP id 6D5A240144 for ; Fri, 24 Oct 2025 04:57:07 +0200 (CEST) Received: by mail-pj1-f98.google.com with SMTP id 98e67ed59e1d1-33226dc4fc9so1565651a91.1 for ; Thu, 23 Oct 2025 19:57:07 -0700 (PDT) DKIM-Signature: v=1; a=rsa-sha256; c=relaxed/relaxed; d=iol.unh.edu; s=unh-iol; t=1761274626; x=1761879426; darn=dpdk.org; h=references:in-reply-to:cc:to:from:subject:message-id:date:from:to :cc:subject:date:message-id:reply-to; bh=i1ELkBb5Etpm+NS+1JTpwF29EWPpvlsoxsYfbJUCi+0=; b=GVTnDRqpJpD6wZK1xio76oZqzrWcWbvYKtT7y5sqJh27zl1Gk9FZYsy/Q1yCRHsNru NEaPNcP4QxODkQCtIZNmW1Zh3gZIBXiNUpfQGZ+Sf+AMBif5Z2s7p8sGBq2Vx5iiD5om UgcA+G5bEtGyZj55zbpEcNghD2b31T+zonZI4= X-Google-DKIM-Signature: v=1; a=rsa-sha256; c=relaxed/relaxed; d=1e100.net; s=20230601; t=1761274626; x=1761879426; h=references:in-reply-to:cc:to:from:subject:message-id:date :x-gm-message-state:from:to:cc:subject:date:message-id:reply-to; bh=i1ELkBb5Etpm+NS+1JTpwF29EWPpvlsoxsYfbJUCi+0=; b=pdZoIWLKA7RRvAJwzEejdla+1Kd+9/DUmDJmZo95VHMWjkbHKc9EBHJXjxSwhf/u0b mFH2/o87Pr96aZNukKDM91Qy4kC9eVZ9Q+to4q3Phv+i8eGGnLt9wLJKUmslkV/DfAnv LhjQePSGbLO3Jt9/jJndpenqOH5HVH6f6NtbWW9NryBGlnu8Pft56j7etNuSmtSj5rjY Df7+1V1bUckqPlTfl9WaAJh0Y7PlgCQly8ELMYb5FjQRNN21OiQczZdOAH+d4GVP3tPJ zDPg1IRsmNNK8LaxUVrdAnSMXoAu7USeixgDmOedGoKTeq9mc/XwHQTUKoQ0YOq5hwkq sbQw== X-Gm-Message-State: AOJu0YyOLI1h+Qzx9+sR2odfIke549VUMlAvz6FvOs+1BresZG5xD9YK Dy/iOzzXmak5oTkhg8mHe+k7ztyLXwdO5QdOm4pQbm5FTe8mSiGet66hIo6fL+3DqLVAEarLanj Onc3S+Pw2H9lj2VgerHvmZVFTNvz6xYoVe4PektD7jOlc X-Gm-Gg: ASbGncuTy8eAsefUzdy6JV6WBxbfGnaRuQzOkFVNzQA9uQYDZ6hBvDE2Rd0Sv785Wa9 yUceJyNQE/29n32PIjL58TCfBW3g/uh5oWi8aroVHkptfkAbXiqK0SY+myjVF8OBhS7k6sYephh WNWCxHhHWBoZPl/i+DXWUI81itFDxif+HibsAj7F434vXKRuVSpwyLkrYgZcGbqhDaX+0LI7LfS UHuKOsWa4gtqJevYzvrWjBdlCE9225QPTaHt/SmRDu0UiFQHtr15brjpfXf5f5632C7kSXs5vT8 0IAZZyU5TOsUZVjicrhox+YYmxJU7tE5esj+03759p9zIxagFiGayv9bzBS0YF8SqT1uVhuc9Vn 3rW1L/mN8UF/1Gi1r696/U2ILpL/AHv4= X-Google-Smtp-Source: AGHT+IFWigxoOBGVTHqEOOLpkQXTh+SAsl1irZ7CFE+Pa3Y5OUTqjaX+RoAuexwHMdrEHnTebYAkkqbVQc4n X-Received: by 2002:a17:90a:d604:b0:33d:ad49:16da with SMTP id 98e67ed59e1d1-33dad49173cmr19416816a91.31.1761274626447; Thu, 23 Oct 2025 19:57:06 -0700 (PDT) Received: from postal.iol.unh.edu (postal.iol.unh.edu. [132.177.123.84]) by smtp-relay.gmail.com with ESMTPS id 41be03b00d2f7-b6cf4dfd52csm268518a12.11.2025.10.23.19.57.06 (version=TLS1_2 cipher=ECDHE-ECDSA-AES128-GCM-SHA256 bits=128/128); Thu, 23 Oct 2025 19:57:06 -0700 (PDT) X-Relaying-Domain: iol.unh.edu Date: Thu, 23 Oct 2025 19:57:06 -0700 (PDT) Message-ID: <68faeb02.050a0220.2cf513.cf96SMTPIN_ADDED_MISSING@mx.google.com> Received: from [172.21.0.3] (unknown [172.18.0.240]) by postal.iol.unh.edu (Postfix) with ESMTP id B9BFF6051830; Thu, 23 Oct 2025 22:57:05 -0400 (EDT) Subject: |SUCCESS| pw158018-158023 [PATCH] [6/6] net/txgbe: add PF-triggered From: dpdklab@iol.unh.edu To: Test Report Cc: dpdk-test-reports@iol.unh.edu, Stephen Hemminger In-Reply-To: <20251023121356.21944-7-zaiyuwang@trustnetic.com> References: <20251023121356.21944-7-zaiyuwang@trustnetic.com> Content-Type: text/plain X-BeenThere: test-report@dpdk.org X-Mailman-Version: 2.1.29 Precedence: list List-Id: automatic DPDK test reports List-Unsubscribe: , List-Archive: List-Post: List-Help: List-Subscribe: , Errors-To: test-report-bounces@dpdk.org Test-Label: iol-compile-arm64-testing Test-Status: SUCCESS http://dpdk.org/patch/158023 _Testing PASS_ Submitter: Zaiyu Wang Date: Thursday, October 23 2025 12:13:55 DPDK git baseline: Repo:dpdk-next-net Branch: master CommitID:4c4055bdd19f919795f83a01faae9fc267570d7f 158018-158023 --> testing pass Upstream job id: Generic-DPDK-Compile-Meson#437081 Test environment and result as below: +------------------------------+--------------------+ | Environment | dpdk_meson_compile | +==============================+====================+ | Red Hat Enterprise Linux 9.5 | PASS | +------------------------------+--------------------+ | Ubuntu 20.04 | PASS | +------------------------------+--------------------+ | Debian GNU/Linux 12 | PASS | +------------------------------+--------------------+ | Fedora Linux 42 | PASS | +------------------------------+--------------------+ | Ubuntu 22.04 | PASS | +------------------------------+--------------------+ | Ubuntu 24.04 | PASS | +------------------------------+--------------------+ | CentOS Stream 9 | PASS | +------------------------------+--------------------+ | CentOS Stream 10 | PASS | +------------------------------+--------------------+ Red Hat Enterprise Linux 9.5 Kernel: 5.4 Compiler: gcc gcc (GCC) 11.5.0 20240719 (Red Hat 11.5.0-2) Ubuntu 20.04 Kernel: 5.15 Compiler: aarch64-linux-gnu-gcc gcc (Ubuntu 9.4.0-1ubuntu1~20.04.2) 9.4.0 Debian GNU/Linux 12 Kernel: 5.4 Compiler: gcc gcc (Debian 12.2.0-14+deb12u1) 12.2.0 Fedora Linux 42 Kernel: 5.4 Compiler: gcc gcc (GCC) 15.2.1 20250808 (Red Hat 15.2.1-1) Ubuntu 22.04 Kernel: 5.4 Compiler: gcc gcc (Ubuntu 11.4.0-1ubuntu1~22.04) 11.4.0 Ubuntu 24.04 Kernel: 5.4 Compiler: gcc gcc (Ubuntu 13.3.0-6ubuntu2~24.04) 13.3.0 CentOS Stream 9 Kernel: 5.4 Compiler: gcc gcc (GCC) 11.5.0 20240719 (Red Hat 11.5.0-11) CentOS Stream 10 Kernel: 5.4 Compiler: gcc gcc (GCC) 14.2.1 20250110 (Red Hat 14.2.1-8) To view detailed results, visit: https://lab.dpdk.org/results/dashboard/patchsets/34358/ UNH-IOL DPDK Community Lab To manage your email subscriptions, visit: https://lab.dpdk.org/results/dashboard/preferences/subscriptions/