From mboxrd@z Thu Jan 1 00:00:00 1970 Return-Path: Received: from mails.dpdk.org (mails.dpdk.org [217.70.189.124]) by inbox.dpdk.org (Postfix) with ESMTP id 34163489BD for ; Fri, 24 Oct 2025 04:57:28 +0200 (CEST) Received: from mails.dpdk.org (localhost [127.0.0.1]) by mails.dpdk.org (Postfix) with ESMTP id 2AD6B40144; Fri, 24 Oct 2025 04:57:28 +0200 (CEST) Received: from mail-il1-f225.google.com (mail-il1-f225.google.com [209.85.166.225]) by mails.dpdk.org (Postfix) with ESMTP id BAD0440144 for ; Fri, 24 Oct 2025 04:57:26 +0200 (CEST) Received: by mail-il1-f225.google.com with SMTP id e9e14a558f8ab-430da09aa87so7674605ab.2 for ; Thu, 23 Oct 2025 19:57:26 -0700 (PDT) DKIM-Signature: v=1; a=rsa-sha256; c=relaxed/relaxed; d=iol.unh.edu; s=unh-iol; t=1761274646; x=1761879446; darn=dpdk.org; h=references:in-reply-to:cc:to:from:subject:message-id:date:from:to :cc:subject:date:message-id:reply-to; bh=HE4X5WSX+QtnoKFMkaUBttPYIA57gKyBk0vozyzZmEw=; b=cAI+bOTVulvDhGU2K07d9ud9QrdV8Sh3IjKnhgB/q+giarqSVXSs3x5foj2615VzdW Q8hSV1TPQ0UZyBw8sxqeOyNbpjIX2HogXphHobqz8X2iYwzaKOq3trljCpVYcLyr0lQ2 9xwMaZr7hHdGFv63GFHihqlQ09kHHtXtArZzg= X-Google-DKIM-Signature: v=1; a=rsa-sha256; c=relaxed/relaxed; d=1e100.net; s=20230601; t=1761274646; x=1761879446; h=references:in-reply-to:cc:to:from:subject:message-id:date :x-gm-message-state:from:to:cc:subject:date:message-id:reply-to; bh=HE4X5WSX+QtnoKFMkaUBttPYIA57gKyBk0vozyzZmEw=; b=nsfsTh3h1MM/jq7puCtsm6Gt8MnYj3JhbIRKCe9EVp7sIJN6XdjPAbuCiw6pdYnnOR gAdSVOJ67Z/DwT0LQmtzcEnewDcpjAcYLCU2ZgabyPTsL9aZ9x1dgNs/20H2LMB4UHtu 2mlcxGlMYS4JzfxpDOEKVej8lfcbpkYWSqZVGvxypjWhUUueR/NIEaTKMJsUbBfXcSWC cxg6BXBf+syzebWe9kW9QW7qzcTKhbmhUz326Ta2FrNW6D7MwuFXlH3wy/CCWjCPcQnh fw4XFMrldbcjHwAHEh0Lo6clgW2T4mq5hOk3ZICYv6kkirQ1RAhYjvr2o6DuiuySXsId g7nQ== X-Gm-Message-State: AOJu0Ywq+RB4spdr7YwTZSFe+l2beboYgtyLRBoaG+W5drhEQPZYUUqi ZwkQ2DUlmlwGaHut7jIY6NlaIlV5GVRTVRx780QRGzli+yxwG7S4sF8RyetNW3E+eakVWrWYnr0 PiQhVDx3KLDphBBsFNCpZUxqdcFwKYjWVWlYpvN0BnQqN8D0ZGUFHnl2zxwAM X-Gm-Gg: ASbGnctkEvSsFa95ASL46g2leaRtnB/o7l2LoAa9C/v2Xi7FhjVV3UfwnzF4g/x8tf8 fVj95vEoxmYrDeYC9RL9PskFwAF+XFhEPUzxl5YqmZ2FMhCdZUvb9D33opcElbdOtBGwF46T3Vo 0he5+ObOH+EvSw3pUKuaEWx3mBpfNeQmMruClRfdZSPaEDeLFOqbEdZNAjl5UERqOw3jPy4oyui ihMiahB6fVMlFsKZynkF5+WUOcyuvy85SdkhxcJFS5mm7xaG1fCPAAlC28g9kAoNI2BqXqTIhLq TArdgAwl/lKGKJXbND3PrAQLEABxBUpwsKs9kt2GtCSmMUKCEXAJs4vXM1H891O9UAv0EdEOypY g6wydhmRg X-Google-Smtp-Source: AGHT+IHhbBYoq6bKnGrMvRJ5RtQ8+jNUrPtr3VtwKx0BUP7SrW39egWxSnlt9oauKpJo1u4sZKef8EgsqlsW X-Received: by 2002:a05:6e02:3c83:b0:42f:806b:c126 with SMTP id e9e14a558f8ab-430c52dfd0bmr399869455ab.25.1761274646040; Thu, 23 Oct 2025 19:57:26 -0700 (PDT) Received: from postal.iol.unh.edu (postal.iol.unh.edu. [2606:4100:3880:1234::84]) by smtp-relay.gmail.com with ESMTPS id 8926c6da1cb9f-5abb7605bfcsm292511173.34.2025.10.23.19.57.25 (version=TLS1_2 cipher=ECDHE-ECDSA-AES128-GCM-SHA256 bits=128/128); Thu, 23 Oct 2025 19:57:26 -0700 (PDT) X-Relaying-Domain: iol.unh.edu Date: Thu, 23 Oct 2025 19:57:26 -0700 (PDT) Message-ID: <68faeb16.050a0220.1065f2.e485SMTPIN_ADDED_MISSING@mx.google.com> Received: from [172.21.0.4] (unknown [172.18.0.240]) by postal.iol.unh.edu (Postfix) with ESMTP id 784F76051830; Thu, 23 Oct 2025 22:57:25 -0400 (EDT) Subject: |SUCCESS| pw158018-158023 [PATCH] [6/6] net/txgbe: add PF-triggered From: dpdklab@iol.unh.edu To: Test Report Cc: dpdk-test-reports@iol.unh.edu, Stephen Hemminger In-Reply-To: <20251023121356.21944-7-zaiyuwang@trustnetic.com> References: <20251023121356.21944-7-zaiyuwang@trustnetic.com> Content-Type: text/plain X-BeenThere: test-report@dpdk.org X-Mailman-Version: 2.1.29 Precedence: list List-Id: automatic DPDK test reports List-Unsubscribe: , List-Archive: List-Post: List-Help: List-Subscribe: , Errors-To: test-report-bounces@dpdk.org Test-Label: iol-compile-arm64-testing Test-Status: SUCCESS http://dpdk.org/patch/158023 _Testing PASS_ Submitter: Zaiyu Wang Date: Thursday, October 23 2025 12:13:55 DPDK git baseline: Repo:dpdk-next-net Branch: master CommitID:4c4055bdd19f919795f83a01faae9fc267570d7f 158018-158023 --> testing pass Upstream job id: Generic-DPDK-Compile-Meson#437085 Test environment and result as below: +------------------------------+--------------------+ | Environment | dpdk_meson_compile | +==============================+====================+ | Red Hat Enterprise Linux 9.5 | PASS | +------------------------------+--------------------+ | Ubuntu 20.04 | PASS | +------------------------------+--------------------+ | Debian GNU/Linux 12 | PASS | +------------------------------+--------------------+ | Fedora Linux 42 | PASS | +------------------------------+--------------------+ | Ubuntu 22.04 | PASS | +------------------------------+--------------------+ | Ubuntu 24.04 | PASS | +------------------------------+--------------------+ | CentOS Stream 9 | PASS | +------------------------------+--------------------+ | CentOS Stream 10 | PASS | +------------------------------+--------------------+ Red Hat Enterprise Linux 9.5 Kernel: 5.4 Compiler: gcc gcc (GCC) 11.5.0 20240719 (Red Hat 11.5.0-2) Ubuntu 20.04 Kernel: 5.15 Compiler: aarch64-linux-gnu-gcc gcc (Ubuntu 9.4.0-1ubuntu1~20.04.2) 9.4.0 Debian GNU/Linux 12 Kernel: 5.4 Compiler: gcc gcc (Debian 12.2.0-14+deb12u1) 12.2.0 Fedora Linux 42 Kernel: 5.4 Compiler: gcc gcc (GCC) 15.2.1 20250808 (Red Hat 15.2.1-1) Ubuntu 22.04 Kernel: 5.4 Compiler: gcc gcc (Ubuntu 11.4.0-1ubuntu1~22.04) 11.4.0 Ubuntu 24.04 Kernel: 5.4 Compiler: gcc gcc (Ubuntu 13.3.0-6ubuntu2~24.04) 13.3.0 CentOS Stream 9 Kernel: 5.4 Compiler: gcc gcc (GCC) 11.5.0 20240719 (Red Hat 11.5.0-11) CentOS Stream 10 Kernel: 5.4 Compiler: gcc gcc (GCC) 14.2.1 20250110 (Red Hat 14.2.1-8) To view detailed results, visit: https://lab.dpdk.org/results/dashboard/patchsets/34358/ UNH-IOL DPDK Community Lab To manage your email subscriptions, visit: https://lab.dpdk.org/results/dashboard/preferences/subscriptions/