From mboxrd@z Thu Jan 1 00:00:00 1970 Return-Path: Received: from mails.dpdk.org (mails.dpdk.org [217.70.189.124]) by inbox.dpdk.org (Postfix) with ESMTP id 794EC489BD for ; Fri, 24 Oct 2025 04:58:09 +0200 (CEST) Received: from mails.dpdk.org (localhost [127.0.0.1]) by mails.dpdk.org (Postfix) with ESMTP id 6E4CF40144; Fri, 24 Oct 2025 04:58:09 +0200 (CEST) Received: from mail-oa1-f100.google.com (mail-oa1-f100.google.com [209.85.160.100]) by mails.dpdk.org (Postfix) with ESMTP id 037FC40144 for ; Fri, 24 Oct 2025 04:58:09 +0200 (CEST) Received: by mail-oa1-f100.google.com with SMTP id 586e51a60fabf-3c917ea655bso1172183fac.1 for ; Thu, 23 Oct 2025 19:58:08 -0700 (PDT) DKIM-Signature: v=1; a=rsa-sha256; c=relaxed/relaxed; d=iol.unh.edu; s=unh-iol; t=1761274688; x=1761879488; darn=dpdk.org; h=references:in-reply-to:cc:to:from:subject:message-id:date:from:to :cc:subject:date:message-id:reply-to; bh=GCPedzef+mMnO+sTqn6V5vM8E+sQvA36evhFDTGYf18=; b=doPEgS9X24uxxv0ujBrIv+iTo1gFlCKLcFyRVmOfQzIt0N2lWufrcWI6cjqtfS5v2u 4SrmUKwfW68A5Yj1UeFLo6zDBf1Q9T8neVR3Nu3/q+a1X5n2qJBkQRoR8B3ZbCLkzokm H+ZSjIJ1Z44j6pZ2XFkAXguBuIQiS9Ttd93Ec= X-Google-DKIM-Signature: v=1; a=rsa-sha256; c=relaxed/relaxed; d=1e100.net; s=20230601; t=1761274688; x=1761879488; h=references:in-reply-to:cc:to:from:subject:message-id:date :x-gm-message-state:from:to:cc:subject:date:message-id:reply-to; bh=GCPedzef+mMnO+sTqn6V5vM8E+sQvA36evhFDTGYf18=; b=hvvP38JnwFOnbu/Y0jSlZlo3Uz0PGvbmjbhivgoxlWwLvPQNO5pDRRiShT/UoNgBfe vrAyHqcrUb3QKvzazBXPM11PZWyDCfOGiRyiRs3FxOkNPiwDEZrWmvdFQUNmfz45UCOw XqY6K3UGUpIkAeU3sNLE3CKVMw1Ixt0az2eRhsjIcFmRYPgAzuB5KiYBj11h/twp8Pjq x+GGQolT1QmfplrsJo+b9PkEdmZFZEzWwY4+UmIg706gufkDTIsG8qxuDBqnD447WFU4 dxTDiQUh+0WGMkAjRUOMrA7p8c2saOGU/p7vOilWnEAMTzQxqbASY2G/4j4p0DJhypk0 FFvg== X-Gm-Message-State: AOJu0Yzum4po/1mPod0RdJNeKWAWGS519Mu81D9fanRsiYvvruw8UaJq PzNKEwgsgMB45KYrjogY0EXvYn2qmAuoKK1ncx3lecjJA2fpCvg/2P6sdvSDg3E+qa7JQg5/3SB Z6o/LR304+r8OMhZ+RiGR2LKxrfChGgIKAQKXYUbhaE0yag5e+mcDYG+HwK0I X-Gm-Gg: ASbGncsBw7QwOyOsVx62huM+vCJrnPACP3Cw92gpRtVrH61xKtwu1WqwTg4TvxIVEpf ncfF6c4lL6b9ty+u2QZuzIvRqbU0P6xVKs9i4z8f2/LzMW4gXCxOIfX2LgLP3vbF7Sgf/MJePlw L0v9y/Uq8ZlMIyBn09YowTI7IW88nnQcStCCKGlvL1lsNYHc+h81yN/gr7tctDwWn3/lkTHXn6Q 0p162Uz5rpQBNGBfE4ASVsnAFZWkk5aVQzVREs0RyFtcEUr+CxM0IkbEWSH8u+HnHRYGsKm+P34 p621j8JVKN2HGuXDoZOvIlUbtjOwUbct6xhUdInbha2kV/+8Qdi3gAS8Jsy9wMzXNuw5tjNTrS0 Vjhx0FiKD X-Google-Smtp-Source: AGHT+IEH3XQDK0bb5XSMgVcyP4Ux2DWzpHreoKC9bSCqJPeB6JX+ImG1JPTKCJn9m7rEzo2oZoT74Jh+Bmk8 X-Received: by 2002:a05:6871:c705:b0:32f:ec51:a716 with SMTP id 586e51a60fabf-3c98d0a6217mr11986689fac.29.1761274688142; Thu, 23 Oct 2025 19:58:08 -0700 (PDT) Received: from postal.iol.unh.edu (postal.iol.unh.edu. [2606:4100:3880:1234::84]) by smtp-relay.gmail.com with ESMTPS id 586e51a60fabf-3cdc4c41b67sm321253fac.9.2025.10.23.19.58.08 (version=TLS1_2 cipher=ECDHE-ECDSA-AES128-GCM-SHA256 bits=128/128); Thu, 23 Oct 2025 19:58:08 -0700 (PDT) X-Relaying-Domain: iol.unh.edu Date: Thu, 23 Oct 2025 19:58:08 -0700 (PDT) Message-ID: <68faeb40.050a0220.363d54.f89eSMTPIN_ADDED_MISSING@mx.google.com> Received: from [172.21.0.2] (unknown [172.18.0.240]) by postal.iol.unh.edu (Postfix) with ESMTP id AA2DE6051830; Thu, 23 Oct 2025 22:58:07 -0400 (EDT) Subject: |SUCCESS| pw158012-158017 [PATCH] [v6,6/6] net/cnxk: report link mod From: dpdklab@iol.unh.edu To: Test Report Cc: dpdk-test-reports@iol.unh.edu In-Reply-To: <20251023110332.6231-6-skori@marvell.com> References: <20251023110332.6231-6-skori@marvell.com> Content-Type: text/plain X-BeenThere: test-report@dpdk.org X-Mailman-Version: 2.1.29 Precedence: list List-Id: automatic DPDK test reports List-Unsubscribe: , List-Archive: List-Post: List-Help: List-Subscribe: , Errors-To: test-report-bounces@dpdk.org Test-Label: iol-compile-arm64-testing Test-Status: SUCCESS http://dpdk.org/patch/158017 _Testing PASS_ Submitter: Sunil Kumar Kori Date: Thursday, October 23 2025 11:02:06 DPDK git baseline: Repo:dpdk-next-net-mrvl Branch: master CommitID:2863cbd9ee6dabee2b183382d298f4054ba3e8a2 158012-158017 --> testing pass Upstream job id: Generic-DPDK-Compile-Meson#437073 Test environment and result as below: +------------------------------+--------------------+ | Environment | dpdk_meson_compile | +==============================+====================+ | Red Hat Enterprise Linux 9.5 | PASS | +------------------------------+--------------------+ | Ubuntu 20.04 | PASS | +------------------------------+--------------------+ | Debian GNU/Linux 12 | PASS | +------------------------------+--------------------+ | Fedora Linux 42 | PASS | +------------------------------+--------------------+ | Ubuntu 22.04 | PASS | +------------------------------+--------------------+ | Ubuntu 24.04 | PASS | +------------------------------+--------------------+ | CentOS Stream 9 | PASS | +------------------------------+--------------------+ | CentOS Stream 10 | PASS | +------------------------------+--------------------+ Red Hat Enterprise Linux 9.5 Kernel: 5.4 Compiler: gcc gcc (GCC) 11.5.0 20240719 (Red Hat 11.5.0-2) Ubuntu 20.04 Kernel: 5.15 Compiler: aarch64-linux-gnu-gcc gcc (Ubuntu 9.4.0-1ubuntu1~20.04.2) 9.4.0 Debian GNU/Linux 12 Kernel: 5.4 Compiler: gcc gcc (Debian 12.2.0-14+deb12u1) 12.2.0 Fedora Linux 42 Kernel: 5.4 Compiler: gcc gcc (GCC) 15.2.1 20250808 (Red Hat 15.2.1-1) Ubuntu 22.04 Kernel: 5.4 Compiler: gcc gcc (Ubuntu 11.4.0-1ubuntu1~22.04) 11.4.0 Ubuntu 24.04 Kernel: 5.4 Compiler: gcc gcc (Ubuntu 13.3.0-6ubuntu2~24.04) 13.3.0 CentOS Stream 9 Kernel: 5.4 Compiler: gcc gcc (GCC) 11.5.0 20240719 (Red Hat 11.5.0-11) CentOS Stream 10 Kernel: 5.4 Compiler: gcc gcc (GCC) 14.2.1 20250110 (Red Hat 14.2.1-8) To view detailed results, visit: https://lab.dpdk.org/results/dashboard/patchsets/34357/ UNH-IOL DPDK Community Lab To manage your email subscriptions, visit: https://lab.dpdk.org/results/dashboard/preferences/subscriptions/